Back to the "Multiple platform build/check report" A  B  C  D  E  F  G  H  I  J  K  L  M  N  O  P  Q  R [S] T  U  V  W  X  Y  Z 

BioC 3.3: CHECK report for SLGI on morelia

This page was generated on 2015-10-22 17:52:21 -0400 (Thu, 22 Oct 2015).

Package 986/1104HostnameOS / ArchINSTALLBUILDCHECKBUILD BIN
SLGI 1.31.0
Nolwenn Le Meur
Snapshot Date: 2015-10-21 20:20:05 -0400 (Wed, 21 Oct 2015)
URL: https://hedgehog.fhcrc.org/bioconductor/trunk/madman/Rpacks/SLGI
Last Changed Rev: 109592 / Revision: 109826
Last Changed Date: 2015-10-13 15:59:53 -0400 (Tue, 13 Oct 2015)
linux2.bioconductor.org Linux (Ubuntu 14.04.2 LTS) / x86_64  OK  OK  OK UNNEEDED, same version exists in internal repository
windows2.bioconductor.org Windows Server 2012 R2 Enterprise SP1 (64-bit) / x64  OK  OK  OK  OK UNNEEDED, same version exists in internal repository
morelia Mac OS X Mavericks (10.9.5) / x86_64  OK  OK [ OK ] OK UNNEEDED, same version exists in internal repository

Summary

Package: SLGI
Version: 1.31.0
Command: /Library/Frameworks/R.framework/Versions/Current/Resources/bin/R CMD check --no-vignettes --timings SLGI_1.31.0.tar.gz
StartedAt: 2015-10-22 11:26:50 -0400 (Thu, 22 Oct 2015)
EndedAt: 2015-10-22 11:30:21 -0400 (Thu, 22 Oct 2015)
EllapsedTime: 210.4 seconds
RetCode: 0
Status:  OK 
CheckDir: SLGI.Rcheck
Warnings: 0

Command output

##############################################################################
##############################################################################
###
### Running command:
###
###   /Library/Frameworks/R.framework/Versions/Current/Resources/bin/R CMD check --no-vignettes --timings SLGI_1.31.0.tar.gz
###
##############################################################################
##############################################################################


* using log directory ‘/Users/biocbuild/bbs-3.3-bioc/meat/SLGI.Rcheck’
* using R Under development (unstable) (2015-10-08 r69496)
* using platform: x86_64-apple-darwin13.4.0 (64-bit)
* using session charset: UTF-8
* using option ‘--no-vignettes’
* checking for file ‘SLGI/DESCRIPTION’ ... OK
* this is package ‘SLGI’ version ‘1.31.0’
* checking package namespace information ... OK
* checking package dependencies ... OK
* checking if this is a source package ... OK
* checking if there is a namespace ... OK
* checking for hidden files and directories ... OK
* checking for portable file names ... OK
* checking for sufficient/correct file permissions ... OK
* checking whether package ‘SLGI’ can be installed ... [8s/9s] OK
* checking installed package size ... NOTE
  installed size is 15.9Mb
  sub-directories of 1Mb or more:
    data      4.2Mb
    extdata  11.3Mb
* checking package directory ... OK
* checking ‘build’ directory ... OK
* checking DESCRIPTION meta-information ... NOTE
Malformed Description field: should contain one or more complete sentences.
Packages listed in more than one of Depends, Imports, Suggests, Enhances:
  ‘ScISI’ ‘lattice’ ‘GO.db’
A package should be listed in only one of these fields.
* checking top-level files ... OK
* checking for left-over files ... OK
* checking index information ... OK
* checking package subdirectories ... OK
* checking R files for non-ASCII characters ... OK
* checking R files for syntax errors ... OK
* checking whether the package can be loaded ... OK
* checking whether the package can be loaded with stated dependencies ... OK
* checking whether the package can be unloaded cleanly ... OK
* checking whether the namespace can be loaded with stated dependencies ... OK
* checking whether the namespace can be unloaded cleanly ... OK
* checking dependencies in R code ... NOTE
'library' or 'require' call to ‘GO.db’ in package code.
  Please use :: or requireNamespace() instead.
  See section 'Suggested packages' in the 'Writing R Extensions' manual.
* checking S3 generic/method consistency ... OK
* checking replacement functions ... OK
* checking foreign function calls ... OK
* checking R code for possible problems ... OK
* checking Rd files ... OK
* checking Rd metadata ... OK
* checking Rd cross-references ... OK
* checking for missing documentation entries ... OK
* checking for code/documentation mismatches ... OK
* checking Rd \usage sections ... OK
* checking Rd contents ... OK
* checking for unstated dependencies in examples ... OK
* checking contents of ‘data’ directory ... OK
* checking data for non-ASCII characters ... OK
* checking data for ASCII and uncompressed saves ... OK
* checking sizes of PDF files under ‘inst/doc’ ... OK
* checking installed files from ‘inst/doc’ ... OK
* checking files in ‘vignettes’ ... OK
* checking examples ... [116s/117s] OK
Examples with CPU or elapsed time > 5s
                  user system elapsed
iSummary        20.010  1.706  21.873
plot            10.835  4.324  15.263
compare         11.433  3.522  15.031
siResult-class   9.774  4.965  14.843
modelSLGI       10.059  4.571  14.742
topInteraction   5.079  2.576   7.695
normInteraction  4.469  2.209   6.719
* checking for unstated dependencies in vignettes ... OK
* checking package vignettes in ‘inst/doc’ ... OK
* checking running R code from vignettes ... SKIPPED
* checking re-building of vignette outputs ... SKIPPED
* checking PDF version of manual ... OK
* DONE

Status: 3 NOTEs
See
  ‘/Users/biocbuild/bbs-3.3-bioc/meat/SLGI.Rcheck/00check.log’
for details.


SLGI.Rcheck/00install.out:

* installing *source* package ‘SLGI’ ...
** R
** data
** inst
** preparing package for lazy loading
No methods found in "Biobase" for requests: listlen
No methods found in "annotate" for requests: pubmed, buildPubMedAbst
No methods found in "BiocGenerics" for requests: plot
** help
*** installing help indices
** building package indices
** installing vignettes
** testing if installed package can be loaded
No methods found in "Biobase" for requests: listlen
No methods found in "annotate" for requests: pubmed, buildPubMedAbst
No methods found in "BiocGenerics" for requests: plot
* DONE (SLGI)

SLGI.Rcheck/SLGI-Ex.timings:

nameusersystemelapsed
Atong0.0350.0120.047
AtongFnDomain4.0050.1114.150
AtongPair0.0540.0240.077
SDL0.0040.0000.006
SGA0.0050.0160.021
SGD.SL0.1620.0230.185
TFmat0.0710.0250.097
byComplex0.4910.0690.591
comemberIn0.6240.0930.719
compare11.433 3.52215.031
congruence0.0010.0000.002
createSquareMatrix0.2190.0270.246
domainDist2.0270.0542.086
essglist0.0080.0030.010
getInteraction0.0020.0000.003
getSharedDomains0.0090.0010.010
getSharedInteraction0.0010.0010.001
getTestedPairs0.0080.0010.009
getUniquePairs0.0230.0010.023
gi20050.0450.0200.065
gi20070.1320.0200.152
gi2Interactome0.0010.0000.001
hyperG0.0050.0000.005
iSummary20.010 1.70621.873
modelSLGI10.059 4.57114.742
normInteraction4.4692.2096.719
plot10.835 4.32415.263
seqMatcherAlign0.0000.0000.001
sharedBy2.6730.0642.787
sharedInt0.0040.0000.005
siResult-class 9.774 4.96514.843
test2Interact0.0030.0000.003
topInteraction5.0792.5767.695
twoWayTable4.1620.1284.322
withinComplex0.7860.1270.914