Back to the "Multiple platform build/check report" A  B  C  D  E  F  G  H  I  J  K  L  M  N  O  P [Q] R  S  T  U  V  W  X  Y  Z 

BioC 3.3: CHECK report for QDNAseq on windows2.bioconductor.org

This page was generated on 2015-10-27 12:15:33 -0400 (Tue, 27 Oct 2015).

Package 820/1104HostnameOS / ArchINSTALLBUILDCHECKBUILD BIN
QDNAseq 1.7.0
Daoud Sie
Snapshot Date: 2015-10-26 20:20:04 -0400 (Mon, 26 Oct 2015)
URL: https://hedgehog.fhcrc.org/bioconductor/trunk/madman/Rpacks/QDNAseq
Last Changed Rev: 109592 / Revision: 109948
Last Changed Date: 2015-10-13 15:59:53 -0400 (Tue, 13 Oct 2015)
linux2.bioconductor.org Linux (Ubuntu 14.04.2 LTS) / x86_64  OK  OK  OK UNNEEDED, same version exists in internal repository
windows2.bioconductor.org Windows Server 2012 R2 Enterprise SP1 (64-bit) / x64  OK  OK [ OK ] OK UNNEEDED, same version exists in internal repository

Summary

Package: QDNAseq
Version: 1.7.0
Command: rm -rf QDNAseq.buildbin-libdir QDNAseq.Rcheck && mkdir QDNAseq.buildbin-libdir QDNAseq.Rcheck && c:\biocbld\bbs-3.3-bioc\R\bin\R.exe CMD INSTALL --build --merge-multiarch --library=QDNAseq.buildbin-libdir QDNAseq_1.7.0.tar.gz >QDNAseq.Rcheck\00install.out 2>&1 && cp QDNAseq.Rcheck\00install.out QDNAseq-install.out && c:\biocbld\bbs-3.3-bioc\R\bin\R.exe CMD check --library=QDNAseq.buildbin-libdir --install="check:QDNAseq-install.out" --force-multiarch --no-vignettes --timings QDNAseq_1.7.0.tar.gz
StartedAt: 2015-10-27 05:12:52 -0400 (Tue, 27 Oct 2015)
EndedAt: 2015-10-27 05:17:21 -0400 (Tue, 27 Oct 2015)
EllapsedTime: 269.0 seconds
RetCode: 0
Status:  OK  
CheckDir: QDNAseq.Rcheck
Warnings: 0

Command output

##############################################################################
##############################################################################
###
### Running command:
###
###   rm -rf QDNAseq.buildbin-libdir QDNAseq.Rcheck && mkdir QDNAseq.buildbin-libdir QDNAseq.Rcheck && c:\biocbld\bbs-3.3-bioc\R\bin\R.exe CMD INSTALL --build --merge-multiarch --library=QDNAseq.buildbin-libdir QDNAseq_1.7.0.tar.gz >QDNAseq.Rcheck\00install.out 2>&1 && cp QDNAseq.Rcheck\00install.out QDNAseq-install.out  && c:\biocbld\bbs-3.3-bioc\R\bin\R.exe CMD check --library=QDNAseq.buildbin-libdir --install="check:QDNAseq-install.out" --force-multiarch --no-vignettes --timings QDNAseq_1.7.0.tar.gz
###
##############################################################################
##############################################################################


* using log directory 'c:/biocbld/bbs-3.3-bioc/meat/QDNAseq.Rcheck'
* using R Under development (unstable) (2015-09-22 r69418)
* using platform: x86_64-w64-mingw32 (64-bit)
* using session charset: ISO8859-1
* using option '--no-vignettes'
* checking for file 'QDNAseq/DESCRIPTION' ... OK
* this is package 'QDNAseq' version '1.7.0'
* checking package namespace information ... OK
* checking package dependencies ... OK
* checking if this is a source package ... OK
* checking if there is a namespace ... OK
* checking for hidden files and directories ... OK
* checking for portable file names ... OK
* checking whether package 'QDNAseq' can be installed ... OK
* checking installed package size ... OK
* checking package directory ... OK
* checking 'build' directory ... OK
* checking DESCRIPTION meta-information ... OK
* checking top-level files ... OK
* checking for left-over files ... OK
* checking index information ... OK
* checking package subdirectories ... OK
* checking R files for non-ASCII characters ... OK
* checking R files for syntax errors ... OK
* loading checks for arch 'i386'
** checking whether the package can be loaded ... OK
** checking whether the package can be loaded with stated dependencies ... OK
** checking whether the package can be unloaded cleanly ... OK
** checking whether the namespace can be loaded with stated dependencies ... OK
** checking whether the namespace can be unloaded cleanly ... OK
* loading checks for arch 'x64'
** checking whether the package can be loaded ... OK
** checking whether the package can be loaded with stated dependencies ... OK
** checking whether the package can be unloaded cleanly ... OK
** checking whether the namespace can be loaded with stated dependencies ... OK
** checking whether the namespace can be unloaded cleanly ... OK
* checking dependencies in R code ... NOTE
Unexported object imported by a ':::' call: 'Biobase:::.showAnnotatedDataFrame'
  See the note in ?`:::` about the use of this operator.
There are ::: calls to the package's namespace in its code. A package
  almost never needs to use ::: for its own objects:
  'log2adhoc' 'sqrtadhoc'
* checking S3 generic/method consistency ... OK
* checking replacement functions ... OK
* checking foreign function calls ... OK
* checking R code for possible problems ... OK
* checking Rd files ... OK
* checking Rd metadata ... OK
* checking Rd cross-references ... OK
* checking for missing documentation entries ... OK
* checking for code/documentation mismatches ... OK
* checking Rd \usage sections ... OK
* checking Rd contents ... OK
* checking for unstated dependencies in examples ... OK
* checking contents of 'data' directory ... OK
* checking data for non-ASCII characters ... OK
* checking data for ASCII and uncompressed saves ... OK
* checking installed files from 'inst/doc' ... OK
* checking files in 'vignettes' ... OK
* checking examples ...
** running examples for arch 'i386' ... [57s] OK
Examples with CPU or elapsed time > 5s
                        user system elapsed
callBins               15.51   0.08   15.59
frequencyPlot          13.73   0.03   13.76
normalizeSegmentedBins  7.59   0.00    7.59
segmentBins             7.47   0.00    7.47
** running examples for arch 'x64' ... [54s] OK
Examples with CPU or elapsed time > 5s
                        user system elapsed
frequencyPlot          15.94   0.08   16.02
callBins               14.77   0.07   14.83
segmentBins             5.10   0.00    5.09
normalizeSegmentedBins  5.03   0.00    5.04
* checking for unstated dependencies in 'tests' ... OK
* checking tests ...
** running tests for arch 'i386' ...
  Running 'QDNAseq,reproducibility.R' [6s]
  Running 'QDNAseq.R' [12s]
 [18s] OK
** running tests for arch 'x64' ...
  Running 'QDNAseq,reproducibility.R' [6s]
  Running 'QDNAseq.R' [11s]
 [17s] OK
* checking for unstated dependencies in vignettes ... OK
* checking package vignettes in 'inst/doc' ... OK
* checking running R code from vignettes ... SKIPPED
* checking re-building of vignette outputs ... SKIPPED
* checking PDF version of manual ... OK
* DONE

Status: 1 NOTE
See
  'c:/biocbld/bbs-3.3-bioc/meat/QDNAseq.Rcheck/00check.log'
for details.


QDNAseq.Rcheck/00install.out:


install for i386

* installing *source* package 'QDNAseq' ...
** R
** data
** inst
** preparing package for lazy loading
** help
*** installing help indices
** building package indices
** installing vignettes
** testing if installed package can be loaded

install for x64

* installing *source* package 'QDNAseq' ...
** testing if installed package can be loaded
* MD5 sums
packaged installation of 'QDNAseq' as QDNAseq_1.7.0.zip
* DONE (QDNAseq)

QDNAseq.Rcheck/examples_i386/QDNAseq-Ex.timings:

nameusersystemelapsed
addPhenodata0.230.020.25
applyFilters0.650.010.66
binReadCounts000
callBins15.51 0.0815.59
compareToReference0.950.020.97
correctBins0.80.00.8
createBins0.020.000.01
estimateCorrection0.700.000.71
exportBins000
frequencyPlot13.73 0.0313.76
getBinAnnotations000
highlightFilters0.570.030.59
isobarPlot0.510.030.55
makeCgh1.080.001.08
noisePlot0.720.020.73
normalizeBins0.910.000.91
normalizeSegmentedBins7.590.007.59
plot0.970.000.97
poolRuns0.150.000.16
segmentBins7.470.007.47
smoothOutlierBins0.820.000.81

QDNAseq.Rcheck/examples_x64/QDNAseq-Ex.timings:

nameusersystemelapsed
addPhenodata0.20.00.2
applyFilters0.440.000.44
binReadCounts000
callBins14.77 0.0714.83
compareToReference1.040.001.05
correctBins0.740.000.73
createBins000
estimateCorrection0.840.000.85
exportBins0.020.000.01
frequencyPlot15.94 0.0816.02
getBinAnnotations000
highlightFilters0.640.000.64
isobarPlot0.540.030.58
makeCgh1.110.001.11
noisePlot0.70.00.7
normalizeBins0.920.000.93
normalizeSegmentedBins5.030.005.04
plot0.910.000.91
poolRuns0.170.000.17
segmentBins5.100.005.09
smoothOutlierBins0.810.000.82