Back to the "Multiple platform build/check report" A  B  C  D  E  F  G  H  I  J  K  L  M  N [O] P  Q  R  S  T  U  V  W  X  Y  Z 

BioC 3.3: BUILD BIN report for OrganismDbi on morelia

This page was generated on 2015-10-22 17:53:26 -0400 (Thu, 22 Oct 2015).

Package 735/1104HostnameOS / ArchINSTALLBUILDCHECKBUILD BIN
OrganismDbi 1.13.0
Biocore Data Team
Snapshot Date: 2015-10-21 20:20:05 -0400 (Wed, 21 Oct 2015)
URL: https://hedgehog.fhcrc.org/bioconductor/trunk/madman/Rpacks/OrganismDbi
Last Changed Rev: 109592 / Revision: 109826
Last Changed Date: 2015-10-13 15:59:53 -0400 (Tue, 13 Oct 2015)
linux2.bioconductor.org Linux (Ubuntu 14.04.2 LTS) / x86_64  OK  OK  ERROR 
windows2.bioconductor.org Windows Server 2012 R2 Enterprise SP1 (64-bit) / x64  OK  OK  ERROR  OK 
morelia Mac OS X Mavericks (10.9.5) / x86_64  OK  OK  ERROR [ OK ]

Summary

Package: OrganismDbi
Version: 1.13.0
Command: rm -rf OrganismDbi.buildbin-libdir && mkdir OrganismDbi.buildbin-libdir && /Users/biocbuild/BBS/utils/build-universal.sh OrganismDbi_1.13.0.tar.gz /Library/Frameworks/R.framework/Versions/Current/Resources/bin/R OrganismDbi.buildbin-libdir
StartedAt: 2015-10-22 15:15:00 -0400 (Thu, 22 Oct 2015)
EndedAt: 2015-10-22 15:15:45 -0400 (Thu, 22 Oct 2015)
EllapsedTime: 45.7 seconds
RetCode: 0
Status:  OK 
PackageFile: OrganismDbi_1.13.0.tgz
PackageFileSize: 339.9 KiB

Command output

##############################################################################
##############################################################################
###
### Running command:
###
###   rm -rf OrganismDbi.buildbin-libdir && mkdir OrganismDbi.buildbin-libdir && /Users/biocbuild/BBS/utils/build-universal.sh OrganismDbi_1.13.0.tar.gz /Library/Frameworks/R.framework/Versions/Current/Resources/bin/R OrganismDbi.buildbin-libdir
###
##############################################################################
##############################################################################


>>>>>>> 
>>>>>>> INSTALLATION WITH 'R CMD INSTALL --preclean --no-multiarch --library=OrganismDbi.buildbin-libdir OrganismDbi_1.13.0.tar.gz'
>>>>>>> 

* installing *source* package ‘OrganismDbi’ ...
** R
** inst
** preparing package for lazy loading
** help
*** installing help indices
** building package indices
** installing vignettes
** testing if installed package can be loaded
* DONE (OrganismDbi)