Back to the "Multiple platform build/check report" A  B  C  D  E  F  G  H  I  J  K  L [M] N  O  P  Q  R  S  T  U  V  W  X  Y  Z 

BioC 3.3: CHECK report for MLInterfaces on morelia

This page was generated on 2015-10-22 17:51:54 -0400 (Thu, 22 Oct 2015).

Package 658/1104HostnameOS / ArchINSTALLBUILDCHECKBUILD BIN
MLInterfaces 1.51.0
V. Carey
Snapshot Date: 2015-10-21 20:20:05 -0400 (Wed, 21 Oct 2015)
URL: https://hedgehog.fhcrc.org/bioconductor/trunk/madman/Rpacks/MLInterfaces
Last Changed Rev: 109592 / Revision: 109826
Last Changed Date: 2015-10-13 15:59:53 -0400 (Tue, 13 Oct 2015)
linux2.bioconductor.org Linux (Ubuntu 14.04.2 LTS) / x86_64  OK  OK  OK UNNEEDED, same version exists in internal repository
windows2.bioconductor.org Windows Server 2012 R2 Enterprise SP1 (64-bit) / x64  OK  OK  OK  OK UNNEEDED, same version exists in internal repository
morelia Mac OS X Mavericks (10.9.5) / x86_64  OK  OK [ OK ] OK UNNEEDED, same version exists in internal repository

Summary

Package: MLInterfaces
Version: 1.51.0
Command: /Library/Frameworks/R.framework/Versions/Current/Resources/bin/R CMD check --no-vignettes --timings MLInterfaces_1.51.0.tar.gz
StartedAt: 2015-10-22 08:32:46 -0400 (Thu, 22 Oct 2015)
EndedAt: 2015-10-22 08:35:07 -0400 (Thu, 22 Oct 2015)
EllapsedTime: 140.3 seconds
RetCode: 0
Status:  OK 
CheckDir: MLInterfaces.Rcheck
Warnings: 0

Command output

##############################################################################
##############################################################################
###
### Running command:
###
###   /Library/Frameworks/R.framework/Versions/Current/Resources/bin/R CMD check --no-vignettes --timings MLInterfaces_1.51.0.tar.gz
###
##############################################################################
##############################################################################


* using log directory ‘/Users/biocbuild/bbs-3.3-bioc/meat/MLInterfaces.Rcheck’
* using R Under development (unstable) (2015-10-08 r69496)
* using platform: x86_64-apple-darwin13.4.0 (64-bit)
* using session charset: UTF-8
* using option ‘--no-vignettes’
* checking for file ‘MLInterfaces/DESCRIPTION’ ... OK
* this is package ‘MLInterfaces’ version ‘1.51.0’
* checking package namespace information ... OK
* checking package dependencies ... OK
* checking if this is a source package ... OK
* checking if there is a namespace ... OK
* checking for hidden files and directories ... OK
* checking for portable file names ... OK
* checking for sufficient/correct file permissions ... OK
* checking whether package ‘MLInterfaces’ can be installed ... [9s/10s] OK
* checking installed package size ... OK
* checking package directory ... OK
* checking ‘build’ directory ... OK
* checking DESCRIPTION meta-information ... OK
* checking top-level files ... OK
* checking for left-over files ... OK
* checking index information ... OK
* checking package subdirectories ... OK
* checking R files for non-ASCII characters ... OK
* checking R files for syntax errors ... OK
* checking whether the package can be loaded ... OK
* checking whether the package can be loaded with stated dependencies ... OK
* checking whether the package can be unloaded cleanly ... OK
* checking whether the namespace can be loaded with stated dependencies ... NOTE
Warning: no function found corresponding to methods exports from ‘MLInterfaces’ for: ‘plot’

A namespace must be able to be loaded with just the base namespace
loaded: otherwise if the namespace gets loaded by a saved object, the
session will be unable to start.

Probably some imports need to be declared in the NAMESPACE file.
* checking whether the namespace can be unloaded cleanly ... OK
* checking dependencies in R code ... NOTE
Unexported objects imported by ':::' calls:
  ‘MASS:::predict.lda’ ‘ada:::predict.ada’ ‘e1071:::predict.svm’
  ‘rpart:::predict.rpart’ ‘stats:::plot.hclust’
  See the note in ?`:::` about the use of this operator.
* checking S3 generic/method consistency ... OK
* checking replacement functions ... OK
* checking foreign function calls ... OK
* checking R code for possible problems ... NOTE
hclustWidget : <anonymous>: no visible global function definition for
  ‘:=’
hclustWidget : <anonymous>: no visible binding for global variable
  ‘key’
Undefined global functions or variables:
  := key
* checking Rd files ... NOTE
prepare_Rd: plspinHcube.Rd:17-19: Dropping empty section \details
* checking Rd metadata ... OK
* checking Rd cross-references ... OK
* checking for missing documentation entries ... OK
* checking for code/documentation mismatches ... OK
* checking Rd \usage sections ... OK
* checking Rd contents ... OK
* checking for unstated dependencies in examples ... OK
* checking sizes of PDF files under ‘inst/doc’ ... OK
* checking installed files from ‘inst/doc’ ... OK
* checking files in ‘vignettes’ ... OK
* checking examples ... [30s/29s] OK
Examples with CPU or elapsed time > 5s
             user system elapsed
MLearn-new 14.424  1.237  16.482
* checking for unstated dependencies in ‘tests’ ... OK
* checking tests ...
  Running ‘runTests.R’ [5s/5s]
 [5s/5s] OK
* checking for unstated dependencies in vignettes ... OK
* checking package vignettes in ‘inst/doc’ ... OK
* checking running R code from vignettes ... SKIPPED
* checking re-building of vignette outputs ... SKIPPED
* checking PDF version of manual ... OK
* DONE

Status: 4 NOTEs
See
  ‘/Users/biocbuild/bbs-3.3-bioc/meat/MLInterfaces.Rcheck/00check.log’
for details.


MLInterfaces.Rcheck/00install.out:

* installing *source* package ‘MLInterfaces’ ...
** R
** inst
** preparing package for lazy loading
Warning in rgl.init(initValue, onlyNULL) :
  RGL: GLX extension missing on server
Warning in fun(libname, pkgname) : Error in 'rgl_init'
** help
*** installing help indices
** building package indices
** installing vignettes
** testing if installed package can be loaded
Warning in rgl.init(initValue, onlyNULL) :
  RGL: GLX extension missing on server
Warning in fun(libname, pkgname) : Error in 'rgl_init'
* DONE (MLInterfaces)

MLInterfaces.Rcheck/MLInterfaces-Ex.timings:

nameusersystemelapsed
MLearn-new14.424 1.23716.482
RAB0.1120.0020.114
balKfold.xvspec0.0240.0010.025
classifierOutput-class1.3570.4231.752
clusteringOutput-class0.0010.0030.004
confuMat-methods0.2850.0280.313
confuTab0.0080.0010.010
fs.absT0.0620.0110.072
fsHistory1.5520.2050.133
hclustWidget0.0010.0000.002
learnerSchema-class0.0010.0010.002
performance-analytics0.0030.0010.004
planarPlot-methods2.1030.1742.294
plspinHcube0.0010.0000.000
predict.classifierOutput1.4340.0411.497
projectLearnerToGrid0.5330.0370.613
projectedLearner-class0.0010.0000.001
raboostCont-class0.0010.0000.002
varImpStruct-class0.5290.0230.606
xvalLoop0.0020.0000.002
xvalSpec0.1880.1060.230