Back to the "Multiple platform build/check report" A  B  C  D  E  F  G  H  I  J [K] L  M  N  O  P  Q  R  S  T  U  V  W  X  Y  Z 

BioC 3.3: BUILD BIN report for KEGGgraph on morelia

This page was generated on 2015-10-22 17:52:31 -0400 (Thu, 22 Oct 2015).

Package 553/1104HostnameOS / ArchINSTALLBUILDCHECKBUILD BIN
KEGGgraph 1.29.0
Jitao David Zhang
Snapshot Date: 2015-10-21 20:20:05 -0400 (Wed, 21 Oct 2015)
URL: https://hedgehog.fhcrc.org/bioconductor/trunk/madman/Rpacks/KEGGgraph
Last Changed Rev: 109592 / Revision: 109826
Last Changed Date: 2015-10-13 15:59:53 -0400 (Tue, 13 Oct 2015)
linux2.bioconductor.org Linux (Ubuntu 14.04.2 LTS) / x86_64  OK  OK  WARNINGS UNNEEDED, same version exists in internal repository
windows2.bioconductor.org Windows Server 2012 R2 Enterprise SP1 (64-bit) / x64  OK  OK  WARNINGS  OK UNNEEDED, same version exists in internal repository
morelia Mac OS X Mavericks (10.9.5) / x86_64  OK  OK  WARNINGS [ OK ]UNNEEDED, same version exists in internal repository

Summary

Package: KEGGgraph
Version: 1.29.0
Command: rm -rf KEGGgraph.buildbin-libdir && mkdir KEGGgraph.buildbin-libdir && /Users/biocbuild/BBS/utils/build-universal.sh KEGGgraph_1.29.0.tar.gz /Library/Frameworks/R.framework/Versions/Current/Resources/bin/R KEGGgraph.buildbin-libdir
StartedAt: 2015-10-22 14:35:53 -0400 (Thu, 22 Oct 2015)
EndedAt: 2015-10-22 14:36:18 -0400 (Thu, 22 Oct 2015)
EllapsedTime: 25.0 seconds
RetCode: 0
Status:  OK 
PackageFile: KEGGgraph_1.29.0.tgz
PackageFileSize: 1.624 MiB

Command output

##############################################################################
##############################################################################
###
### Running command:
###
###   rm -rf KEGGgraph.buildbin-libdir && mkdir KEGGgraph.buildbin-libdir && /Users/biocbuild/BBS/utils/build-universal.sh KEGGgraph_1.29.0.tar.gz /Library/Frameworks/R.framework/Versions/Current/Resources/bin/R KEGGgraph.buildbin-libdir
###
##############################################################################
##############################################################################


>>>>>>> 
>>>>>>> INSTALLATION WITH 'R CMD INSTALL --preclean --no-multiarch --library=KEGGgraph.buildbin-libdir KEGGgraph_1.29.0.tar.gz'
>>>>>>> 

* installing *source* package ‘KEGGgraph’ ...
** R
** data
** inst
** preparing package for lazy loading
** help
*** installing help indices
** building package indices
** installing vignettes
** testing if installed package can be loaded
* DONE (KEGGgraph)