Back to the "Multiple platform build/check report" A  B  C  D  E  F  G  H [I] J  K  L  M  N  O  P  Q  R  S  T  U  V  W  X  Y  Z 

BioC 3.3: BUILD report for IRanges on morelia

This page was generated on 2015-10-22 17:51:51 -0400 (Thu, 22 Oct 2015).

Package 541/1104HostnameOS / ArchINSTALLBUILDCHECKBUILD BIN
IRanges 2.5.3
Bioconductor Package Maintainer
Snapshot Date: 2015-10-21 20:20:05 -0400 (Wed, 21 Oct 2015)
URL: https://hedgehog.fhcrc.org/bioconductor/trunk/madman/Rpacks/IRanges
Last Changed Rev: 109804 / Revision: 109826
Last Changed Date: 2015-10-20 18:45:55 -0400 (Tue, 20 Oct 2015)
linux2.bioconductor.org Linux (Ubuntu 14.04.2 LTS) / x86_64  OK  OK  WARNINGS YES, new version is higher than in internal repository
windows2.bioconductor.org Windows Server 2012 R2 Enterprise SP1 (64-bit) / x64  OK  OK  WARNINGS  OK YES, new version is higher than in internal repository
morelia Mac OS X Mavericks (10.9.5) / x86_64  OK [ OK ] WARNINGS  OK YES, new version is higher than in internal repository

Summary

Package: IRanges
Version: 2.5.3
Command: /Library/Frameworks/R.framework/Versions/Current/Resources/bin/R CMD build --keep-empty-dirs --no-resave-data IRanges
StartedAt: 2015-10-21 21:42:30 -0400 (Wed, 21 Oct 2015)
EndedAt: 2015-10-21 21:43:01 -0400 (Wed, 21 Oct 2015)
EllapsedTime: 31.8 seconds
RetCode: 0
Status:  OK 
PackageFile: IRanges_2.5.3.tar.gz
PackageFileSize: 480.8 KiB

Command output

##############################################################################
##############################################################################
###
### Running command:
###
###   /Library/Frameworks/R.framework/Versions/Current/Resources/bin/R CMD build --keep-empty-dirs --no-resave-data IRanges
###
##############################################################################
##############################################################################


* checking for file ‘IRanges/DESCRIPTION’ ... OK
* preparing ‘IRanges’:
* checking DESCRIPTION meta-information ... OK
* cleaning src
* installing the package to build vignettes
* creating vignettes ... OK
* cleaning src
* checking for LF line-endings in source and make files
* checking for empty or unneeded directories
* building ‘IRanges_2.5.3.tar.gz’