GenomicRanges 1.23.1 Bioconductor Package Maintainer
Snapshot Date: 2015-10-26 20:20:04 -0400 (Mon, 26 Oct 2015) | URL: https://hedgehog.fhcrc.org/bioconductor/trunk/madman/Rpacks/GenomicRanges | Last Changed Rev: 109852 / Revision: 109948 | Last Changed Date: 2015-10-22 23:04:27 -0400 (Thu, 22 Oct 2015) |
| linux2.bioconductor.org | Linux (Ubuntu 14.04.2 LTS) / x86_64 | OK | OK | WARNINGS | | ![UNNEEDED, same version exists in internal repository UNNEEDED, same version exists in internal repository](../120px-Blue_Light_Icon.svg.png) |
windows2.bioconductor.org | Windows Server 2012 R2 Enterprise SP1 (64-bit) / x64 | OK | OK | WARNINGS | [ OK ] | ![UNNEEDED, same version exists in internal repository UNNEEDED, same version exists in internal repository](../120px-Blue_Light_Icon.svg.png) |
##############################################################################
##############################################################################
###
### Running command:
###
### cd GenomicRanges.buildbin-libdir/GenomicRanges && zip -r ../../GenomicRanges_1.23.1.zip . & cd ../..
###
##############################################################################
##############################################################################
adding: CITATION (188 bytes security) (deflated 56%)
adding: DESCRIPTION (188 bytes security) (deflated 54%)
adding: doc/ (208 bytes security) (stored 0%)
adding: doc/ExtendingGenomicRanges.pdf (188 bytes security) (deflated 9%)
adding: doc/ExtendingGenomicRanges.R (188 bytes security) (deflated 73%)
adding: doc/ExtendingGenomicRanges.Rnw (188 bytes security) (deflated 58%)
adding: doc/GenomicRangesHOWTOs.pdf (188 bytes security) (deflated 21%)
adding: doc/GenomicRangesHOWTOs.R (188 bytes security) (deflated 83%)
adding: doc/GenomicRangesHOWTOs.Rnw (188 bytes security) (deflated 71%)
adding: doc/GenomicRangesIntroduction.pdf (188 bytes security) (deflated 11%)
adding: doc/GenomicRangesIntroduction.R (188 bytes security) (deflated 83%)
adding: doc/GenomicRangesIntroduction.Rnw (188 bytes security) (deflated 66%)
adding: doc/GRanges_and_GRangesList_slides.pdf (188 bytes security) (deflated 52%)
adding: doc/GRanges_and_GRangesList_slides.R (188 bytes security) (deflated 84%)
adding: doc/GRanges_and_GRangesList_slides.Rnw (188 bytes security) (deflated 81%)
adding: doc/index.html (188 bytes security) (deflated 78%)
adding: extdata/ (208 bytes security) (stored 0%)
adding: extdata/feature_frags.txt (188 bytes security) (deflated 33%)
adding: help/ (208 bytes security) (stored 0%)
adding: help/aliases.rds (188 bytes security) (stored 0%)
adding: help/AnIndex (188 bytes security) (deflated 90%)
adding: help/GenomicRanges.rdb (188 bytes security) (deflated 1%)
adding: help/GenomicRanges.rdx (188 bytes security) (stored 0%)
adding: help/paths.rds (188 bytes security) (stored 0%)
adding: html/ (208 bytes security) (stored 0%)
adding: html/00Index.html (188 bytes security) (deflated 92%)
adding: html/R.css (188 bytes security) (deflated 75%)
adding: INDEX (188 bytes security) (deflated 69%)
adding: libs/ (208 bytes security) (stored 0%)
adding: libs/i386/ (208 bytes security) (stored 0%)
adding: libs/i386/GenomicRanges.dll (188 bytes security) (deflated 64%)
adding: libs/x64/ (208 bytes security) (stored 0%)
adding: libs/x64/GenomicRanges.dll (188 bytes security) (deflated 64%)
adding: MD5 (188 bytes security) (deflated 50%)
adding: Meta/ (208 bytes security) (stored 0%)
adding: Meta/hsearch.rds (188 bytes security) (stored 0%)
adding: Meta/links.rds (188 bytes security) (deflated 1%)
adding: Meta/nsInfo.rds (188 bytes security) (stored 0%)
adding: Meta/package.rds (188 bytes security) (stored 0%)
adding: Meta/Rd.rds (188 bytes security) (stored 0%)
adding: Meta/vignette.rds (188 bytes security) (stored 0%)
adding: NAMESPACE (188 bytes security) (deflated 67%)
adding: NEWS (188 bytes security) (deflated 70%)
adding: R/ (208 bytes security) (stored 0%)
adding: R/GenomicRanges (188 bytes security) (deflated 41%)
adding: R/GenomicRanges.rdb (188 bytes security) (deflated 33%)
adding: R/GenomicRanges.rdx (188 bytes security) (deflated 5%)
adding: scripts/ (208 bytes security) (stored 0%)
adding: scripts/timing_overlaps.R (188 bytes security) (deflated 79%)
adding: unitTests/ (208 bytes security) (stored 0%)
adding: unitTests/test_coverage-methods.R (188 bytes security) (deflated 82%)
adding: unitTests/test_findOverlaps-methods.R (188 bytes security) (deflated 86%)
adding: unitTests/test_GNCList-class.R (188 bytes security) (deflated 74%)
adding: unitTests/test_GRanges-class.R (188 bytes security) (deflated 82%)
adding: unitTests/test_GRangesList-class.R (188 bytes security) (deflated 79%)
adding: unitTests/test_inter-range-methods.R (188 bytes security) (deflated 75%)
adding: unitTests/test_intra-range-methods.R (188 bytes security) (deflated 82%)
adding: unitTests/test_makeGRangesFromDataFrame.R (188 bytes security) (deflated 91%)
adding: unitTests/test_nearest-methods.R (188 bytes security) (deflated 85%)
adding: unitTests/test_setops-methods.R (188 bytes security) (deflated 85%)
adding: unitTests/test_SummarizedExperiment-rowData-methods.R (188 bytes security) (deflated 67%)