GenomicRanges 1.23.0 Bioconductor Package Maintainer
Snapshot Date: 2015-10-21 20:20:05 -0400 (Wed, 21 Oct 2015) | URL: https://hedgehog.fhcrc.org/bioconductor/trunk/madman/Rpacks/GenomicRanges | Last Changed Rev: 109592 / Revision: 109826 | Last Changed Date: 2015-10-13 15:59:53 -0400 (Tue, 13 Oct 2015) |
| linux2.bioconductor.org | Linux (Ubuntu 14.04.2 LTS) / x86_64 | OK | ERROR | skipped | | |
windows2.bioconductor.org | Windows Server 2012 R2 Enterprise SP1 (64-bit) / x64 | OK | ERROR | skipped | skipped | |
morelia | Mac OS X Mavericks (10.9.5) / x86_64 | [ OK ] | ERROR | skipped | skipped | |
##############################################################################
##############################################################################
###
### Running command:
###
### /Library/Frameworks/R.framework/Versions/Current/Resources/bin/R CMD INSTALL GenomicRanges
###
##############################################################################
##############################################################################
* installing to library ‘/Library/Frameworks/R.framework/Versions/3.3/Resources/library’
* installing *source* package ‘GenomicRanges’ ...
** libs
clang -I/Library/Frameworks/R.framework/Resources/include -DNDEBUG -I/usr/local/include -I/usr/local/include/freetype2 -I/opt/X11/include -I"/Library/Frameworks/R.framework/Versions/3.3/Resources/library/S4Vectors/include" -I"/Library/Frameworks/R.framework/Versions/3.3/Resources/library/IRanges/include" -fPIC -Wall -mtune=core2 -g -O2 -c IRanges_stubs.c -o IRanges_stubs.o
clang -I/Library/Frameworks/R.framework/Resources/include -DNDEBUG -I/usr/local/include -I/usr/local/include/freetype2 -I/opt/X11/include -I"/Library/Frameworks/R.framework/Versions/3.3/Resources/library/S4Vectors/include" -I"/Library/Frameworks/R.framework/Versions/3.3/Resources/library/IRanges/include" -fPIC -Wall -mtune=core2 -g -O2 -c R_init_GenomicRanges.c -o R_init_GenomicRanges.o
clang -I/Library/Frameworks/R.framework/Resources/include -DNDEBUG -I/usr/local/include -I/usr/local/include/freetype2 -I/opt/X11/include -I"/Library/Frameworks/R.framework/Versions/3.3/Resources/library/S4Vectors/include" -I"/Library/Frameworks/R.framework/Versions/3.3/Resources/library/IRanges/include" -fPIC -Wall -mtune=core2 -g -O2 -c S4Vectors_stubs.c -o S4Vectors_stubs.o
clang -I/Library/Frameworks/R.framework/Resources/include -DNDEBUG -I/usr/local/include -I/usr/local/include/freetype2 -I/opt/X11/include -I"/Library/Frameworks/R.framework/Versions/3.3/Resources/library/S4Vectors/include" -I"/Library/Frameworks/R.framework/Versions/3.3/Resources/library/IRanges/include" -fPIC -Wall -mtune=core2 -g -O2 -c transcript_utils.c -o transcript_utils.o
clang -dynamiclib -Wl,-headerpad_max_install_names -undefined dynamic_lookup -single_module -multiply_defined suppress -L/Library/Frameworks/R.framework/Resources/lib -L/usr/local/lib -o GenomicRanges.so IRanges_stubs.o R_init_GenomicRanges.o S4Vectors_stubs.o transcript_utils.o -F/Library/Frameworks/R.framework/.. -framework R -Wl,-framework -Wl,CoreFoundation
installing to /Library/Frameworks/R.framework/Versions/3.3/Resources/library/GenomicRanges/libs
** R
** inst
** preparing package for lazy loading
Warning: undefined slot classes in definition of "GIntervalTree": ranges(class "IntervalForest")
Warning: undefined slot classes in definition of "GIntervalTree": ranges(class "IntervalForest")
** help
*** installing help indices
** building package indices
** installing vignettes
** testing if installed package can be loaded
* DONE (GenomicRanges)