Back to the "Multiple platform build/check report" A  B  C  D  E  F [G] H  I  J  K  L  M  N  O  P  Q  R  S  T  U  V  W  X  Y  Z 

BioC 3.3: CHECK report for GenomicAlignments on morelia

This page was generated on 2015-10-22 17:53:58 -0400 (Thu, 22 Oct 2015).

Package 421/1104HostnameOS / ArchINSTALLBUILDCHECKBUILD BIN
GenomicAlignments 1.7.1
Bioconductor Package Maintainer
Snapshot Date: 2015-10-21 20:20:05 -0400 (Wed, 21 Oct 2015)
URL: https://hedgehog.fhcrc.org/bioconductor/trunk/madman/Rpacks/GenomicAlignments
Last Changed Rev: 109822 / Revision: 109826
Last Changed Date: 2015-10-21 15:00:48 -0400 (Wed, 21 Oct 2015)
linux2.bioconductor.org Linux (Ubuntu 14.04.2 LTS) / x86_64  OK  OK  OK YES, new version is higher than in internal repository
windows2.bioconductor.org Windows Server 2012 R2 Enterprise SP1 (64-bit) / x64  OK  OK  OK  OK YES, new version is higher than in internal repository
morelia Mac OS X Mavericks (10.9.5) / x86_64  OK  OK [ OK ] OK YES, new version is higher than in internal repository

Summary

Package: GenomicAlignments
Version: 1.7.1
Command: /Library/Frameworks/R.framework/Versions/Current/Resources/bin/R CMD check --no-vignettes --timings GenomicAlignments_1.7.1.tar.gz
StartedAt: 2015-10-22 06:27:46 -0400 (Thu, 22 Oct 2015)
EndedAt: 2015-10-22 06:31:31 -0400 (Thu, 22 Oct 2015)
EllapsedTime: 224.1 seconds
RetCode: 0
Status:  OK 
CheckDir: GenomicAlignments.Rcheck
Warnings: 0

Command output

##############################################################################
##############################################################################
###
### Running command:
###
###   /Library/Frameworks/R.framework/Versions/Current/Resources/bin/R CMD check --no-vignettes --timings GenomicAlignments_1.7.1.tar.gz
###
##############################################################################
##############################################################################


* using log directory ‘/Users/biocbuild/bbs-3.3-bioc/meat/GenomicAlignments.Rcheck’
* using R Under development (unstable) (2015-10-08 r69496)
* using platform: x86_64-apple-darwin13.4.0 (64-bit)
* using session charset: UTF-8
* using option ‘--no-vignettes’
* checking for file ‘GenomicAlignments/DESCRIPTION’ ... OK
* this is package ‘GenomicAlignments’ version ‘1.7.1’
* checking package namespace information ... OK
* checking package dependencies ... NOTE
Depends: includes the non-default packages:
  ‘BiocGenerics’ ‘S4Vectors’ ‘IRanges’ ‘GenomeInfoDb’ ‘GenomicRanges’
  ‘SummarizedExperiment’ ‘Biostrings’ ‘Rsamtools’
Adding so many packages to the search path is excessive and importing
selectively is preferable.
* checking if this is a source package ... OK
* checking if there is a namespace ... OK
* checking for hidden files and directories ... OK
* checking for portable file names ... OK
* checking for sufficient/correct file permissions ... OK
* checking whether package ‘GenomicAlignments’ can be installed ... [12s/12s] OK
* checking installed package size ... OK
* checking package directory ... OK
* checking ‘build’ directory ... OK
* checking DESCRIPTION meta-information ... NOTE
Packages listed in more than one of Depends, Imports, Suggests, Enhances:
  ‘methods’ ‘BiocGenerics’ ‘S4Vectors’ ‘IRanges’ ‘GenomicRanges’ ‘Biostrings’ ‘Rsamtools’
A package should be listed in only one of these fields.
* checking top-level files ... OK
* checking for left-over files ... OK
* checking index information ... OK
* checking package subdirectories ... OK
* checking R files for non-ASCII characters ... OK
* checking R files for syntax errors ... OK
* checking whether the package can be loaded ... OK
* checking whether the package can be loaded with stated dependencies ... OK
* checking whether the package can be unloaded cleanly ... OK
* checking whether the namespace can be loaded with stated dependencies ... OK
* checking whether the namespace can be unloaded cleanly ... OK
* checking dependencies in R code ... NOTE
'library' or 'require' call to ‘BSgenome’ in package code.
  Please use :: or requireNamespace() instead.
  See section 'Suggested packages' in the 'Writing R Extensions' manual.
Unexported objects imported by ':::' calls:
  ‘Biostrings:::.normarg_padding.letter’
  ‘Rsamtools:::.BamViews_delegate’ ‘Rsamtools:::.findMateWithinGroups’
  ‘Rsamtools:::.isValidHit’
  ‘Rsamtools:::.load_bamcols_from_scanBam_res’
  See the note in ?`:::` about the use of this operator.
* checking S3 generic/method consistency ... OK
* checking replacement functions ... OK
* checking foreign function calls ... OK
* checking R code for possible problems ... OK
* checking Rd files ... OK
* checking Rd metadata ... OK
* checking Rd cross-references ... OK
* checking for missing documentation entries ... OK
* checking for code/documentation mismatches ... OK
* checking Rd \usage sections ... OK
* checking Rd contents ... OK
* checking for unstated dependencies in examples ... OK
* checking line endings in C/C++/Fortran sources/headers ... OK
* checking compiled code ... OK
* checking sizes of PDF files under ‘inst/doc’ ... OK
* checking installed files from ‘inst/doc’ ... OK
* checking files in ‘vignettes’ ... OK
* checking examples ... [86s/87s] OK
Examples with CPU or elapsed time > 5s
                             user system elapsed
junctions-methods          21.734  1.876  23.839
sequenceLayer              12.101  1.332  13.707
readGAlignments            11.156  1.170  13.306
summarizeOverlaps-methods   8.882  1.509   9.220
coordinate-mapping-methods  5.285  0.182   5.536
* checking for unstated dependencies in ‘tests’ ... OK
* checking tests ...
  Running ‘GenomicAlignments_unit_tests.R’ [29s/27s]
 [29s/27s] OK
* checking for unstated dependencies in vignettes ... OK
* checking package vignettes in ‘inst/doc’ ... OK
* checking running R code from vignettes ... SKIPPED
* checking re-building of vignette outputs ... SKIPPED
* checking PDF version of manual ... OK
* DONE

Status: 3 NOTEs
See
  ‘/Users/biocbuild/bbs-3.3-bioc/meat/GenomicAlignments.Rcheck/00check.log’
for details.


GenomicAlignments.Rcheck/00install.out:

* installing *source* package ‘GenomicAlignments’ ...
** libs
clang -I/Library/Frameworks/R.framework/Resources/include -DNDEBUG  -I/usr/local/include -I/usr/local/include/freetype2 -I/opt/X11/include -I"/Library/Frameworks/R.framework/Versions/3.3/Resources/library/S4Vectors/include" -I"/Library/Frameworks/R.framework/Versions/3.3/Resources/library/IRanges/include"   -fPIC  -Wall -mtune=core2 -g -O2  -c IRanges_stubs.c -o IRanges_stubs.o
clang -I/Library/Frameworks/R.framework/Resources/include -DNDEBUG  -I/usr/local/include -I/usr/local/include/freetype2 -I/opt/X11/include -I"/Library/Frameworks/R.framework/Versions/3.3/Resources/library/S4Vectors/include" -I"/Library/Frameworks/R.framework/Versions/3.3/Resources/library/IRanges/include"   -fPIC  -Wall -mtune=core2 -g -O2  -c R_init_GenomicAlignments.c -o R_init_GenomicAlignments.o
clang -I/Library/Frameworks/R.framework/Resources/include -DNDEBUG  -I/usr/local/include -I/usr/local/include/freetype2 -I/opt/X11/include -I"/Library/Frameworks/R.framework/Versions/3.3/Resources/library/S4Vectors/include" -I"/Library/Frameworks/R.framework/Versions/3.3/Resources/library/IRanges/include"   -fPIC  -Wall -mtune=core2 -g -O2  -c S4Vectors_stubs.c -o S4Vectors_stubs.o
clang -I/Library/Frameworks/R.framework/Resources/include -DNDEBUG  -I/usr/local/include -I/usr/local/include/freetype2 -I/opt/X11/include -I"/Library/Frameworks/R.framework/Versions/3.3/Resources/library/S4Vectors/include" -I"/Library/Frameworks/R.framework/Versions/3.3/Resources/library/IRanges/include"   -fPIC  -Wall -mtune=core2 -g -O2  -c cigar_utils.c -o cigar_utils.o
clang -I/Library/Frameworks/R.framework/Resources/include -DNDEBUG  -I/usr/local/include -I/usr/local/include/freetype2 -I/opt/X11/include -I"/Library/Frameworks/R.framework/Versions/3.3/Resources/library/S4Vectors/include" -I"/Library/Frameworks/R.framework/Versions/3.3/Resources/library/IRanges/include"   -fPIC  -Wall -mtune=core2 -g -O2  -c coordinate_mapping_methods.c -o coordinate_mapping_methods.o
clang -I/Library/Frameworks/R.framework/Resources/include -DNDEBUG  -I/usr/local/include -I/usr/local/include/freetype2 -I/opt/X11/include -I"/Library/Frameworks/R.framework/Versions/3.3/Resources/library/S4Vectors/include" -I"/Library/Frameworks/R.framework/Versions/3.3/Resources/library/IRanges/include"   -fPIC  -Wall -mtune=core2 -g -O2  -c encodeOverlaps_methods.c -o encodeOverlaps_methods.o
clang -dynamiclib -Wl,-headerpad_max_install_names -undefined dynamic_lookup -single_module -multiply_defined suppress -L/Library/Frameworks/R.framework/Resources/lib -L/usr/local/lib -o GenomicAlignments.so IRanges_stubs.o R_init_GenomicAlignments.o S4Vectors_stubs.o cigar_utils.o coordinate_mapping_methods.o encodeOverlaps_methods.o -F/Library/Frameworks/R.framework/.. -framework R -Wl,-framework -Wl,CoreFoundation
installing to /Users/biocbuild/bbs-3.3-bioc/meat/GenomicAlignments.Rcheck/GenomicAlignments/libs
** R
** inst
** preparing package for lazy loading
** help
*** installing help indices
** building package indices
** installing vignettes
** testing if installed package can be loaded
* DONE (GenomicAlignments)

GenomicAlignments.Rcheck/GenomicAlignments-Ex.timings:

nameusersystemelapsed
GAlignmentPairs-class1.0050.0331.038
GAlignments-class0.4650.0100.475
GAlignmentsList-class3.2650.0743.385
GappedReads-class0.1320.0120.144
OverlapEncodings-class0.0620.0020.064
cigar-utils0.2480.0100.259
coordinate-mapping-methods5.2850.1825.536
coverage-methods2.5830.1292.712
encodeOverlaps-methods0.0240.0010.025
findCompatibleOverlaps-methods0.7650.0931.236
findMateAlignment0.2310.0140.247
findOverlaps-methods0.4820.0070.490
findSpliceOverlaps-methods3.8840.3104.251
intra-range-methods0.2070.0120.219
junctions-methods21.734 1.87623.839
mapCoords-methods0.0010.0000.000
pileLettersAt0.4040.0230.455
readGAlignments11.156 1.17013.306
sequenceLayer12.101 1.33213.707
setops-methods0.1330.0040.138
stackStringsFromBam1.6190.0531.675
summarizeOverlaps-methods8.8821.5099.220