Back to the "Multiple platform build/check report" A  B  C  D [E] F  G  H  I  J  K  L  M  N  O  P  Q  R  S  T  U  V  W  X  Y  Z 

BioC 3.3: CHECK report for EBImage on morelia

This page was generated on 2015-10-22 17:52:06 -0400 (Thu, 22 Oct 2015).

Package 302/1104HostnameOS / ArchINSTALLBUILDCHECKBUILD BIN
EBImage 4.13.0
Andrzej OleÅ›
Snapshot Date: 2015-10-21 20:20:05 -0400 (Wed, 21 Oct 2015)
URL: https://hedgehog.fhcrc.org/bioconductor/trunk/madman/Rpacks/EBImage
Last Changed Rev: 109592 / Revision: 109826
Last Changed Date: 2015-10-13 15:59:53 -0400 (Tue, 13 Oct 2015)
linux2.bioconductor.org Linux (Ubuntu 14.04.2 LTS) / x86_64  OK  OK  OK UNNEEDED, same version exists in internal repository
windows2.bioconductor.org Windows Server 2012 R2 Enterprise SP1 (64-bit) / x64  OK  OK  OK  OK UNNEEDED, same version exists in internal repository
morelia Mac OS X Mavericks (10.9.5) / x86_64  OK  OK [ OK ] OK UNNEEDED, same version exists in internal repository

Summary

Package: EBImage
Version: 4.13.0
Command: /Library/Frameworks/R.framework/Versions/Current/Resources/bin/R CMD check --no-vignettes --timings EBImage_4.13.0.tar.gz
StartedAt: 2015-10-22 05:37:10 -0400 (Thu, 22 Oct 2015)
EndedAt: 2015-10-22 05:38:25 -0400 (Thu, 22 Oct 2015)
EllapsedTime: 74.2 seconds
RetCode: 0
Status:  OK 
CheckDir: EBImage.Rcheck
Warnings: 0

Command output

##############################################################################
##############################################################################
###
### Running command:
###
###   /Library/Frameworks/R.framework/Versions/Current/Resources/bin/R CMD check --no-vignettes --timings EBImage_4.13.0.tar.gz
###
##############################################################################
##############################################################################


* using log directory ‘/Users/biocbuild/bbs-3.3-bioc/meat/EBImage.Rcheck’
* using R Under development (unstable) (2015-10-08 r69496)
* using platform: x86_64-apple-darwin13.4.0 (64-bit)
* using session charset: UTF-8
* using option ‘--no-vignettes’
* checking for file ‘EBImage/DESCRIPTION’ ... OK
* this is package ‘EBImage’ version ‘4.13.0’
* package encoding: UTF-8
* checking package namespace information ... OK
* checking package dependencies ... OK
* checking if this is a source package ... OK
* checking if there is a namespace ... OK
* checking for hidden files and directories ... OK
* checking for portable file names ... OK
* checking for sufficient/correct file permissions ... OK
* checking whether package ‘EBImage’ can be installed ... [5s/5s] OK
* checking installed package size ... NOTE
  installed size is  7.6Mb
  sub-directories of 1Mb or more:
    doc      5.4Mb
    images   1.7Mb
* checking package directory ... OK
* checking ‘build’ directory ... OK
* checking DESCRIPTION meta-information ... OK
* checking top-level files ... OK
* checking for left-over files ... OK
* checking index information ... OK
* checking package subdirectories ... OK
* checking R files for non-ASCII characters ... OK
* checking R files for syntax errors ... OK
* checking whether the package can be loaded ... OK
* checking whether the package can be loaded with stated dependencies ... OK
* checking whether the package can be unloaded cleanly ... OK
* checking whether the namespace can be loaded with stated dependencies ... OK
* checking whether the namespace can be unloaded cleanly ... OK
* checking dependencies in R code ... OK
* checking S3 generic/method consistency ... OK
* checking replacement functions ... OK
* checking foreign function calls ... OK
* checking R code for possible problems ... OK
* checking Rd files ... OK
* checking Rd metadata ... OK
* checking Rd cross-references ... OK
* checking for missing documentation entries ... OK
* checking for code/documentation mismatches ... OK
* checking Rd \usage sections ... OK
* checking Rd contents ... OK
* checking for unstated dependencies in examples ... OK
* checking line endings in C/C++/Fortran sources/headers ... OK
* checking compiled code ... OK
* checking installed files from ‘inst/doc’ ... OK
* checking files in ‘vignettes’ ... OK
* checking examples ... [31s/35s] OK
Examples with CPU or elapsed time > 5s
         user system elapsed
EBImage 5.359   1.32   8.559
* checking for unstated dependencies in ‘tests’ ... OK
* checking tests ...
  Running ‘test.R’ [3s/5s]
  Comparing ‘test.Rout’ to ‘test.Rout.save’ ...518c518
< checking 'computeFeatures' .................... PASS (2f1272bf9a3428b3) 3989786
---
> checking 'computeFeatures' .................... PASS (607eae59e3423025) 3988895
600c600
< checking 'computeFeatures' .................... PASS (cf78a8f8ee93a443) 746878.2
---
> checking 'computeFeatures' .................... PASS (f17bea67c6db8efa) 746878.2
767c767
< checking 'computeFeatures' .................... PASS (5eaf503a54600569) 749353.1
---
> checking 'computeFeatures' .................... PASS (43ed64a6574660f3) 749353.1
850c850
< checking 'computeFeatures' .................... PASS (b68f1620a082eb3d) 734993.9
---
> checking 'computeFeatures' .................... PASS (5f168ac8bf99f53d) 734993.9
 [4s/5s] OK
* checking for unstated dependencies in vignettes ... OK
* checking package vignettes in ‘inst/doc’ ... OK
* checking running R code from vignettes ... SKIPPED
* checking re-building of vignette outputs ... SKIPPED
* checking PDF version of manual ... OK
* DONE

Status: 1 NOTE
See
  ‘/Users/biocbuild/bbs-3.3-bioc/meat/EBImage.Rcheck/00check.log’
for details.


EBImage.Rcheck/00install.out:

* installing *source* package ‘EBImage’ ...
** libs
clang -I/Library/Frameworks/R.framework/Resources/include -DNDEBUG  -I/usr/local/include -I/usr/local/include/freetype2 -I/opt/X11/include    -fPIC  -Wall -mtune=core2 -g -O2  -c EBImage.c -o EBImage.o
clang -I/Library/Frameworks/R.framework/Resources/include -DNDEBUG  -I/usr/local/include -I/usr/local/include/freetype2 -I/opt/X11/include    -fPIC  -Wall -mtune=core2 -g -O2  -c distmap.c -o distmap.o
clang -I/Library/Frameworks/R.framework/Resources/include -DNDEBUG  -I/usr/local/include -I/usr/local/include/freetype2 -I/opt/X11/include    -fPIC  -Wall -mtune=core2 -g -O2  -c drawCircle.c -o drawCircle.o
clang++ -I/Library/Frameworks/R.framework/Resources/include -DNDEBUG  -I/usr/local/include -I/usr/local/include/freetype2 -I/opt/X11/include    -fPIC  -Wall -mtune=core2 -g -O2  -c floodFill.cpp -o floodFill.o
clang -I/Library/Frameworks/R.framework/Resources/include -DNDEBUG  -I/usr/local/include -I/usr/local/include/freetype2 -I/opt/X11/include    -fPIC  -Wall -mtune=core2 -g -O2  -c haralick.c -o haralick.o
clang -I/Library/Frameworks/R.framework/Resources/include -DNDEBUG  -I/usr/local/include -I/usr/local/include/freetype2 -I/opt/X11/include    -fPIC  -Wall -mtune=core2 -g -O2  -c medianFilter.c -o medianFilter.o
clang -I/Library/Frameworks/R.framework/Resources/include -DNDEBUG  -I/usr/local/include -I/usr/local/include/freetype2 -I/opt/X11/include    -fPIC  -Wall -mtune=core2 -g -O2  -c morphology.c -o morphology.o
morphology.c:59:12: warning: expression result unused [-Wunused-value]
      for (i; i < 0; ++i) {
           ^
morphology.c:62:12: warning: expression result unused [-Wunused-value]
      for (i; i < maxX; ++i) {
           ^
morphology.c:65:12: warning: expression result unused [-Wunused-value]
      for (i; i < size.x + set->maxXoffset; ++i) {
           ^
morphology.c:89:10: warning: expression result unused [-Wunused-value]
    for (i; i < 0; ++i) {
         ^
morphology.c:92:10: warning: expression result unused [-Wunused-value]
    for (i; i < maxX; ++i) {
         ^
morphology.c:95:10: warning: expression result unused [-Wunused-value]
    for (i; i < size.x + set->maxXoffset; ++i) {
         ^
6 warnings generated.
clang -I/Library/Frameworks/R.framework/Resources/include -DNDEBUG  -I/usr/local/include -I/usr/local/include/freetype2 -I/opt/X11/include    -fPIC  -Wall -mtune=core2 -g -O2  -c nativeRaster.c -o nativeRaster.o
nativeRaster.c:38:7: warning: assigning to 'uint32_t *' (aka 'unsigned int *') from 'int *' converts between pointers to integer types with different sign [-Wpointer-sign]
  out = INTEGER(res);
      ^ ˜˜˜˜˜˜˜˜˜˜˜˜
1 warning generated.
clang -I/Library/Frameworks/R.framework/Resources/include -DNDEBUG  -I/usr/local/include -I/usr/local/include/freetype2 -I/opt/X11/include    -fPIC  -Wall -mtune=core2 -g -O2  -c normalize.c -o normalize.o
clang -I/Library/Frameworks/R.framework/Resources/include -DNDEBUG  -I/usr/local/include -I/usr/local/include/freetype2 -I/opt/X11/include    -fPIC  -Wall -mtune=core2 -g -O2  -c objects.c -o objects.o
clang -I/Library/Frameworks/R.framework/Resources/include -DNDEBUG  -I/usr/local/include -I/usr/local/include/freetype2 -I/opt/X11/include    -fPIC  -Wall -mtune=core2 -g -O2  -c ocontour.c -o ocontour.o
clang++ -I/Library/Frameworks/R.framework/Resources/include -DNDEBUG  -I/usr/local/include -I/usr/local/include/freetype2 -I/opt/X11/include    -fPIC  -Wall -mtune=core2 -g -O2  -c propagate.cpp -o propagate.o
clang -I/Library/Frameworks/R.framework/Resources/include -DNDEBUG  -I/usr/local/include -I/usr/local/include/freetype2 -I/opt/X11/include    -fPIC  -Wall -mtune=core2 -g -O2  -c spatial.c -o spatial.o
clang -I/Library/Frameworks/R.framework/Resources/include -DNDEBUG  -I/usr/local/include -I/usr/local/include/freetype2 -I/opt/X11/include    -fPIC  -Wall -mtune=core2 -g -O2  -c thresh.c -o thresh.o
clang -I/Library/Frameworks/R.framework/Resources/include -DNDEBUG  -I/usr/local/include -I/usr/local/include/freetype2 -I/opt/X11/include    -fPIC  -Wall -mtune=core2 -g -O2  -c tile.c -o tile.o
clang -I/Library/Frameworks/R.framework/Resources/include -DNDEBUG  -I/usr/local/include -I/usr/local/include/freetype2 -I/opt/X11/include    -fPIC  -Wall -mtune=core2 -g -O2  -c tools.c -o tools.o
clang++ -I/Library/Frameworks/R.framework/Resources/include -DNDEBUG  -I/usr/local/include -I/usr/local/include/freetype2 -I/opt/X11/include    -fPIC  -Wall -mtune=core2 -g -O2  -c watershed.cpp -o watershed.o
clang++ -dynamiclib -Wl,-headerpad_max_install_names -undefined dynamic_lookup -single_module -multiply_defined suppress -L/Library/Frameworks/R.framework/Resources/lib -L/usr/local/lib -o EBImage.so EBImage.o distmap.o drawCircle.o floodFill.o haralick.o medianFilter.o morphology.o nativeRaster.o normalize.o objects.o ocontour.o propagate.o spatial.o thresh.o tile.o tools.o watershed.o -F/Library/Frameworks/R.framework/.. -framework R -Wl,-framework -Wl,CoreFoundation
installing to /Users/biocbuild/bbs-3.3-bioc/meat/EBImage.Rcheck/EBImage/libs
** R
** inst
** preparing package for lazy loading
** help
*** installing help indices
** building package indices
** installing vignettes
** testing if installed package can be loaded
* DONE (EBImage)

EBImage.Rcheck/EBImage-Ex.timings:

nameusersystemelapsed
EBImage5.3591.3208.559
Image0.3560.0910.448
bwlabel0.9660.2291.196
channel0.5980.2590.857
colorLabels0.0710.0130.085
combine0.7590.6131.373
computeFeatures0.6650.2100.875
display2.0071.0693.076
distmap0.0890.0100.100
drawCircle0.0210.0070.029
equalize0.9750.4831.458
fillHull0.2760.0500.339
filter20.7210.2460.984
floodFill0.1980.0440.243
gblur0.2900.0460.336
io0.6240.1972.263
localCurvature0.4520.2100.662
medianFilter0.7110.1290.840
morphology0.1170.0110.128
normalize0.0200.0080.028
ocontour0.0130.0050.018
otsu0.1650.0380.204
paintObjects1.4770.3111.789
propagate1.2430.1311.375
rmObjects0.1010.0410.143
spatial0.6680.0830.959
stackObjects3.2481.1824.432
thresh0.1780.1250.302
tile0.3250.2620.588
transpose0.1820.0520.234
watershed0.0800.0690.149