DiffBind 1.17.2 Rory Stark
Snapshot Date: 2015-10-26 20:20:04 -0400 (Mon, 26 Oct 2015) | URL: https://hedgehog.fhcrc.org/bioconductor/trunk/madman/Rpacks/DiffBind | Last Changed Rev: 109921 / Revision: 109948 | Last Changed Date: 2015-10-26 09:43:46 -0400 (Mon, 26 Oct 2015) |
| linux2.bioconductor.org | Linux (Ubuntu 14.04.2 LTS) / x86_64 | OK | OK | OK | | ![YES, new version is higher than in internal repository YES, new version is higher than in internal repository](../120px-Green_Light_Icon.svg.png) |
windows2.bioconductor.org | Windows Server 2012 R2 Enterprise SP1 (64-bit) / x64 | OK | OK | OK | [ OK ] | ![YES, new version is higher than in internal repository YES, new version is higher than in internal repository](../120px-Green_Light_Icon.svg.png) |
##############################################################################
##############################################################################
###
### Running command:
###
### cd DiffBind.buildbin-libdir/DiffBind && zip -r ../../DiffBind_1.17.2.zip . & cd ../..
###
##############################################################################
##############################################################################
adding: CITATION (188 bytes security) (deflated 55%)
adding: data/ (208 bytes security) (stored 0%)
adding: data/datalist (188 bytes security) (deflated 29%)
adding: data/tamoxifen_analysis.RData (188 bytes security) (deflated 0%)
adding: data/tamoxifen_counts.RData (188 bytes security) (deflated 0%)
adding: data/tamoxifen_peaks.RData (188 bytes security) (deflated 0%)
adding: DESCRIPTION (188 bytes security) (deflated 40%)
adding: doc/ (208 bytes security) (stored 0%)
adding: doc/DiffBind.pdf (188 bytes security) (deflated 21%)
adding: doc/DiffBind.R (188 bytes security) (deflated 86%)
adding: doc/DiffBind.Rnw (188 bytes security) (deflated 73%)
adding: doc/index.html (188 bytes security) (deflated 58%)
adding: extra/ (208 bytes security) (stored 0%)
adding: extra/config.csv (188 bytes security) (deflated 8%)
adding: extra/DiffBind-Ex.timings (188 bytes security) (deflated 62%)
adding: extra/peaks/ (208 bytes security) (stored 0%)
adding: extra/peaks/BT474_ER_1.bed.gz (188 bytes security) (stored 0%)
adding: extra/peaks/BT474_ER_2.bed.gz (188 bytes security) (stored 0%)
adding: extra/peaks/MCF7_ER_1.bed.gz (188 bytes security) (stored 0%)
adding: extra/peaks/MCF7_ER_2.bed.gz (188 bytes security) (stored 0%)
adding: extra/peaks/MCF7_ER_3.bed.gz (188 bytes security) (stored 0%)
adding: extra/peaks/T47D_ER_1.bed.gz (188 bytes security) (stored 0%)
adding: extra/peaks/T47D_ER_2.bed.gz (188 bytes security) (stored 0%)
adding: extra/peaks/TAMR_ER_1.bed.gz (188 bytes security) (stored 0%)
adding: extra/peaks/TAMR_ER_2.bed.gz (188 bytes security) (stored 0%)
adding: extra/peaks/ZR75_ER_1.bed.gz (188 bytes security) (deflated 0%)
adding: extra/peaks/ZR75_ER_2.bed.gz (188 bytes security) (deflated 0%)
adding: extra/tamoxifen.csv (188 bytes security) (deflated 77%)
adding: extra/tamoxifen_allfields.csv (188 bytes security) (deflated 78%)
adding: extra/tamoxifen_GEO.csv (188 bytes security) (deflated 80%)
adding: extra/tamoxifen_GEO.R (188 bytes security) (deflated 77%)
adding: help/ (208 bytes security) (stored 0%)
adding: help/aliases.rds (188 bytes security) (stored 0%)
adding: help/AnIndex (188 bytes security) (deflated 78%)
adding: help/DiffBind.rdb (188 bytes security) (deflated 1%)
adding: help/DiffBind.rdx (188 bytes security) (stored 0%)
adding: help/paths.rds (188 bytes security) (stored 0%)
adding: html/ (208 bytes security) (stored 0%)
adding: html/00Index.html (188 bytes security) (deflated 87%)
adding: html/R.css (188 bytes security) (deflated 75%)
adding: INDEX (188 bytes security) (deflated 66%)
adding: libs/ (208 bytes security) (stored 0%)
adding: libs/i386/ (208 bytes security) (stored 0%)
adding: libs/i386/DiffBind.dll (188 bytes security) (deflated 62%)
adding: libs/x64/ (208 bytes security) (stored 0%)
adding: libs/x64/DiffBind.dll (188 bytes security) (deflated 66%)
adding: MD5 (188 bytes security) (deflated 48%)
adding: Meta/ (208 bytes security) (stored 0%)
adding: Meta/data.rds (188 bytes security) (stored 0%)
adding: Meta/hsearch.rds (188 bytes security) (stored 0%)
adding: Meta/links.rds (188 bytes security) (stored 0%)
adding: Meta/nsInfo.rds (188 bytes security) (stored 0%)
adding: Meta/package.rds (188 bytes security) (stored 0%)
adding: Meta/Rd.rds (188 bytes security) (stored 0%)
adding: Meta/vignette.rds (188 bytes security) (stored 0%)
adding: NAMESPACE (188 bytes security) (deflated 68%)
adding: NEWS.Rd (188 bytes security) (deflated 66%)
adding: R/ (208 bytes security) (stored 0%)
adding: R/DiffBind (188 bytes security) (deflated 41%)
adding: R/DiffBind.rdb (188 bytes security) (deflated 6%)
adding: R/DiffBind.rdx (188 bytes security) (stored 0%)