Back to the "Multiple platform build/check report" A  B  C [D] E  F  G  H  I  J  K  L  M  N  O  P  Q  R  S  T  U  V  W  X  Y  Z 

BioC 3.3: CHECK report for DEXSeq on morelia

This page was generated on 2015-10-22 17:53:01 -0400 (Thu, 22 Oct 2015).

Package 271/1104HostnameOS / ArchINSTALLBUILDCHECKBUILD BIN
DEXSeq 1.17.0
Alejandro Reyes
Snapshot Date: 2015-10-21 20:20:05 -0400 (Wed, 21 Oct 2015)
URL: https://hedgehog.fhcrc.org/bioconductor/trunk/madman/Rpacks/DEXSeq
Last Changed Rev: 109592 / Revision: 109826
Last Changed Date: 2015-10-13 15:59:53 -0400 (Tue, 13 Oct 2015)
linux2.bioconductor.org Linux (Ubuntu 14.04.2 LTS) / x86_64  OK  OK  OK UNNEEDED, same version exists in internal repository
windows2.bioconductor.org Windows Server 2012 R2 Enterprise SP1 (64-bit) / x64  OK  OK  OK  OK UNNEEDED, same version exists in internal repository
morelia Mac OS X Mavericks (10.9.5) / x86_64  OK  OK [ OK ] OK UNNEEDED, same version exists in internal repository

Summary

Package: DEXSeq
Version: 1.17.0
Command: /Library/Frameworks/R.framework/Versions/Current/Resources/bin/R CMD check --no-vignettes --timings DEXSeq_1.17.0.tar.gz
StartedAt: 2015-10-22 05:23:42 -0400 (Thu, 22 Oct 2015)
EndedAt: 2015-10-22 05:26:58 -0400 (Thu, 22 Oct 2015)
EllapsedTime: 196.6 seconds
RetCode: 0
Status:  OK 
CheckDir: DEXSeq.Rcheck
Warnings: 0

Command output

##############################################################################
##############################################################################
###
### Running command:
###
###   /Library/Frameworks/R.framework/Versions/Current/Resources/bin/R CMD check --no-vignettes --timings DEXSeq_1.17.0.tar.gz
###
##############################################################################
##############################################################################


* using log directory ‘/Users/biocbuild/bbs-3.3-bioc/meat/DEXSeq.Rcheck’
* using R Under development (unstable) (2015-10-08 r69496)
* using platform: x86_64-apple-darwin13.4.0 (64-bit)
* using session charset: UTF-8
* using option ‘--no-vignettes’
* checking for file ‘DEXSeq/DESCRIPTION’ ... OK
* this is package ‘DEXSeq’ version ‘1.17.0’
* checking package namespace information ... OK
* checking package dependencies ... OK
* checking if this is a source package ... OK
* checking if there is a namespace ... OK
* checking for hidden files and directories ... OK
* checking for portable file names ... OK
* checking for sufficient/correct file permissions ... OK
* checking whether package ‘DEXSeq’ can be installed ... [13s/13s] OK
* checking installed package size ... OK
* checking package directory ... OK
* checking ‘build’ directory ... OK
* checking DESCRIPTION meta-information ... OK
* checking top-level files ... OK
* checking for left-over files ... OK
* checking index information ... OK
* checking package subdirectories ... OK
* checking R files for non-ASCII characters ... OK
* checking R files for syntax errors ... OK
* checking whether the package can be loaded ... OK
* checking whether the package can be loaded with stated dependencies ... OK
* checking whether the package can be unloaded cleanly ... OK
* checking whether the namespace can be loaded with stated dependencies ... OK
* checking whether the namespace can be unloaded cleanly ... OK
* checking dependencies in R code ... OK
* checking S3 generic/method consistency ... OK
* checking replacement functions ... OK
* checking foreign function calls ... OK
* checking R code for possible problems ... NOTE
DEXSeqDataSet: no visible global function definition for ‘DataFrame’
estimateExonFoldChanges: no visible global function definition for
  ‘DataFrame’
show.DEXSeqResults: no visible global function definition for
  ‘DataFrame’
show,DEXSeqResults: no visible global function definition for
  ‘DataFrame’
Undefined global functions or variables:
  DataFrame
* checking Rd files ... OK
* checking Rd metadata ... OK
* checking Rd cross-references ... OK
* checking for missing documentation entries ... OK
* checking for code/documentation mismatches ... OK
* checking Rd \usage sections ... OK
* checking Rd contents ... OK
* checking for unstated dependencies in examples ... OK
* checking sizes of PDF files under ‘inst/doc’ ... OK
* checking installed files from ‘inst/doc’ ... OK
* checking files in ‘vignettes’ ... OK
* checking examples ... [75s/74s] OK
Examples with CPU or elapsed time > 5s
                          user system elapsed
estimateExonFoldChanges 25.015  0.549  25.219
DEXSeq                  23.777  0.537  24.021
* checking for unstated dependencies in vignettes ... OK
* checking package vignettes in ‘inst/doc’ ... OK
* checking running R code from vignettes ... SKIPPED
* checking re-building of vignette outputs ... SKIPPED
* checking PDF version of manual ... OK
* DONE

Status: 1 NOTE
See
  ‘/Users/biocbuild/bbs-3.3-bioc/meat/DEXSeq.Rcheck/00check.log’
for details.


DEXSeq.Rcheck/00install.out:

* installing *source* package ‘DEXSeq’ ...
** R
** inst
** preparing package for lazy loading
** help
*** installing help indices
** building package indices
** installing vignettes
** testing if installed package can be loaded
* DONE (DEXSeq)

DEXSeq.Rcheck/DEXSeq-Ex.timings:

nameusersystemelapsed
DEXSeq23.777 0.53724.021
DEXSeqDataSet0.0010.0000.002
DEXSeqHTML0.0010.0000.001
DEXSeqResults3.8270.0613.888
accessors0.0860.0020.089
counts0.0130.0010.015
estimateDispersions3.4140.0123.427
estimateExonFoldChanges25.015 0.54925.219
methods-gr3.5240.0373.560
perGeneQValue3.9280.0183.949
plotDEXSeq0.0010.0000.001
plotMA0.0010.0000.001
testForDEU4.0760.0164.102