Back to the "Multiple platform build/check report" A  B  C [D] E  F  G  H  I  J  K  L  M  N  O  P  Q  R  S  T  U  V  W  X  Y  Z 

BioC 3.3: CHECK report for DEGraph on morelia

This page was generated on 2015-10-22 17:52:51 -0400 (Thu, 22 Oct 2015).

Package 260/1104HostnameOS / ArchINSTALLBUILDCHECKBUILD BIN
DEGraph 1.23.0
Laurent Jacob
Snapshot Date: 2015-10-21 20:20:05 -0400 (Wed, 21 Oct 2015)
URL: https://hedgehog.fhcrc.org/bioconductor/trunk/madman/Rpacks/DEGraph
Last Changed Rev: 109592 / Revision: 109826
Last Changed Date: 2015-10-13 15:59:53 -0400 (Tue, 13 Oct 2015)
linux2.bioconductor.org Linux (Ubuntu 14.04.2 LTS) / x86_64  OK  OK  OK UNNEEDED, same version exists in internal repository
windows2.bioconductor.org Windows Server 2012 R2 Enterprise SP1 (64-bit) / x64  OK  OK  OK  OK UNNEEDED, same version exists in internal repository
morelia Mac OS X Mavericks (10.9.5) / x86_64  OK  OK [ OK ] OK UNNEEDED, same version exists in internal repository

Summary

Package: DEGraph
Version: 1.23.0
Command: /Library/Frameworks/R.framework/Versions/Current/Resources/bin/R CMD check --no-vignettes --timings DEGraph_1.23.0.tar.gz
StartedAt: 2015-10-22 05:16:46 -0400 (Thu, 22 Oct 2015)
EndedAt: 2015-10-22 05:17:58 -0400 (Thu, 22 Oct 2015)
EllapsedTime: 72.6 seconds
RetCode: 0
Status:  OK 
CheckDir: DEGraph.Rcheck
Warnings: 0

Command output

##############################################################################
##############################################################################
###
### Running command:
###
###   /Library/Frameworks/R.framework/Versions/Current/Resources/bin/R CMD check --no-vignettes --timings DEGraph_1.23.0.tar.gz
###
##############################################################################
##############################################################################


* using log directory ‘/Users/biocbuild/bbs-3.3-bioc/meat/DEGraph.Rcheck’
* using R Under development (unstable) (2015-10-08 r69496)
* using platform: x86_64-apple-darwin13.4.0 (64-bit)
* using session charset: UTF-8
* using option ‘--no-vignettes’
* checking for file ‘DEGraph/DESCRIPTION’ ... OK
* this is package ‘DEGraph’ version ‘1.23.0’
* checking package namespace information ... OK
* checking package dependencies ... OK
* checking if this is a source package ... OK
* checking if there is a namespace ... OK
* checking for hidden files and directories ... OK
* checking for portable file names ... OK
* checking for sufficient/correct file permissions ... OK
* checking whether package ‘DEGraph’ can be installed ... [4s/4s] OK
* checking installed package size ... OK
* checking package directory ... OK
* checking ‘build’ directory ... OK
* checking DESCRIPTION meta-information ... NOTE
Packages listed in more than one of Depends, Imports, Suggests, Enhances:
  ‘graph’ ‘KEGGgraph’ ‘lattice’ ‘RBGL’ ‘rrcov’ ‘Rgraphviz’ ‘NCIgraph’
A package should be listed in only one of these fields.
* checking top-level files ... OK
* checking for left-over files ... OK
* checking index information ... OK
* checking package subdirectories ... OK
* checking R files for non-ASCII characters ... OK
* checking R files for syntax errors ... OK
* checking whether the package can be loaded ... OK
* checking whether the package can be loaded with stated dependencies ... OK
* checking whether the package can be unloaded cleanly ... OK
* checking whether the namespace can be loaded with stated dependencies ... OK
* checking whether the namespace can be unloaded cleanly ... OK
* checking dependencies in R code ... NOTE
Package in Depends field not imported from: ‘R.utils’
  These packages need to be imported from (in the NAMESPACE file)
  for when this namespace is loaded but not attached.
Unexported object imported by a ':::' call: ‘graph:::getIndices’
  See the note in ?`:::` about the use of this operator.
* checking S3 generic/method consistency ... OK
* checking replacement functions ... OK
* checking foreign function calls ... OK
* checking R code for possible problems ... NOTE
getConnectedComponentList: no visible binding for global variable
  ‘Arguments’
getConnectedComponentList: no visible global function definition for
  ‘pushState’
getConnectedComponentList: no visible global function definition for
  ‘popState’
getKEGGPathways: no visible binding for global variable ‘Arguments’
getKEGGPathways: no visible global function definition for ‘pushState’
getKEGGPathways: no visible global function definition for ‘popState’
getKEGGPathways: no visible global function definition for
  ‘ProgressBar’
getKEGGPathways: no visible global function definition for ‘reset’
getKEGGPathways : <anonymous>: no visible global function definition
  for ‘increase’
getSignedGraph: no visible binding for global variable ‘Arguments’
getSignedGraph: no visible global function definition for ‘pushState’
getSignedGraph: no visible global function definition for ‘popState’
getSignedGraph: no visible global function definition for ‘enter’
getSignedGraph: no visible global function definition for ‘exit’
hyper.test: no visible binding for global variable ‘Arguments’
hyper.test: no visible global function definition for ‘pushState’
hyper.test: no visible global function definition for ‘popState’
plotValuedGraph: no visible binding for global variable ‘Arguments’
plotValuedGraph: no visible global function definition for ‘pushState’
plotValuedGraph: no visible global function definition for ‘popState’
randomWAMGraph: no visible binding for global variable ‘Arguments’
randomWAMGraph: no visible global function definition for ‘pushState’
randomWAMGraph: no visible global function definition for ‘popState’
testOneConnectedComponent: no visible binding for global variable
  ‘Arguments’
testOneConnectedComponent: no visible global function definition for
  ‘pushState’
testOneConnectedComponent: no visible global function definition for
  ‘popState’
testOneConnectedComponent: no visible global function definition for
  ‘enter’
testOneConnectedComponent: no visible global function definition for
  ‘exit’
testOneGraph: no visible binding for global variable ‘Arguments’
testOneGraph: no visible global function definition for ‘pushState’
testOneGraph: no visible global function definition for ‘popState’
testOneGraph: no visible global function definition for ‘enter’
testOneGraph: no visible global function definition for
  ‘translateNCI2GeneID’
testOneGraph: no visible global function definition for ‘exit’
writeAdjacencyMatrix2KGML: no visible binding for global variable
  ‘Arguments’
writeAdjacencyMatrix2KGML: no visible global function definition for
  ‘pushState’
writeAdjacencyMatrix2KGML: no visible global function definition for
  ‘popState’
Undefined global functions or variables:
  Arguments ProgressBar enter exit increase popState pushState reset
  translateNCI2GeneID
* checking Rd files ... OK
* checking Rd metadata ... OK
* checking Rd cross-references ... OK
* checking for missing documentation entries ... OK
* checking for code/documentation mismatches ... OK
* checking Rd \usage sections ... OK
* checking Rd contents ... OK
* checking for unstated dependencies in examples ... OK
* checking contents of ‘data’ directory ... OK
* checking data for non-ASCII characters ... OK
* checking data for ASCII and uncompressed saves ... OK
* checking sizes of PDF files under ‘inst/doc’ ... OK
* checking installed files from ‘inst/doc’ ... OK
* checking files in ‘vignettes’ ... OK
* checking examples ... [24s/24s] OK
* checking for unstated dependencies in vignettes ... OK
* checking package vignettes in ‘inst/doc’ ... OK
* checking running R code from vignettes ... SKIPPED
* checking re-building of vignette outputs ... SKIPPED
* checking PDF version of manual ... OK
* DONE

Status: 3 NOTEs
See
  ‘/Users/biocbuild/bbs-3.3-bioc/meat/DEGraph.Rcheck/00check.log’
for details.


DEGraph.Rcheck/00install.out:

* installing *source* package ‘DEGraph’ ...
** R
** data
** demo
** inst
** preparing package for lazy loading
** help
*** installing help indices
** building package indices
** installing vignettes
** testing if installed package can be loaded
* DONE (DEGraph)

DEGraph.Rcheck/DEGraph-Ex.timings:

nameusersystemelapsed
AN.test1.9200.0381.993
BS.test2.1090.0352.152
annLoi20080.1490.0060.155
classLoi20080.1440.0050.149
exprLoi20080.1540.0090.164
getConnectedComponentList1.1320.0071.139
getKEGGPathways4.4090.0314.487
getSignedGraph1.1740.0081.182
grListKEGG0.7530.0160.779
graph.T2.test0.8650.0190.884
hyper.test1.9760.0211.998
laplacianFromA0.1780.0080.188
plotValuedGraph3.1590.0333.399
randomWAMGraph0.1560.0060.163
testOneConnectedComponent0.9730.0060.981
testOneGraph2.6310.0182.649
twoSampleFromGraph0.1410.0060.147
writeAdjacencyMatrix2KGML0.1310.0050.136