Back to the "Multiple platform build/check report" A  B  C [D] E  F  G  H  I  J  K  L  M  N  O  P  Q  R  S  T  U  V  W  X  Y  Z 

BioC 3.3: CHECK report for DBChIP on linux2.bioconductor.org

This page was generated on 2015-10-27 12:12:09 -0400 (Tue, 27 Oct 2015).

Package 252/1104HostnameOS / ArchINSTALLBUILDCHECKBUILD BIN
DBChIP 1.15.0
Kun Liang
Snapshot Date: 2015-10-26 20:20:04 -0400 (Mon, 26 Oct 2015)
URL: https://hedgehog.fhcrc.org/bioconductor/trunk/madman/Rpacks/DBChIP
Last Changed Rev: 109592 / Revision: 109948
Last Changed Date: 2015-10-13 15:59:53 -0400 (Tue, 13 Oct 2015)
linux2.bioconductor.org Linux (Ubuntu 14.04.2 LTS) / x86_64  OK  OK [ OK ]UNNEEDED, same version exists in internal repository
windows2.bioconductor.org Windows Server 2012 R2 Enterprise SP1 (64-bit) / x64  OK  OK  OK  OK UNNEEDED, same version exists in internal repository

Summary

Package: DBChIP
Version: 1.15.0
Command: /home/biocbuild/bbs-3.3-bioc/R/bin/R CMD check --no-vignettes --timings DBChIP_1.15.0.tar.gz
StartedAt: 2015-10-27 03:12:47 -0400 (Tue, 27 Oct 2015)
EndedAt: 2015-10-27 03:13:58 -0400 (Tue, 27 Oct 2015)
EllapsedTime: 70.8 seconds
RetCode: 0
Status:  OK 
CheckDir: DBChIP.Rcheck
Warnings: 0

Command output

##############################################################################
##############################################################################
###
### Running command:
###
###   /home/biocbuild/bbs-3.3-bioc/R/bin/R CMD check --no-vignettes --timings DBChIP_1.15.0.tar.gz
###
##############################################################################
##############################################################################


* using log directory ‘/home/biocbuild/bbs-3.3-bioc/meat/DBChIP.Rcheck’
* using R Under development (unstable) (2015-09-09 r69333)
* using platform: x86_64-pc-linux-gnu (64-bit)
* using session charset: UTF-8
* using option ‘--no-vignettes’
* checking for file ‘DBChIP/DESCRIPTION’ ... OK
* checking extension type ... Package
* this is package ‘DBChIP’ version ‘1.15.0’
* checking package namespace information ... OK
* checking package dependencies ... OK
* checking if this is a source package ... OK
* checking if there is a namespace ... OK
* checking for hidden files and directories ... OK
* checking for portable file names ... OK
* checking for sufficient/correct file permissions ... OK
* checking whether package ‘DBChIP’ can be installed ... [5s/5s] OK
* checking installed package size ... OK
* checking package directory ... OK
* checking ‘build’ directory ... OK
* checking DESCRIPTION meta-information ... OK
* checking top-level files ... OK
* checking for left-over files ... OK
* checking index information ... OK
* checking package subdirectories ... OK
* checking R files for non-ASCII characters ... OK
* checking R files for syntax errors ... OK
* checking whether the package can be loaded ... OK
* checking whether the package can be loaded with stated dependencies ... OK
* checking whether the package can be unloaded cleanly ... OK
* checking whether the namespace can be loaded with stated dependencies ... OK
* checking whether the namespace can be unloaded cleanly ... OK
* checking dependencies in R code ... NOTE
'library' or 'require' calls to packages already attached by Depends:
  ‘DESeq’ ‘edgeR’
  Please remove these calls from your code.
'library' or 'require' call to ‘ShortRead’ in package code.
  Please use :: or requireNamespace() instead.
  See section 'Suggested packages' in the 'Writing R Extensions' manual.
* checking S3 generic/method consistency ... OK
* checking replacement functions ... OK
* checking foreign function calls ... OK
* checking R code for possible problems ... NOTE
read.AlignedRead: no visible global function definition for ‘position’
read.AlignedRead: no visible global function definition for ‘strand’
read.AlignedRead: no visible global function definition for ‘width’
read.AlignedRead: no visible global function definition for
  ‘chromosome’
test.diff.binding.DESeq: no visible global function definition for
  ‘pData’
test.diff.binding.DESeq: no visible global function definition for
  ‘pData<-’
test.diff.binding.edgeR: possible error in estimateTagwiseDisp(d,
  prior.n = prior.n, verbose = FALSE): unused argument (prior.n =
  prior.n)
Undefined global functions or variables:
  chromosome pData pData<- position strand width
* checking Rd files ... OK
* checking Rd metadata ... OK
* checking Rd cross-references ... OK
* checking for missing documentation entries ... OK
* checking for code/documentation mismatches ... OK
* checking Rd \usage sections ... OK
* checking Rd contents ... OK
* checking for unstated dependencies in examples ... OK
* checking contents of ‘data’ directory ... OK
* checking data for non-ASCII characters ... OK
* checking data for ASCII and uncompressed saves ... OK
* checking installed files from ‘inst/doc’ ... OK
* checking files in ‘vignettes’ ... OK
* checking examples ... [8s/8s] OK
* checking for unstated dependencies in ‘tests’ ... OK
* checking tests ...
  Running ‘runTests.R’ [4s/4s]
 [4s/4s] OK
* checking for unstated dependencies in vignettes ... OK
* checking package vignettes in ‘inst/doc’ ... OK
* checking running R code from vignettes ... SKIPPED
* checking re-building of vignette outputs ... SKIPPED
* checking PDF version of manual ... OK
* DONE

Status: 2 NOTEs
See
  ‘/home/biocbuild/bbs-3.3-bioc/meat/DBChIP.Rcheck/00check.log’
for details.


DBChIP.Rcheck/00install.out:

* installing *source* package ‘DBChIP’ ...
** R
** data
** inst
** preparing package for lazy loading
** help
*** installing help indices
** building package indices
** installing vignettes
** testing if installed package can be loaded
* DONE (DBChIP)

DBChIP.Rcheck/DBChIP-Ex.timings:

nameusersystemelapsed
DBChIP-package0.9450.0190.966
DBChIP2.4900.0232.522
binding.site.list0.1920.0000.192
chip.data.list0.1880.0040.193
conds0.1840.0040.187
input.data.list0.1860.0040.191
load.data0.4410.0040.445
read.binding.site.list0.1970.0000.197