| Back to the "Multiple platform build/check report" | A B [C] D E F G H I J K L M N O P Q R S T U V W X Y Z |
This page was generated on 2015-10-27 12:16:01 -0400 (Tue, 27 Oct 2015).
| Package 217/1104 | Hostname | OS / Arch | INSTALL | BUILD | CHECK | BUILD BIN | |||||
| ComplexHeatmap 1.7.1 Zuguang Gu
| linux2.bioconductor.org | Linux (Ubuntu 14.04.2 LTS) / x86_64 | OK | OK | OK | ||||||
| windows2.bioconductor.org | Windows Server 2012 R2 Enterprise SP1 (64-bit) / x64 | OK | OK | [ OK ] | OK |
| Package: ComplexHeatmap |
| Version: 1.7.1 |
| Command: rm -rf ComplexHeatmap.buildbin-libdir ComplexHeatmap.Rcheck && mkdir ComplexHeatmap.buildbin-libdir ComplexHeatmap.Rcheck && c:\biocbld\bbs-3.3-bioc\R\bin\R.exe CMD INSTALL --build --merge-multiarch --library=ComplexHeatmap.buildbin-libdir ComplexHeatmap_1.7.1.tar.gz >ComplexHeatmap.Rcheck\00install.out 2>&1 && cp ComplexHeatmap.Rcheck\00install.out ComplexHeatmap-install.out && c:\biocbld\bbs-3.3-bioc\R\bin\R.exe CMD check --library=ComplexHeatmap.buildbin-libdir --install="check:ComplexHeatmap-install.out" --force-multiarch --no-vignettes --timings ComplexHeatmap_1.7.1.tar.gz |
| StartedAt: 2015-10-27 01:37:39 -0400 (Tue, 27 Oct 2015) |
| EndedAt: 2015-10-27 01:39:25 -0400 (Tue, 27 Oct 2015) |
| EllapsedTime: 106.1 seconds |
| RetCode: 0 |
| Status: OK |
| CheckDir: ComplexHeatmap.Rcheck |
| Warnings: 0 |
##############################################################################
##############################################################################
###
### Running command:
###
### rm -rf ComplexHeatmap.buildbin-libdir ComplexHeatmap.Rcheck && mkdir ComplexHeatmap.buildbin-libdir ComplexHeatmap.Rcheck && c:\biocbld\bbs-3.3-bioc\R\bin\R.exe CMD INSTALL --build --merge-multiarch --library=ComplexHeatmap.buildbin-libdir ComplexHeatmap_1.7.1.tar.gz >ComplexHeatmap.Rcheck\00install.out 2>&1 && cp ComplexHeatmap.Rcheck\00install.out ComplexHeatmap-install.out && c:\biocbld\bbs-3.3-bioc\R\bin\R.exe CMD check --library=ComplexHeatmap.buildbin-libdir --install="check:ComplexHeatmap-install.out" --force-multiarch --no-vignettes --timings ComplexHeatmap_1.7.1.tar.gz
###
##############################################################################
##############################################################################
* using log directory 'c:/biocbld/bbs-3.3-bioc/meat/ComplexHeatmap.Rcheck'
* using R Under development (unstable) (2015-09-22 r69418)
* using platform: x86_64-w64-mingw32 (64-bit)
* using session charset: ISO8859-1
* using option '--no-vignettes'
* checking for file 'ComplexHeatmap/DESCRIPTION' ... OK
* checking extension type ... Package
* this is package 'ComplexHeatmap' version '1.7.1'
* checking package namespace information ... OK
* checking package dependencies ... OK
* checking if this is a source package ... OK
* checking if there is a namespace ... OK
* checking for hidden files and directories ... OK
* checking for portable file names ... OK
* checking whether package 'ComplexHeatmap' can be installed ... OK
* checking installed package size ... OK
* checking package directory ... OK
* checking 'build' directory ... OK
* checking DESCRIPTION meta-information ... OK
* checking top-level files ... OK
* checking for left-over files ... OK
* checking index information ... OK
* checking package subdirectories ... OK
* checking R files for non-ASCII characters ... OK
* checking R files for syntax errors ... OK
* loading checks for arch 'i386'
** checking whether the package can be loaded ... OK
** checking whether the package can be loaded with stated dependencies ... OK
** checking whether the package can be unloaded cleanly ... OK
** checking whether the namespace can be loaded with stated dependencies ... OK
** checking whether the namespace can be unloaded cleanly ... OK
* loading checks for arch 'x64'
** checking whether the package can be loaded ... OK
** checking whether the package can be loaded with stated dependencies ... OK
** checking whether the package can be unloaded cleanly ... OK
** checking whether the namespace can be loaded with stated dependencies ... OK
** checking whether the namespace can be unloaded cleanly ... OK
* checking dependencies in R code ... OK
* checking S3 generic/method consistency ... OK
* checking replacement functions ... OK
* checking foreign function calls ... OK
* checking R code for possible problems ... OK
* checking Rd files ... OK
* checking Rd metadata ... OK
* checking Rd cross-references ... OK
* checking for missing documentation entries ... OK
* checking for code/documentation mismatches ... OK
* checking Rd \usage sections ... OK
* checking Rd contents ... OK
* checking for unstated dependencies in examples ... OK
* checking installed files from 'inst/doc' ... OK
* checking files in 'vignettes' ... OK
* checking examples ...
** running examples for arch 'i386' ... [26s] OK
Examples with CPU or elapsed time > 5s
user system elapsed
Heatmap 7.45 0 7.46
** running examples for arch 'x64' ... [32s] OK
Examples with CPU or elapsed time > 5s
user system elapsed
Heatmap 10.52 0.03 10.54
* checking for unstated dependencies in 'tests' ... OK
* checking tests ...
** running tests for arch 'i386' ...
Running 'test-all.R' [1s]
[1s] OK
** running tests for arch 'x64' ...
Running 'test-all.R' [1s]
[1s] OK
* checking for unstated dependencies in vignettes ... OK
* checking package vignettes in 'inst/doc' ... OK
* checking running R code from vignettes ... SKIPPED
* checking re-building of vignette outputs ... SKIPPED
* checking PDF version of manual ... OK
* DONE
Status: OK
ComplexHeatmap.Rcheck/00install.out:
install for i386 * installing *source* package 'ComplexHeatmap' ... ** R ** inst ** preparing package for lazy loading ** help *** installing help indices ** building package indices ** installing vignettes ** testing if installed package can be loaded install for x64 * installing *source* package 'ComplexHeatmap' ... ** testing if installed package can be loaded * MD5 sums packaged installation of 'ComplexHeatmap' as ComplexHeatmap_1.7.1.zip * DONE (ComplexHeatmap)
ComplexHeatmap.Rcheck/examples_i386/ComplexHeatmap-Ex.timings:
| name | user | system | elapsed | |
| AdditiveUnit-class | 0.02 | 0.00 | 0.01 | |
| AdditiveUnit | 0 | 0 | 0 | |
| ColorMapping-class | 0 | 0 | 0 | |
| ColorMapping | 0.01 | 0.00 | 0.02 | |
| ComplexHeatmap-package | 0 | 0 | 0 | |
| Heatmap-class | 0 | 0 | 0 | |
| Heatmap | 7.45 | 0.00 | 7.46 | |
| HeatmapAnnotation-class | 0 | 0 | 0 | |
| HeatmapAnnotation | 0.05 | 0.00 | 0.04 | |
| HeatmapList-class | 3.32 | 0.00 | 3.31 | |
| HeatmapList | 0 | 0 | 0 | |
| SingleAnnotation-class | 0 | 0 | 0 | |
| SingleAnnotation | 0.07 | 0.00 | 0.08 | |
| add.AdditiveUnit | 2.54 | 0.00 | 2.53 | |
| add_heatmap-Heatmap-method | 0.59 | 0.00 | 0.59 | |
| add_heatmap-HeatmapAnnotation-method | 0.23 | 0.00 | 0.24 | |
| add_heatmap-HeatmapList-method | 1.10 | 0.00 | 1.09 | |
| add_heatmap-dispatch | 0 | 0 | 0 | |
| anno_barplot | 0 | 0 | 0 | |
| anno_boxplot | 0.01 | 0.01 | 0.03 | |
| anno_density | 0.19 | 0.00 | 0.19 | |
| anno_histogram | 0.03 | 0.00 | 0.03 | |
| anno_points | 0 | 0 | 0 | |
| anno_text | 0.22 | 0.00 | 0.22 | |
| annotation_legend_size-HeatmapList-method | 0 | 0 | 0 | |
| color_mapping_legend-ColorMapping-method | 0.14 | 0.00 | 0.14 | |
| columnAnnotation | 0 | 0 | 0 | |
| column_anno_barplot | 0 | 0 | 0 | |
| column_anno_boxplot | 0 | 0 | 0 | |
| column_anno_density | 0 | 0 | 0 | |
| column_anno_histogram | 0 | 0 | 0 | |
| column_anno_points | 0 | 0 | 0 | |
| column_anno_text | 0.02 | 0.00 | 0.02 | |
| column_dend-Heatmap-method | 0 | 0 | 0 | |
| column_dend-HeatmapList-method | 0 | 0 | 0 | |
| column_dend-dispatch | 0 | 0 | 0 | |
| column_order-Heatmap-method | 0 | 0 | 0 | |
| column_order-HeatmapList-method | 0 | 0 | 0 | |
| column_order-dispatch | 0 | 0 | 0 | |
| component_height-Heatmap-method | 0 | 0 | 0 | |
| component_height-HeatmapList-method | 0 | 0 | 0 | |
| component_height-dispatch | 0 | 0 | 0 | |
| component_width-Heatmap-method | 0 | 0 | 0 | |
| component_width-HeatmapList-method | 0 | 0 | 0 | |
| component_width-dispatch | 0 | 0 | 0 | |
| decorate_annotation | 0.44 | 0.00 | 0.44 | |
| decorate_column_dend | 0 | 0 | 0 | |
| decorate_column_names | 0 | 0 | 0 | |
| decorate_column_title | 0 | 0 | 0 | |
| decorate_dend | 0.25 | 0.00 | 0.25 | |
| decorate_dimnames | 0.48 | 0.00 | 0.48 | |
| decorate_heatmap_body | 0.39 | 0.00 | 0.39 | |
| decorate_row_dend | 0.00 | 0.02 | 0.02 | |
| decorate_row_names | 0 | 0 | 0 | |
| decorate_row_title | 0 | 0 | 0 | |
| decorate_title | 0.24 | 0.00 | 0.23 | |
| densityHeatmap | 3.12 | 0.00 | 3.13 | |
| dist2 | 0 | 0 | 0 | |
| draw-Heatmap-method | 0.20 | 0.01 | 0.22 | |
| draw-HeatmapAnnotation-method | 0.08 | 0.02 | 0.09 | |
| draw-HeatmapList-method | 0.81 | 0.00 | 0.81 | |
| draw-SingleAnnotation-method | 0.08 | 0.00 | 0.08 | |
| draw-dispatch | 0 | 0 | 0 | |
| draw_annotation-Heatmap-method | 0 | 0 | 0 | |
| draw_annotation_legend-HeatmapList-method | 0 | 0 | 0 | |
| draw_dend-Heatmap-method | 0 | 0 | 0 | |
| draw_dimnames-Heatmap-method | 0 | 0 | 0 | |
| draw_heatmap_body-Heatmap-method | 0 | 0 | 0 | |
| draw_heatmap_legend-HeatmapList-method | 0 | 0 | 0 | |
| draw_heatmap_list-HeatmapList-method | 0 | 0 | 0 | |
| draw_title-Heatmap-method | 0 | 0 | 0 | |
| draw_title-HeatmapList-method | 0 | 0 | 0 | |
| draw_title-dispatch | 0 | 0 | 0 | |
| enhanced_basicplot | 0.9 | 0.0 | 0.9 | |
| get_color_mapping_list-HeatmapAnnotation-method | 0 | 0 | 0 | |
| get_color_mapping_param_list-HeatmapAnnotation-method | 0 | 0 | 0 | |
| grid.dendrogram | 0.02 | 0.00 | 0.02 | |
| heatmap_legend_size-HeatmapList-method | 0 | 0 | 0 | |
| ht_global_opt | 0 | 0 | 0 | |
| is_abs_unit | 0 | 0 | 0 | |
| make_column_cluster-Heatmap-method | 0 | 0 | 0 | |
| make_layout-Heatmap-method | 0 | 0 | 0 | |
| make_layout-HeatmapList-method | 0 | 0 | 0 | |
| make_layout-dispatch | 0 | 0 | 0 | |
| make_row_cluster-Heatmap-method | 0 | 0 | 0 | |
| map_to_colors-ColorMapping-method | 0.02 | 0.01 | 0.03 | |
| max_text_height | 0 | 0 | 0 | |
| max_text_width | 0.01 | 0.00 | 0.02 | |
| oncoPrint | 0 | 0 | 0 | |
| plotDataFrame | 1.94 | 0.00 | 1.93 | |
| prepare-Heatmap-method | 0 | 0 | 0 | |
| rowAnnotation | 0.01 | 0.00 | 0.02 | |
| row_anno_barplot | 0 | 0 | 0 | |
| row_anno_boxplot | 0 | 0 | 0 | |
| row_anno_density | 0 | 0 | 0 | |
| row_anno_histogram | 0 | 0 | 0 | |
| row_anno_points | 0 | 0 | 0 | |
| row_anno_text | 0 | 0 | 0 | |
| row_dend-Heatmap-method | 0 | 0 | 0 | |
| row_dend-HeatmapList-method | 0 | 0 | 0 | |
| row_dend-dispatch | 0 | 0 | 0 | |
| row_order-Heatmap-method | 0.02 | 0.00 | 0.01 | |
| row_order-HeatmapList-method | 0 | 0 | 0 | |
| row_order-dispatch | 0 | 0 | 0 | |
| selectArea | 0 | 0 | 0 | |
| set_component_height-Heatmap-method | 0 | 0 | 0 | |
| show-ColorMapping-method | 0 | 0 | 0 | |
| show-Heatmap-method | 0.52 | 0.00 | 0.52 | |
| show-HeatmapAnnotation-method | 0.01 | 0.00 | 0.02 | |
| show-HeatmapList-method | 0 | 0 | 0 | |
| show-SingleAnnotation-method | 0 | 0 | 0 | |
| show-dispatch | 0 | 0 | 0 | |
| unify_mat_list | 0 | 0 | 0 | |
ComplexHeatmap.Rcheck/examples_x64/ComplexHeatmap-Ex.timings:
| name | user | system | elapsed | |
| AdditiveUnit-class | 0 | 0 | 0 | |
| AdditiveUnit | 0 | 0 | 0 | |
| ColorMapping-class | 0 | 0 | 0 | |
| ColorMapping | 0.03 | 0.00 | 0.03 | |
| ComplexHeatmap-package | 0 | 0 | 0 | |
| Heatmap-class | 0 | 0 | 0 | |
| Heatmap | 10.52 | 0.03 | 10.54 | |
| HeatmapAnnotation-class | 0 | 0 | 0 | |
| HeatmapAnnotation | 0.06 | 0.00 | 0.07 | |
| HeatmapList-class | 3.06 | 0.00 | 3.06 | |
| HeatmapList | 0 | 0 | 0 | |
| SingleAnnotation-class | 0 | 0 | 0 | |
| SingleAnnotation | 0.05 | 0.00 | 0.04 | |
| add.AdditiveUnit | 3.44 | 0.00 | 3.44 | |
| add_heatmap-Heatmap-method | 0.72 | 0.00 | 0.72 | |
| add_heatmap-HeatmapAnnotation-method | 0.31 | 0.00 | 0.31 | |
| add_heatmap-HeatmapList-method | 1.47 | 0.00 | 1.47 | |
| add_heatmap-dispatch | 0 | 0 | 0 | |
| anno_barplot | 0.01 | 0.00 | 0.02 | |
| anno_boxplot | 0.02 | 0.01 | 0.03 | |
| anno_density | 0.30 | 0.02 | 0.31 | |
| anno_histogram | 0.06 | 0.00 | 0.06 | |
| anno_points | 0.01 | 0.00 | 0.02 | |
| anno_text | 0.35 | 0.00 | 0.34 | |
| annotation_legend_size-HeatmapList-method | 0 | 0 | 0 | |
| color_mapping_legend-ColorMapping-method | 0.21 | 0.00 | 0.20 | |
| columnAnnotation | 0.01 | 0.00 | 0.02 | |
| column_anno_barplot | 0 | 0 | 0 | |
| column_anno_boxplot | 0 | 0 | 0 | |
| column_anno_density | 0 | 0 | 0 | |
| column_anno_histogram | 0 | 0 | 0 | |
| column_anno_points | 0 | 0 | 0 | |
| column_anno_text | 0 | 0 | 0 | |
| column_dend-Heatmap-method | 0 | 0 | 0 | |
| column_dend-HeatmapList-method | 0 | 0 | 0 | |
| column_dend-dispatch | 0 | 0 | 0 | |
| column_order-Heatmap-method | 0 | 0 | 0 | |
| column_order-HeatmapList-method | 0 | 0 | 0 | |
| column_order-dispatch | 0 | 0 | 0 | |
| component_height-Heatmap-method | 0 | 0 | 0 | |
| component_height-HeatmapList-method | 0 | 0 | 0 | |
| component_height-dispatch | 0 | 0 | 0 | |
| component_width-Heatmap-method | 0 | 0 | 0 | |
| component_width-HeatmapList-method | 0 | 0 | 0 | |
| component_width-dispatch | 0.02 | 0.00 | 0.01 | |
| decorate_annotation | 0.58 | 0.00 | 0.58 | |
| decorate_column_dend | 0 | 0 | 0 | |
| decorate_column_names | 0 | 0 | 0 | |
| decorate_column_title | 0 | 0 | 0 | |
| decorate_dend | 0.5 | 0.0 | 0.5 | |
| decorate_dimnames | 0.42 | 0.00 | 0.42 | |
| decorate_heatmap_body | 0.36 | 0.00 | 0.36 | |
| decorate_row_dend | 0 | 0 | 0 | |
| decorate_row_names | 0 | 0 | 0 | |
| decorate_row_title | 0 | 0 | 0 | |
| decorate_title | 0.26 | 0.00 | 0.27 | |
| densityHeatmap | 3.68 | 0.00 | 3.67 | |
| dist2 | 0 | 0 | 0 | |
| draw-Heatmap-method | 0.26 | 0.00 | 0.26 | |
| draw-HeatmapAnnotation-method | 0.11 | 0.00 | 0.11 | |
| draw-HeatmapList-method | 0.95 | 0.00 | 0.96 | |
| draw-SingleAnnotation-method | 0.08 | 0.01 | 0.09 | |
| draw-dispatch | 0.02 | 0.00 | 0.01 | |
| draw_annotation-Heatmap-method | 0 | 0 | 0 | |
| draw_annotation_legend-HeatmapList-method | 0 | 0 | 0 | |
| draw_dend-Heatmap-method | 0 | 0 | 0 | |
| draw_dimnames-Heatmap-method | 0 | 0 | 0 | |
| draw_heatmap_body-Heatmap-method | 0 | 0 | 0 | |
| draw_heatmap_legend-HeatmapList-method | 0 | 0 | 0 | |
| draw_heatmap_list-HeatmapList-method | 0 | 0 | 0 | |
| draw_title-Heatmap-method | 0 | 0 | 0 | |
| draw_title-HeatmapList-method | 0 | 0 | 0 | |
| draw_title-dispatch | 0 | 0 | 0 | |
| enhanced_basicplot | 0.78 | 0.00 | 0.79 | |
| get_color_mapping_list-HeatmapAnnotation-method | 0 | 0 | 0 | |
| get_color_mapping_param_list-HeatmapAnnotation-method | 0 | 0 | 0 | |
| grid.dendrogram | 0.01 | 0.00 | 0.01 | |
| heatmap_legend_size-HeatmapList-method | 0 | 0 | 0 | |
| ht_global_opt | 0 | 0 | 0 | |
| is_abs_unit | 0 | 0 | 0 | |
| make_column_cluster-Heatmap-method | 0 | 0 | 0 | |
| make_layout-Heatmap-method | 0 | 0 | 0 | |
| make_layout-HeatmapList-method | 0 | 0 | 0 | |
| make_layout-dispatch | 0 | 0 | 0 | |
| make_row_cluster-Heatmap-method | 0 | 0 | 0 | |
| map_to_colors-ColorMapping-method | 0.02 | 0.00 | 0.01 | |
| max_text_height | 0 | 0 | 0 | |
| max_text_width | 0.02 | 0.00 | 0.01 | |
| oncoPrint | 0 | 0 | 0 | |
| plotDataFrame | 2.59 | 0.00 | 2.60 | |
| prepare-Heatmap-method | 0 | 0 | 0 | |
| rowAnnotation | 0.02 | 0.00 | 0.01 | |
| row_anno_barplot | 0 | 0 | 0 | |
| row_anno_boxplot | 0 | 0 | 0 | |
| row_anno_density | 0 | 0 | 0 | |
| row_anno_histogram | 0 | 0 | 0 | |
| row_anno_points | 0 | 0 | 0 | |
| row_anno_text | 0 | 0 | 0 | |
| row_dend-Heatmap-method | 0 | 0 | 0 | |
| row_dend-HeatmapList-method | 0 | 0 | 0 | |
| row_dend-dispatch | 0 | 0 | 0 | |
| row_order-Heatmap-method | 0 | 0 | 0 | |
| row_order-HeatmapList-method | 0 | 0 | 0 | |
| row_order-dispatch | 0 | 0 | 0 | |
| selectArea | 0 | 0 | 0 | |
| set_component_height-Heatmap-method | 0 | 0 | 0 | |
| show-ColorMapping-method | 0 | 0 | 0 | |
| show-Heatmap-method | 0.45 | 0.01 | 0.47 | |
| show-HeatmapAnnotation-method | 0 | 0 | 0 | |
| show-HeatmapList-method | 0 | 0 | 0 | |
| show-SingleAnnotation-method | 0 | 0 | 0 | |
| show-dispatch | 0 | 0 | 0 | |
| unify_mat_list | 0 | 0 | 0 | |