ChemmineOB 1.9.0 Thomas Girke
Snapshot Date: 2015-10-26 20:20:04 -0400 (Mon, 26 Oct 2015) | URL: https://hedgehog.fhcrc.org/bioconductor/trunk/madman/Rpacks/ChemmineOB | Last Changed Rev: 109592 / Revision: 109948 | Last Changed Date: 2015-10-13 15:59:53 -0400 (Tue, 13 Oct 2015) |
| linux2.bioconductor.org | Linux (Ubuntu 14.04.2 LTS) / x86_64 | [ OK ] | OK | WARNINGS | | ![UNNEEDED, same version exists in internal repository UNNEEDED, same version exists in internal repository](../120px-Blue_Light_Icon.svg.png) |
windows2.bioconductor.org | Windows Server 2012 R2 Enterprise SP1 (64-bit) / x64 | OK | OK | WARNINGS | OK | ![UNNEEDED, same version exists in internal repository UNNEEDED, same version exists in internal repository](../120px-Blue_Light_Icon.svg.png) |
##############################################################################
##############################################################################
###
### Running command:
###
### /home/biocbuild/bbs-3.3-bioc/R/bin/R CMD INSTALL ChemmineOB
###
##############################################################################
##############################################################################
* installing to library ‘/home/biocbuild/bbs-3.3-bioc/R/library’
* installing *source* package ‘ChemmineOB’ ...
checking for pkg-config... /usr/bin/pkg-config
checking pkg-config is at least version 0.9.0... yes
checking for OPENBABEL... yes
checking for OPENBABEL... yes
checking for gcc... gcc -std=gnu99
checking whether the C compiler works... yes
checking for C compiler default output file name... a.out
checking for suffix of executables...
checking whether we are cross compiling... no
checking for suffix of object files... o
checking whether we are using the GNU C compiler... yes
checking whether gcc -std=gnu99 accepts -g... yes
checking for gcc -std=gnu99 option to accept ISO C89... none needed
checking how to run the C preprocessor... gcc -std=gnu99 -E
configure: creating ./config.status
config.status: creating src/Makevars
** libs
g++ -I/home/biocbuild/bbs-3.3-bioc/R/include -DNDEBUG -I/usr/local/include -I"/home/biocbuild/bbs-3.3-bioc/R/library/BH/include" -I"/home/biocbuild/bbs-3.3-bioc/R/library/Rcpp/include" -I/usr/include/openbabel-2.0 -I/usr/include/eigen3 -DUSE_BOOST -fpic -g -O2 -c ChemmineOB.cpp -o ChemmineOB.o
g++ -I/home/biocbuild/bbs-3.3-bioc/R/include -DNDEBUG -I/usr/local/include -I"/home/biocbuild/bbs-3.3-bioc/R/library/BH/include" -I"/home/biocbuild/bbs-3.3-bioc/R/library/Rcpp/include" -I/usr/include/openbabel-2.0 -I/usr/include/eigen3 -DUSE_BOOST -fpic -g -O2 -c canonical.cpp -o canonical.o
g++ -shared -L/home/biocbuild/bbs-3.3-bioc/R/lib -L/usr/local/lib -o ChemmineOB.so ChemmineOB.o canonical.o -lopenbabel -L/home/biocbuild/bbs-3.3-bioc/R/lib -lR
installing to /home/biocbuild/bbs-3.3-bioc/R/library/ChemmineOB/libs
** R
** inst
** preparing package for lazy loading
Creating a generic function for ‘print’ from package ‘base’ in package ‘ChemmineOB’
in method for ‘copyToR’ with signature ‘"_p_std::pair<(unsigned int,unsigned int)>"’: no definition for class “_p_std::pair<(unsigned int,unsigned int)>”
in method for ‘copyToR’ with signature ‘"_p_OpenBabel::DoubleType"’: no definition for class “_p_OpenBabel::DoubleType”
in method for ‘copyToR’ with signature ‘"_p_OpenBabel::CharPtrLess"’: no definition for class “_p_OpenBabel::CharPtrLess”
in method for ‘copyToR’ with signature ‘"_p_OpenBabel::FptIndexHeader"’: no definition for class “_p_OpenBabel::FptIndexHeader”
in method for ‘copyToR’ with signature ‘"_p_OpenBabel::LineSearchType"’: no definition for class “_p_OpenBabel::LineSearchType”
** help
*** installing help indices
** building package indices
** installing vignettes
** testing if installed package can be loaded
* DONE (ChemmineOB)