Back to the "Multiple platform build/check report" A  B [C] D  E  F  G  H  I  J  K  L  M  N  O  P  Q  R  S  T  U  V  W  X  Y  Z 

BioC 3.3: CHECK report for CellNOptR on linux2.bioconductor.org

This page was generated on 2015-10-27 12:12:03 -0400 (Tue, 27 Oct 2015).

Package 149/1104HostnameOS / ArchINSTALLBUILDCHECKBUILD BIN
CellNOptR 1.17.0
T.Cokelaer
Snapshot Date: 2015-10-26 20:20:04 -0400 (Mon, 26 Oct 2015)
URL: https://hedgehog.fhcrc.org/bioconductor/trunk/madman/Rpacks/CellNOptR
Last Changed Rev: 109592 / Revision: 109948
Last Changed Date: 2015-10-13 15:59:53 -0400 (Tue, 13 Oct 2015)
linux2.bioconductor.org Linux (Ubuntu 14.04.2 LTS) / x86_64  OK  OK [ OK ]UNNEEDED, same version exists in internal repository
windows2.bioconductor.org Windows Server 2012 R2 Enterprise SP1 (64-bit) / x64  OK  OK  OK  OK UNNEEDED, same version exists in internal repository

Summary

Package: CellNOptR
Version: 1.17.0
Command: /home/biocbuild/bbs-3.3-bioc/R/bin/R CMD check --no-vignettes --timings CellNOptR_1.17.0.tar.gz
StartedAt: 2015-10-27 02:21:31 -0400 (Tue, 27 Oct 2015)
EndedAt: 2015-10-27 02:23:20 -0400 (Tue, 27 Oct 2015)
EllapsedTime: 108.9 seconds
RetCode: 0
Status:  OK 
CheckDir: CellNOptR.Rcheck
Warnings: 0

Command output

##############################################################################
##############################################################################
###
### Running command:
###
###   /home/biocbuild/bbs-3.3-bioc/R/bin/R CMD check --no-vignettes --timings CellNOptR_1.17.0.tar.gz
###
##############################################################################
##############################################################################


* using log directory ‘/home/biocbuild/bbs-3.3-bioc/meat/CellNOptR.Rcheck’
* using R Under development (unstable) (2015-09-09 r69333)
* using platform: x86_64-pc-linux-gnu (64-bit)
* using session charset: UTF-8
* using option ‘--no-vignettes’
* checking for file ‘CellNOptR/DESCRIPTION’ ... OK
* checking extension type ... Package
* this is package ‘CellNOptR’ version ‘1.17.0’
* checking package namespace information ... OK
* checking package dependencies ... NOTE
Depends: includes the non-default packages:
  ‘RBGL’ ‘graph’ ‘hash’ ‘ggplot2’ ‘RCurl’ ‘Rgraphviz’ ‘XML’
Adding so many packages to the search path is excessive and importing
selectively is preferable.
* checking if this is a source package ... OK
* checking if there is a namespace ... OK
* checking for hidden files and directories ... OK
* checking for portable file names ... OK
* checking for sufficient/correct file permissions ... OK
* checking whether package ‘CellNOptR’ can be installed ... [6s/6s] OK
* checking installed package size ... OK
* checking package directory ... OK
* checking ‘build’ directory ... OK
* checking DESCRIPTION meta-information ... NOTE
Malformed Title field: should not end in a period.
* checking top-level files ... OK
* checking for left-over files ... OK
* checking index information ... OK
* checking package subdirectories ... OK
* checking R files for non-ASCII characters ... OK
* checking R files for syntax errors ... OK
* checking whether the package can be loaded ... OK
* checking whether the package can be loaded with stated dependencies ... OK
* checking whether the package can be unloaded cleanly ... OK
* checking whether the namespace can be loaded with stated dependencies ... OK
* checking whether the namespace can be unloaded cleanly ... OK
* checking dependencies in R code ... NOTE
'library' or 'require' calls to packages already attached by Depends:
  ‘RBGL’ ‘RCurl’ ‘Rgraphviz’ ‘XML’ ‘hash’
  Please remove these calls from your code.
'library' or 'require' call to ‘igraph’ in package code.
  Please use :: or requireNamespace() instead.
  See section 'Suggested packages' in the 'Writing R Extensions' manual.
Packages in Depends field not imported from:
  ‘RCurl’ ‘Rgraphviz’ ‘XML’ ‘ggplot2’ ‘hash’ ‘methods’
  These packages need to be imported from (in the NAMESPACE file)
  for when this namespace is loaded but not attached.
* checking S3 generic/method consistency ... OK
* checking replacement functions ... OK
* checking foreign function calls ... OK
* checking R code for possible problems ... NOTE
CNOdata: no visible global function definition for ‘getURL’
gaBinaryT1: no visible global function definition for ‘hash’
gaBinaryT1 : getObj: no visible global function definition for
  ‘has.key’
gaBinaryT2: no visible global function definition for ‘hash’
gaBinaryT2 : getObj: no visible global function definition for
  ‘has.key’
gaBinaryTN: no visible global function definition for ‘hash’
gaBinaryTN : getObj: no visible global function definition for
  ‘has.key’
model2igraph: no visible global function definition for
  ‘igraph.from.graphNEL’
plotCNOlist2: no visible global function definition for ‘ggplot’
plotCNOlist2: no visible global function definition for ‘aes’
plotCNOlist2: no visible binding for global variable ‘values’
plotCNOlist2: no visible global function definition for ‘geom_point’
plotCNOlist2: no visible global function definition for ‘geom_line’
plotCNOlist2: no visible global function definition for ‘xlab’
plotCNOlist2: no visible global function definition for ‘ylab’
plotCNOlist2: no visible global function definition for ‘facet_grid’
plotCNOlist2: no visible global function definition for ‘theme_bw’
plotCNOlist2: no visible global function definition for ‘theme’
plotCNOlist2: no visible global function definition for ‘element_text’
plotCNOlist2: no visible global function definition for ‘element_rect’
plotCNOlist2: no visible global function definition for ‘ylim’
plotModel: no visible global function definition for ‘layoutGraph’
plotModel: no visible global function definition for ‘renderGraph’
plotModel: no visible global function definition for ‘toDot’
readSBMLQual: no visible global function definition for ‘xmlTreeParse’
readSBMLQual: no visible global function definition for ‘xmlRoot’
readSBMLQual: no visible global function definition for ‘xmlChildren’
readSBMLQual: no visible global function definition for ‘xmlApply’
readSBMLQual : <anonymous>: no visible global function definition for
  ‘xmlGetAttr’
Undefined global functions or variables:
  aes element_rect element_text facet_grid geom_line geom_point getURL
  ggplot has.key hash igraph.from.graphNEL layoutGraph renderGraph
  theme theme_bw toDot values xlab xmlApply xmlChildren xmlGetAttr
  xmlRoot xmlTreeParse ylab ylim
* checking Rd files ... OK
* checking Rd metadata ... OK
* checking Rd cross-references ... OK
* checking for missing documentation entries ... OK
* checking for code/documentation mismatches ... OK
* checking Rd \usage sections ... OK
* checking Rd contents ... OK
* checking for unstated dependencies in examples ... OK
* checking contents of ‘data’ directory ... OK
* checking data for non-ASCII characters ... OK
* checking data for ASCII and uncompressed saves ... OK
* checking line endings in C/C++/Fortran sources/headers ... OK
* checking line endings in Makefiles ... OK
* checking compilation flags in Makevars ... OK
* checking for GNU extensions in Makefiles ... OK
* checking for portable use of $(BLAS_LIBS) and $(LAPACK_LIBS) ... OK
* checking compiled code ... OK
* checking installed files from ‘inst/doc’ ... OK
* checking files in ‘vignettes’ ... OK
* checking examples ... [16s/18s] OK
* checking for unstated dependencies in ‘tests’ ... OK
* checking tests ...
  Running ‘test_gaBinaryT1.R’ [4s/4s]
  Running ‘test_gaBinaryT2.R’ [4s/4s]
  Running ‘test_gaBinaryT3.R’ [6s/6s]
  Running ‘test_manySteadyStates.R’ [9s/9s]
  Running ‘test_priorBitString.R’ [2s/2s]
  Running ‘test_simulateTN.R’ [3s/3s]
 [29s/29s] OK
* checking for unstated dependencies in vignettes ... OK
* checking package vignettes in ‘inst/doc’ ... OK
* checking running R code from vignettes ... SKIPPED
* checking re-building of vignette outputs ... SKIPPED
* checking PDF version of manual ... OK
* DONE

Status: 4 NOTEs
See
  ‘/home/biocbuild/bbs-3.3-bioc/meat/CellNOptR.Rcheck/00check.log’
for details.


CellNOptR.Rcheck/00install.out:

* installing *source* package ‘CellNOptR’ ...
** libs
gcc -std=gnu99 -I/home/biocbuild/bbs-3.3-bioc/R/include -DNDEBUG  -I/usr/local/include   -I./include  -fpic  -g -O2  -c getFit.c -o getFit.o
gcc -std=gnu99 -I/home/biocbuild/bbs-3.3-bioc/R/include -DNDEBUG  -I/usr/local/include   -I./include  -fpic  -g -O2  -c simulatorT1.c -o simulatorT1.o
gcc -std=gnu99 -I/home/biocbuild/bbs-3.3-bioc/R/include -DNDEBUG  -I/usr/local/include   -I./include  -fpic  -g -O2  -c simulatorTN.c -o simulatorTN.o
gcc -std=gnu99 -shared -L/home/biocbuild/bbs-3.3-bioc/R/lib -L/usr/local/lib -o CellNOptR.so getFit.o simulatorT1.o simulatorTN.o -L/home/biocbuild/bbs-3.3-bioc/R/lib -lR
installing to /home/biocbuild/bbs-3.3-bioc/meat/CellNOptR.Rcheck/CellNOptR/libs
** R
** data
** inst
** preparing package for lazy loading
** help
*** installing help indices
** building package indices
** installing vignettes
** testing if installed package can be loaded
* DONE (CellNOptR)

CellNOptR.Rcheck/CellNOptR-Ex.timings:

nameusersystemelapsed
CNORbool2.2310.0322.266