CNEr 1.7.0 Ge Tan
Snapshot Date: 2015-10-26 20:20:04 -0400 (Mon, 26 Oct 2015) | URL: https://hedgehog.fhcrc.org/bioconductor/trunk/madman/Rpacks/CNEr | Last Changed Rev: 109592 / Revision: 109948 | Last Changed Date: 2015-10-13 15:59:53 -0400 (Tue, 13 Oct 2015) |
| linux2.bioconductor.org | Linux (Ubuntu 14.04.2 LTS) / x86_64 | OK | OK | WARNINGS | | ![UNNEEDED, same version exists in internal repository UNNEEDED, same version exists in internal repository](../120px-Blue_Light_Icon.svg.png) |
windows2.bioconductor.org | Windows Server 2012 R2 Enterprise SP1 (64-bit) / x64 | OK | OK | WARNINGS | [ OK ] | ![UNNEEDED, same version exists in internal repository UNNEEDED, same version exists in internal repository](../120px-Blue_Light_Icon.svg.png) |
##############################################################################
##############################################################################
###
### Running command:
###
### cd CNEr.buildbin-libdir/CNEr && zip -r ../../CNEr_1.7.0.zip . & cd ../..
###
##############################################################################
##############################################################################
adding: CNErBuild/ (208 bytes security) (stored 0%)
adding: CNErBuild/CNEr.R (188 bytes security) (deflated 75%)
adding: CNErBuild/demo.R (188 bytes security) (deflated 69%)
adding: CNErBuild/horizonPlot.R (188 bytes security) (deflated 55%)
adding: data/ (208 bytes security) (stored 0%)
adding: data/axisTrack.rda (188 bytes security) (stored 0%)
adding: data/axtDanRer7Hg19.rda (188 bytes security) (deflated 0%)
adding: data/axtHg19DanRer7.rda (188 bytes security) (deflated 0%)
adding: data/cneBlatedDanRer7Hg19.rda (188 bytes security) (deflated 0%)
adding: data/CNEDanRer7Hg19.rda (188 bytes security) (deflated 0%)
adding: data/CNEHg19DanRer7.rda (188 bytes security) (deflated 0%)
adding: data/cneHg19DanRer7_45_50.rda (188 bytes security) (deflated 20%)
adding: data/cneHg19DanRer7_48_50.rda (188 bytes security) (deflated 21%)
adding: data/cneHg19DanRer7_49_50.rda (188 bytes security) (deflated 20%)
adding: data/cpgIslands.rda (188 bytes security) (stored 0%)
adding: data/finalCNE.rda (188 bytes security) (stored 0%)
adding: data/ideoTrack.rda (188 bytes security) (deflated 1%)
adding: data/qSizesDanRer7.rda (188 bytes security) (deflated 1%)
adding: data/qSizesHg19.rda (188 bytes security) (stored 0%)
adding: data/refGenes.rda (188 bytes security) (stored 0%)
adding: DESCRIPTION (188 bytes security) (deflated 43%)
adding: doc/ (208 bytes security) (stored 0%)
adding: doc/CNEr.html (188 bytes security) (deflated 61%)
adding: doc/CNEr.Rmd (188 bytes security) (deflated 68%)
adding: doc/index.html (188 bytes security) (deflated 56%)
adding: extdata/ (208 bytes security) (stored 0%)
adding: extdata/cne.sqlite (188 bytes security) (deflated 55%)
adding: extdata/danRer7.hg19.net.axt (188 bytes security) (deflated 71%)
adding: extdata/filter_regions.danRer7.bed (188 bytes security) (deflated 74%)
adding: extdata/filter_regions.hg19.bed (188 bytes security) (deflated 77%)
adding: extdata/hg19.danRer7.net.axt (188 bytes security) (deflated 69%)
adding: help/ (208 bytes security) (stored 0%)
adding: help/aliases.rds (188 bytes security) (stored 0%)
adding: help/AnIndex (188 bytes security) (deflated 77%)
adding: help/CNEr.rdb (188 bytes security) (deflated 2%)
adding: help/CNEr.rdx (188 bytes security) (stored 0%)
adding: help/paths.rds (188 bytes security) (stored 0%)
adding: html/ (208 bytes security) (stored 0%)
adding: html/00Index.html (188 bytes security) (deflated 85%)
adding: html/R.css (188 bytes security) (deflated 75%)
adding: INDEX (188 bytes security) (deflated 63%)
adding: libs/ (208 bytes security) (stored 0%)
adding: libs/i386/ (208 bytes security) (stored 0%)
adding: libs/i386/CNEr.dll (188 bytes security) (deflated 54%)
adding: libs/x64/ (208 bytes security) (stored 0%)
adding: libs/x64/CNEr.dll (188 bytes security) (deflated 54%)
adding: LICENSE (188 bytes security) (deflated 44%)
adding: MD5 (188 bytes security) (deflated 46%)
adding: Meta/ (208 bytes security) (stored 0%)
adding: Meta/data.rds (188 bytes security) (stored 0%)
adding: Meta/hsearch.rds (188 bytes security) (stored 0%)
adding: Meta/links.rds (188 bytes security) (stored 0%)
adding: Meta/nsInfo.rds (188 bytes security) (stored 0%)
adding: Meta/package.rds (188 bytes security) (stored 0%)
adding: Meta/Rd.rds (188 bytes security) (stored 0%)
adding: Meta/vignette.rds (188 bytes security) (stored 0%)
adding: NAMESPACE (188 bytes security) (deflated 68%)
adding: obsolete/ (208 bytes security) (stored 0%)
adding: obsolete/ceScan.r (188 bytes security) (deflated 67%)
adding: obsolete/ceScanR.r (188 bytes security) (deflated 69%)
adding: obsolete/class.r (188 bytes security) (deflated 74%)
adding: obsolete/CNEr.Rnw (188 bytes security) (deflated 69%)
adding: obsolete/src/ (208 bytes security) (stored 0%)
adding: obsolete/src/ceScan.c (188 bytes security) (deflated 68%)
adding: obsolete/src/ceScanBranch1.c (188 bytes security) (deflated 73%)
adding: obsolete/src/ceScanBranch2.c (188 bytes security) (deflated 72%)
adding: obsolete/src/compile (188 bytes security) (deflated 92%)
adding: R/ (208 bytes security) (stored 0%)
adding: R/CNEr (188 bytes security) (deflated 41%)
adding: R/CNEr.rdb (188 bytes security) (deflated 33%)
adding: R/CNEr.rdx (188 bytes security) (deflated 1%)
adding: scripts/ (208 bytes security) (stored 0%)
adding: scripts/pipeline.r (188 bytes security) (deflated 60%)
adding: scripts/prepareFiles.r (188 bytes security) (deflated 64%)
adding: scripts/usePrecomputed.r (188 bytes security) (deflated 42%)
adding: unitTests/ (208 bytes security) (stored 0%)
adding: unitTests/test_reverseCigar.R (188 bytes security) (deflated 57%)
adding: unitTests/test_subAxt.R (188 bytes security) (deflated 53%)