Back to the "Multiple platform build/check report" A  B [C] D  E  F  G  H  I  J  K  L  M  N  O  P  Q  R  S  T  U  V  W  X  Y  Z 

BioC 3.3: BUILD BIN report for CGHbase on morelia

This page was generated on 2015-10-22 17:52:26 -0400 (Thu, 22 Oct 2015).

Package 153/1104HostnameOS / ArchINSTALLBUILDCHECKBUILD BIN
CGHbase 1.31.0
Mark van de Wiel
Snapshot Date: 2015-10-21 20:20:05 -0400 (Wed, 21 Oct 2015)
URL: https://hedgehog.fhcrc.org/bioconductor/trunk/madman/Rpacks/CGHbase
Last Changed Rev: 109592 / Revision: 109826
Last Changed Date: 2015-10-13 15:59:53 -0400 (Tue, 13 Oct 2015)
linux2.bioconductor.org Linux (Ubuntu 14.04.2 LTS) / x86_64  OK  OK  OK UNNEEDED, same version exists in internal repository
windows2.bioconductor.org Windows Server 2012 R2 Enterprise SP1 (64-bit) / x64  OK  OK  OK  OK UNNEEDED, same version exists in internal repository
morelia Mac OS X Mavericks (10.9.5) / x86_64  OK  OK  OK [ OK ]UNNEEDED, same version exists in internal repository

Summary

Package: CGHbase
Version: 1.31.0
Command: rm -rf CGHbase.buildbin-libdir && mkdir CGHbase.buildbin-libdir && /Users/biocbuild/BBS/utils/build-universal.sh CGHbase_1.31.0.tar.gz /Library/Frameworks/R.framework/Versions/Current/Resources/bin/R CGHbase.buildbin-libdir
StartedAt: 2015-10-22 13:05:52 -0400 (Thu, 22 Oct 2015)
EndedAt: 2015-10-22 13:06:29 -0400 (Thu, 22 Oct 2015)
EllapsedTime: 37.2 seconds
RetCode: 0
Status:  OK 
PackageFile: CGHbase_1.31.0.tgz
PackageFileSize: 982.5 KiB

Command output

##############################################################################
##############################################################################
###
### Running command:
###
###   rm -rf CGHbase.buildbin-libdir && mkdir CGHbase.buildbin-libdir && /Users/biocbuild/BBS/utils/build-universal.sh CGHbase_1.31.0.tar.gz /Library/Frameworks/R.framework/Versions/Current/Resources/bin/R CGHbase.buildbin-libdir
###
##############################################################################
##############################################################################


>>>>>>> 
>>>>>>> INSTALLATION WITH 'R CMD INSTALL --preclean --no-multiarch --library=CGHbase.buildbin-libdir CGHbase_1.31.0.tar.gz'
>>>>>>> 

* installing *source* package ‘CGHbase’ ...
** R
** data
** preparing package for lazy loading
** help
*** installing help indices
** building package indices
** testing if installed package can be loaded
* DONE (CGHbase)