| BufferedMatrix 1.35.0 Benjamin Milo Bolstad
 
 | Snapshot Date: 2015-10-26 20:20:04 -0400 (Mon, 26 Oct 2015) |  | URL: https://hedgehog.fhcrc.org/bioconductor/trunk/madman/Rpacks/BufferedMatrix |  | Last Changed Rev: 109592 / Revision: 109948 |  | Last Changed Date: 2015-10-13 15:59:53 -0400 (Tue, 13 Oct 2015) | 
 | linux2.bioconductor.org | Linux (Ubuntu 14.04.2 LTS) / x86_64 | OK | OK | OK |  |  | 
| windows2.bioconductor.org | Windows Server 2012 R2 Enterprise SP1 (64-bit) / x64 | OK | OK | OK | [ OK ] |  | 
##############################################################################
##############################################################################
###
### Running command:
###
###   cd BufferedMatrix.buildbin-libdir/BufferedMatrix && zip -r ../../BufferedMatrix_1.35.0.zip . & cd ../..
###
##############################################################################
##############################################################################
  adding: DESCRIPTION (188 bytes security) (deflated 40%)
  adding: doc/ (208 bytes security) (stored 0%)
  adding: doc/BufferedMatrix.pdf (188 bytes security) (deflated 11%)
  adding: doc/BufferedMatrix.R (188 bytes security) (deflated 83%)
  adding: doc/BufferedMatrix.Rnw (188 bytes security) (deflated 68%)
  adding: doc/index.html (188 bytes security) (deflated 60%)
  adding: help/ (208 bytes security) (stored 0%)
  adding: help/aliases.rds (188 bytes security) (stored 0%)
  adding: help/AnIndex (188 bytes security) (deflated 89%)
  adding: help/BufferedMatrix.rdb (188 bytes security) (deflated 2%)
  adding: help/BufferedMatrix.rdx (188 bytes security) (stored 0%)
  adding: help/paths.rds (188 bytes security) (stored 0%)
  adding: html/ (208 bytes security) (stored 0%)
  adding: html/00Index.html (188 bytes security) (deflated 91%)
  adding: html/R.css (188 bytes security) (deflated 75%)
  adding: include/ (208 bytes security) (stored 0%)
  adding: include/doubleBufferedMatrix.h (188 bytes security) (deflated 81%)
  adding: include/doubleBufferedMatrix_stubs.c (188 bytes security) (deflated 91%)
  adding: INDEX (188 bytes security) (deflated 50%)
  adding: libs/ (208 bytes security) (stored 0%)
  adding: libs/i386/ (208 bytes security) (stored 0%)
  adding: libs/i386/BufferedMatrix.dll (188 bytes security) (deflated 62%)
  adding: libs/x64/ (208 bytes security) (stored 0%)
  adding: libs/x64/BufferedMatrix.dll (188 bytes security) (deflated 57%)
  adding: MD5 (188 bytes security) (deflated 46%)
  adding: Meta/ (208 bytes security) (stored 0%)
  adding: Meta/hsearch.rds (188 bytes security) (stored 0%)
  adding: Meta/links.rds (188 bytes security) (stored 0%)
  adding: Meta/nsInfo.rds (188 bytes security) (stored 0%)
  adding: Meta/package.rds (188 bytes security) (stored 0%)
  adding: Meta/Rd.rds (188 bytes security) (stored 0%)
  adding: Meta/vignette.rds (188 bytes security) (stored 0%)
  adding: NAMESPACE (188 bytes security) (deflated 54%)
  adding: R/ (208 bytes security) (stored 0%)
  adding: R/BufferedMatrix (188 bytes security) (deflated 41%)
  adding: R/BufferedMatrix.rdb (188 bytes security) (deflated 38%)
  adding: R/BufferedMatrix.rdx (188 bytes security) (deflated 3%)