Back to the "Multiple platform build/check report" A [B] C  D  E  F  G  H  I  J  K  L  M  N  O  P  Q  R  S  T  U  V  W  X  Y  Z 

BioC 3.3: INSTALL report for BiocInstaller on morelia

This page was generated on 2015-10-22 17:52:59 -0400 (Thu, 22 Oct 2015).

Package 99/1104HostnameOS / ArchINSTALLBUILDCHECKBUILD BIN
BiocInstaller 1.21.1
Bioconductor Package Maintainer
Snapshot Date: 2015-10-21 20:20:05 -0400 (Wed, 21 Oct 2015)
URL: https://hedgehog.fhcrc.org/bioconductor/trunk/madman/Rpacks/BiocInstaller
Last Changed Rev: 109625 / Revision: 109826
Last Changed Date: 2015-10-14 15:15:32 -0400 (Wed, 14 Oct 2015)
linux2.bioconductor.org Linux (Ubuntu 14.04.2 LTS) / x86_64  OK  OK  OK UNNEEDED, same version exists in internal repository
windows2.bioconductor.org Windows Server 2012 R2 Enterprise SP1 (64-bit) / x64  OK  OK  OK  OK UNNEEDED, same version exists in internal repository
morelia Mac OS X Mavericks (10.9.5) / x86_64 [ OK ] OK  OK  OK UNNEEDED, same version exists in internal repository

Summary

Package: BiocInstaller
Version: 1.21.1
Command: /Library/Frameworks/R.framework/Versions/Current/Resources/bin/R CMD INSTALL BiocInstaller
StartedAt: 2015-10-21 21:11:15 -0400 (Wed, 21 Oct 2015)
EndedAt: 2015-10-21 21:11:18 -0400 (Wed, 21 Oct 2015)
EllapsedTime: 3.4 seconds
RetCode: 0
Status:  OK 

Command output

##############################################################################
##############################################################################
###
### Running command:
###
###   /Library/Frameworks/R.framework/Versions/Current/Resources/bin/R CMD INSTALL BiocInstaller
###
##############################################################################
##############################################################################


* installing to library ‘/Library/Frameworks/R.framework/Versions/3.3/Resources/library’
* installing *source* package ‘BiocInstaller’ ...
** R
** inst
** preparing package for lazy loading
** help
*** installing help indices
** building package indices
** testing if installed package can be loaded
Bioconductor version 3.3 (BiocInstaller 1.21.1), ?biocLite for help
* DONE (BiocInstaller)