Back to the "Multiple platform build/check report" A [B] C  D  E  F  G  H  I  J  K  L  M  N  O  P  Q  R  S  T  U  V  W  X  Y  Z 

BioC 3.3: CHECK report for BiocGenerics on morelia

This page was generated on 2015-10-22 17:53:13 -0400 (Thu, 22 Oct 2015).

Package 97/1104HostnameOS / ArchINSTALLBUILDCHECKBUILD BIN
BiocGenerics 0.17.0
Bioconductor Package Maintainer
Snapshot Date: 2015-10-21 20:20:05 -0400 (Wed, 21 Oct 2015)
URL: https://hedgehog.fhcrc.org/bioconductor/trunk/madman/Rpacks/BiocGenerics
Last Changed Rev: 109592 / Revision: 109826
Last Changed Date: 2015-10-13 15:59:53 -0400 (Tue, 13 Oct 2015)
linux2.bioconductor.org Linux (Ubuntu 14.04.2 LTS) / x86_64  OK  OK  OK UNNEEDED, same version exists in internal repository
windows2.bioconductor.org Windows Server 2012 R2 Enterprise SP1 (64-bit) / x64  OK  OK  OK  OK UNNEEDED, same version exists in internal repository
morelia Mac OS X Mavericks (10.9.5) / x86_64  OK  OK [ OK ] OK UNNEEDED, same version exists in internal repository

Summary

Package: BiocGenerics
Version: 0.17.0
Command: /Library/Frameworks/R.framework/Versions/Current/Resources/bin/R CMD check --no-vignettes --timings BiocGenerics_0.17.0.tar.gz
StartedAt: 2015-10-22 03:49:06 -0400 (Thu, 22 Oct 2015)
EndedAt: 2015-10-22 03:49:51 -0400 (Thu, 22 Oct 2015)
EllapsedTime: 44.6 seconds
RetCode: 0
Status:  OK 
CheckDir: BiocGenerics.Rcheck
Warnings: 0

Command output

##############################################################################
##############################################################################
###
### Running command:
###
###   /Library/Frameworks/R.framework/Versions/Current/Resources/bin/R CMD check --no-vignettes --timings BiocGenerics_0.17.0.tar.gz
###
##############################################################################
##############################################################################


* using log directory ‘/Users/biocbuild/bbs-3.3-bioc/meat/BiocGenerics.Rcheck’
* using R Under development (unstable) (2015-10-08 r69496)
* using platform: x86_64-apple-darwin13.4.0 (64-bit)
* using session charset: UTF-8
* using option ‘--no-vignettes’
* checking for file ‘BiocGenerics/DESCRIPTION’ ... OK
* this is package ‘BiocGenerics’ version ‘0.17.0’
* checking package namespace information ... OK
* checking package dependencies ... OK
* checking if this is a source package ... OK
* checking if there is a namespace ... OK
* checking for hidden files and directories ... OK
* checking for portable file names ... OK
* checking for sufficient/correct file permissions ... OK
* checking whether package ‘BiocGenerics’ can be installed ... [3s/3s] OK
* checking installed package size ... OK
* checking package directory ... OK
* checking DESCRIPTION meta-information ... NOTE
Packages listed in more than one of Depends, Imports, Suggests, Enhances:
  ‘methods’ ‘utils’ ‘graphics’ ‘stats’ ‘parallel’
A package should be listed in only one of these fields.
* checking top-level files ... OK
* checking for left-over files ... OK
* checking index information ... OK
* checking package subdirectories ... OK
* checking R files for non-ASCII characters ... OK
* checking R files for syntax errors ... OK
* checking whether the package can be loaded ... OK
* checking whether the package can be loaded with stated dependencies ... OK
* checking whether the package can be unloaded cleanly ... OK
* checking whether the namespace can be loaded with stated dependencies ... OK
* checking whether the namespace can be unloaded cleanly ... OK
* checking dependencies in R code ... NOTE
'library' or 'require' call to ‘RUnit’ in package code.
  Please use :: or requireNamespace() instead.
  See section 'Suggested packages' in the 'Writing R Extensions' manual.
* checking S3 generic/method consistency ... OK
* checking replacement functions ... OK
* checking foreign function calls ... OK
* checking R code for possible problems ... OK
* checking Rd files ... OK
* checking Rd metadata ... OK
* checking Rd cross-references ... OK
* checking for missing documentation entries ... OK
* checking for code/documentation mismatches ... OK
* checking Rd \usage sections ... NOTE
S3 methods shown with full name in documentation object 'rep':
  ‘rep.int’

The \usage entries for S3 methods should use the \method markup and not
their full name.
See chapter ‘Writing R documentation files’ in the ‘Writing R
Extensions’ manual.
* checking Rd contents ... OK
* checking for unstated dependencies in examples ... OK
* checking examples ... [15s/15s] OK
* checking for unstated dependencies in ‘tests’ ... OK
* checking tests ...
  Running ‘BiocGenerics_unit_tests.R’ [1s/1s]
 [1s/1s] OK
* checking PDF version of manual ... OK
* DONE

Status: 3 NOTEs
See
  ‘/Users/biocbuild/bbs-3.3-bioc/meat/BiocGenerics.Rcheck/00check.log’
for details.


BiocGenerics.Rcheck/00install.out:

* installing *source* package ‘BiocGenerics’ ...
** R
** inst
** preparing package for lazy loading
Creating a new generic function for ‘append’ in package ‘BiocGenerics’
Creating a new generic function for ‘as.data.frame’ in package ‘BiocGenerics’
Creating a new generic function for ‘as.vector’ in package ‘BiocGenerics’
Creating a new generic function for ‘cbind’ in package ‘BiocGenerics’
Creating a new generic function for ‘rbind’ in package ‘BiocGenerics’
Creating a new generic function for ‘do.call’ in package ‘BiocGenerics’
Creating a new generic function for ‘duplicated’ in package ‘BiocGenerics’
Creating a new generic function for ‘anyDuplicated’ in package ‘BiocGenerics’
Creating a new generic function for ‘eval’ in package ‘BiocGenerics’
Creating a new generic function for ‘pmax’ in package ‘BiocGenerics’
Creating a new generic function for ‘pmin’ in package ‘BiocGenerics’
Creating a new generic function for ‘pmax.int’ in package ‘BiocGenerics’
Creating a new generic function for ‘pmin.int’ in package ‘BiocGenerics’
Creating a new generic function for ‘Reduce’ in package ‘BiocGenerics’
Creating a new generic function for ‘Filter’ in package ‘BiocGenerics’
Creating a new generic function for ‘Find’ in package ‘BiocGenerics’
Creating a new generic function for ‘Map’ in package ‘BiocGenerics’
Creating a new generic function for ‘Position’ in package ‘BiocGenerics’
Creating a new generic function for ‘get’ in package ‘BiocGenerics’
Creating a new generic function for ‘mget’ in package ‘BiocGenerics’
Creating a new generic function for ‘grep’ in package ‘BiocGenerics’
Creating a new generic function for ‘grepl’ in package ‘BiocGenerics’
Creating a new generic function for ‘IQR’ in package ‘BiocGenerics’
Creating a new generic function for ‘is.unsorted’ in package ‘BiocGenerics’
Creating a new generic function for ‘lapply’ in package ‘BiocGenerics’
Creating a new generic function for ‘sapply’ in package ‘BiocGenerics’
Creating a new generic function for ‘lengths’ in package ‘BiocGenerics’
Creating a new generic function for ‘mad’ in package ‘BiocGenerics’
Creating a new generic function for ‘mapply’ in package ‘BiocGenerics’
Creating a new generic function for ‘match’ in package ‘BiocGenerics’
Creating a new generic function for ‘order’ in package ‘BiocGenerics’
Creating a new generic function for ‘paste’ in package ‘BiocGenerics’
Creating a new generic function for ‘rank’ in package ‘BiocGenerics’
Creating a new generic function for ‘rownames’ in package ‘BiocGenerics’
Creating a new generic function for ‘colnames’ in package ‘BiocGenerics’
Creating a new generic function for ‘union’ in package ‘BiocGenerics’
Creating a new generic function for ‘intersect’ in package ‘BiocGenerics’
Creating a new generic function for ‘setdiff’ in package ‘BiocGenerics’
Creating a new generic function for ‘sort’ in package ‘BiocGenerics’
Creating a new generic function for ‘table’ in package ‘BiocGenerics’
Creating a new generic function for ‘tapply’ in package ‘BiocGenerics’
Creating a new generic function for ‘unique’ in package ‘BiocGenerics’
Creating a new generic function for ‘unlist’ in package ‘BiocGenerics’
Creating a new generic function for ‘unsplit’ in package ‘BiocGenerics’
Creating a new generic function for ‘xtabs’ in package ‘BiocGenerics’
Creating a new generic function for ‘clusterCall’ in package ‘BiocGenerics’
Creating a new generic function for ‘clusterApply’ in package ‘BiocGenerics’
Creating a new generic function for ‘clusterApplyLB’ in package ‘BiocGenerics’
Creating a new generic function for ‘clusterEvalQ’ in package ‘BiocGenerics’
Creating a new generic function for ‘clusterExport’ in package ‘BiocGenerics’
Creating a new generic function for ‘clusterMap’ in package ‘BiocGenerics’
Creating a new generic function for ‘parLapply’ in package ‘BiocGenerics’
Creating a new generic function for ‘parSapply’ in package ‘BiocGenerics’
Creating a new generic function for ‘parApply’ in package ‘BiocGenerics’
Creating a new generic function for ‘parRapply’ in package ‘BiocGenerics’
Creating a new generic function for ‘parCapply’ in package ‘BiocGenerics’
Creating a new generic function for ‘parLapplyLB’ in package ‘BiocGenerics’
Creating a new generic function for ‘parSapplyLB’ in package ‘BiocGenerics’
** help
*** installing help indices
** building package indices
** testing if installed package can be loaded
* DONE (BiocGenerics)

BiocGenerics.Rcheck/BiocGenerics-Ex.timings:

nameusersystemelapsed
BiocGenerics-package0.0010.0000.001
Extremes0.0070.0010.007
IQR0.0020.0000.002
annotation0.1880.0040.192
append0.0020.0000.002
as.data.frame0.0020.0000.002
as.vector0.0020.0000.001
boxplot0.0020.0000.001
cbind0.0020.0000.003
clusterApply0.0160.0020.018
combine0.0510.0020.053
dbconn1.5150.0311.546
density0.0020.0000.002
do.call0.0020.0010.001
duplicated0.0040.0000.005
eval0.0040.0010.003
evalq0.0010.0000.001
fileName1.8560.0501.908
funprog0.0060.0010.007
get0.1340.0000.134
grep0.0020.0000.002
image0.0010.0010.002
is.unsorted0.0020.0000.002
lapply0.0040.0000.005
lengths0.0330.0000.033
mad0.0010.0000.002
mapply0.0020.0000.002
match0.0030.0000.002
normalize0.0210.0000.021
nrow0.0060.0000.007
order0.0020.0000.002
organism_species0.2120.0190.232
paste0.0090.0000.010
plotMA3.5720.0633.659
plotPCA1.2370.0101.249
rank0.0040.0000.005
relist0.0030.0000.003
rep0.0020.0000.002
residuals0.0020.0000.001
row_colnames0.0130.0010.014
score0.0770.0040.081
sets0.0060.0010.007
sort0.0030.0000.003
start0.0730.0040.076
strand0.0920.0030.095
subset0.0340.0010.035
table0.0030.0000.003
tapply0.0040.0000.004
testPackage4.5400.0064.547
unique0.0030.0010.002
unlist0.0020.0000.003
unsplit0.0010.0000.001
updateObject0.1750.0040.196
weights0.0010.0000.002
xtabs0.0030.0010.003