Back to the "Multiple platform build/check report" A [B] C  D  E  F  G  H  I  J  K  L  M  N  O  P  Q  R  S  T  U  V  W  X  Y  Z 

BioC 3.3: CHECK report for Biobase on linux2.bioconductor.org

This page was generated on 2015-10-27 12:11:20 -0400 (Tue, 27 Oct 2015).

Package 93/1104HostnameOS / ArchINSTALLBUILDCHECKBUILD BIN
Biobase 2.31.0
Bioconductor Package Maintainer
Snapshot Date: 2015-10-26 20:20:04 -0400 (Mon, 26 Oct 2015)
URL: https://hedgehog.fhcrc.org/bioconductor/trunk/madman/Rpacks/Biobase
Last Changed Rev: 109592 / Revision: 109948
Last Changed Date: 2015-10-13 15:59:53 -0400 (Tue, 13 Oct 2015)
linux2.bioconductor.org Linux (Ubuntu 14.04.2 LTS) / x86_64  OK  OK [ OK ]UNNEEDED, same version exists in internal repository
windows2.bioconductor.org Windows Server 2012 R2 Enterprise SP1 (64-bit) / x64  OK  OK  OK  OK UNNEEDED, same version exists in internal repository

Summary

Package: Biobase
Version: 2.31.0
Command: /home/biocbuild/bbs-3.3-bioc/R/bin/R CMD check --no-vignettes --timings Biobase_2.31.0.tar.gz
StartedAt: 2015-10-27 02:00:19 -0400 (Tue, 27 Oct 2015)
EndedAt: 2015-10-27 02:01:32 -0400 (Tue, 27 Oct 2015)
EllapsedTime: 73.6 seconds
RetCode: 0
Status:  OK 
CheckDir: Biobase.Rcheck
Warnings: 0

Command output

##############################################################################
##############################################################################
###
### Running command:
###
###   /home/biocbuild/bbs-3.3-bioc/R/bin/R CMD check --no-vignettes --timings Biobase_2.31.0.tar.gz
###
##############################################################################
##############################################################################


* using log directory ‘/home/biocbuild/bbs-3.3-bioc/meat/Biobase.Rcheck’
* using R Under development (unstable) (2015-09-09 r69333)
* using platform: x86_64-pc-linux-gnu (64-bit)
* using session charset: UTF-8
* using option ‘--no-vignettes’
* checking for file ‘Biobase/DESCRIPTION’ ... OK
* this is package ‘Biobase’ version ‘2.31.0’
* checking package namespace information ... OK
* checking package dependencies ... OK
* checking if this is a source package ... OK
* checking if there is a namespace ... OK
* checking for hidden files and directories ... OK
* checking for portable file names ... OK
* checking for sufficient/correct file permissions ... OK
* checking whether package ‘Biobase’ can be installed ... [5s/5s] OK
* checking installed package size ... OK
* checking package directory ... OK
* checking ‘build’ directory ... OK
* checking DESCRIPTION meta-information ... OK
* checking top-level files ... OK
* checking for left-over files ... OK
* checking index information ... OK
* checking package subdirectories ... OK
* checking R files for non-ASCII characters ... OK
* checking R files for syntax errors ... OK
* checking whether the package can be loaded ... OK
* checking whether the package can be loaded with stated dependencies ... OK
* checking whether the package can be unloaded cleanly ... OK
* checking whether the namespace can be loaded with stated dependencies ... OK
* checking whether the namespace can be unloaded cleanly ... OK
* checking dependencies in R code ... OK
* checking S3 generic/method consistency ... OK
* checking replacement functions ... OK
* checking foreign function calls ... OK
* checking R code for possible problems ... OK
* checking Rd files ... OK
* checking Rd metadata ... OK
* checking Rd cross-references ... OK
* checking for missing documentation entries ... OK
* checking for code/documentation mismatches ... OK
* checking Rd \usage sections ... OK
* checking Rd contents ... OK
* checking for unstated dependencies in examples ... OK
* checking contents of ‘data’ directory ... OK
* checking data for non-ASCII characters ... OK
* checking data for ASCII and uncompressed saves ... OK
* checking line endings in C/C++/Fortran sources/headers ... OK
* checking compiled code ... OK
* checking installed files from ‘inst/doc’ ... OK
* checking files in ‘vignettes’ ... OK
* checking examples ... [3s/3s] OK
* checking for unstated dependencies in ‘tests’ ... OK
* checking tests ...
  Running ‘test-all.R’ [17s/17s]
  Running ‘test-rowMedians.R’ [18s/18s]
 [35s/35s] OK
* checking for unstated dependencies in vignettes ... OK
* checking package vignettes in ‘inst/doc’ ... OK
* checking running R code from vignettes ... SKIPPED
* checking re-building of vignette outputs ... SKIPPED
* checking PDF version of manual ... OK
* DONE

Status: OK

Biobase.Rcheck/00install.out:

* installing *source* package ‘Biobase’ ...
** libs
gcc -std=gnu99 -I/home/biocbuild/bbs-3.3-bioc/R/include -DNDEBUG  -I/usr/local/include    -fpic  -g -O2  -c Rinit.c -o Rinit.o
gcc -std=gnu99 -I/home/biocbuild/bbs-3.3-bioc/R/include -DNDEBUG  -I/usr/local/include    -fpic  -g -O2  -c anyMissing.c -o anyMissing.o
gcc -std=gnu99 -I/home/biocbuild/bbs-3.3-bioc/R/include -DNDEBUG  -I/usr/local/include    -fpic  -g -O2  -c envir.c -o envir.o
gcc -std=gnu99 -I/home/biocbuild/bbs-3.3-bioc/R/include -DNDEBUG  -I/usr/local/include    -fpic  -g -O2  -c matchpt.c -o matchpt.o
gcc -std=gnu99 -I/home/biocbuild/bbs-3.3-bioc/R/include -DNDEBUG  -I/usr/local/include    -fpic  -g -O2  -c rowMedians.c -o rowMedians.o
gcc -std=gnu99 -I/home/biocbuild/bbs-3.3-bioc/R/include -DNDEBUG  -I/usr/local/include    -fpic  -g -O2  -c sublist_extract.c -o sublist_extract.o
gcc -std=gnu99 -shared -L/home/biocbuild/bbs-3.3-bioc/R/lib -L/usr/local/lib -o Biobase.so Rinit.o anyMissing.o envir.o matchpt.o rowMedians.o sublist_extract.o -L/home/biocbuild/bbs-3.3-bioc/R/lib -lR
installing to /home/biocbuild/bbs-3.3-bioc/meat/Biobase.Rcheck/Biobase/libs
** R
** data
** inst
** preparing package for lazy loading
** help
*** installing help indices
** building package indices
** installing vignettes
** testing if installed package can be loaded
* DONE (Biobase)

Biobase.Rcheck/Biobase-Ex.timings:

nameusersystemelapsed
Aggregate0.0060.0000.006
ScalarObject-class0.0080.0000.008
addVig2Menu0.0010.0000.001
anyMissing0.0010.0000.002
cache0.0030.0000.003
channel0.0790.0000.078
channelNames0.040.000.04
class.AnnotatedDataFrame0.0220.0000.021
class.ExpressionSet0.1550.0040.159
class.MIAxE0.0140.0000.014
class.MultiSet0.0220.0000.022
class.NChannelSet0.1220.0000.122
class.Versioned0.040.000.04
class.VersionedBiobase0.0180.0040.022
class.Versions0.0110.0000.011
class.VersionsNull0.0010.0000.001
class.container0.0030.0000.002
class.eSet0.0650.0000.064
classVersion0.0030.0000.003
contents0.0010.0000.001
copyEnv0.0010.0000.000
copySubstitute0.0080.0000.008
createPackage0.0000.0040.005
data.aaMap0.0020.0000.002
data.geneData0.0660.0000.066
data.reporter0.0010.0000.001
data.sample.ExpressionSet0.0110.0000.011
data.sample.MultiSet0.0050.0000.004
dumpPackTxt0.0020.0000.008
esApply0.9860.0000.986
getPkgVigs0.0030.0040.014
isCurrent0.0270.0000.027
isUnique0.0010.0000.000
isVersioned0.0090.0000.009
lcSuffix0.0020.0000.002
listLen0.0010.0000.000
makeDataPackage0.0570.0000.057
matchpt0.0040.0000.004
multiassign0.0010.0000.001
note0.0000.0000.001
openPDF0.0010.0000.001
openVignette0.0010.0000.000
package.version0.0010.0040.001
read.AnnotatedDataFrame0.0070.0000.010
read.MIAME0.0020.0000.002
readExpressionSet0.0450.0000.045
reverseSplit0.0000.0000.001
rowMedians0.0830.0000.085
rowQ0.0150.0000.015
selectChannels0.0360.0000.037
selectSome0.0010.0000.000
strbreak0.0010.0000.001
subListExtract0.6790.0080.686
testBioCConnection0.0080.0000.032
updateOldESet000
validMsg000