Back to the "Multiple platform build/check report" A [B] C  D  E  F  G  H  I  J  K  L  M  N  O  P  Q  R  S  T  U  V  W  X  Y  Z 

BioC 3.3: BUILD report for BSgenome on windows2.bioconductor.org

This page was generated on 2015-10-27 12:14:08 -0400 (Tue, 27 Oct 2015).

Package 124/1104HostnameOS / ArchINSTALLBUILDCHECKBUILD BIN
BSgenome 1.39.0
H. Pages
Snapshot Date: 2015-10-26 20:20:04 -0400 (Mon, 26 Oct 2015)
URL: https://hedgehog.fhcrc.org/bioconductor/trunk/madman/Rpacks/BSgenome
Last Changed Rev: 109592 / Revision: 109948
Last Changed Date: 2015-10-13 15:59:53 -0400 (Tue, 13 Oct 2015)
linux2.bioconductor.org Linux (Ubuntu 14.04.2 LTS) / x86_64  OK  OK  WARNINGS UNNEEDED, same version exists in internal repository
windows2.bioconductor.org Windows Server 2012 R2 Enterprise SP1 (64-bit) / x64  OK [ OK ] WARNINGS  OK UNNEEDED, same version exists in internal repository

Summary

Package: BSgenome
Version: 1.39.0
Command: chmod a+r BSgenome -R && c:\biocbld\bbs-3.3-bioc\R\bin\R.exe CMD build --keep-empty-dirs --no-resave-data BSgenome
StartedAt: 2015-10-26 21:26:25 -0400 (Mon, 26 Oct 2015)
EndedAt: 2015-10-26 21:27:32 -0400 (Mon, 26 Oct 2015)
EllapsedTime: 66.7 seconds
RetCode: 0
Status:  OK  
PackageFile: BSgenome_1.39.0.tar.gz
PackageFileSize: 5.778 MiB

Command output

##############################################################################
##############################################################################
###
### Running command:
###
###   chmod a+r BSgenome -R && c:\biocbld\bbs-3.3-bioc\R\bin\R.exe CMD build --keep-empty-dirs --no-resave-data BSgenome
###
##############################################################################
##############################################################################


* checking for file 'BSgenome/DESCRIPTION' ... OK
* preparing 'BSgenome':
* checking DESCRIPTION meta-information ... OK
* installing the package to build vignettes
* creating vignettes ... OK
* checking for LF line-endings in source and make files
* checking for empty or unneeded directories
WARNING: directory 'BSgenome/inst/pkgtemplates/BSgenome_datapkg/inst/extdata' is empty
WARNING: directory 'BSgenome/inst/pkgtemplates/MaskedBSgenome_datapkg/inst/extdata' is empty
WARNING: directory 'BSgenome/tests' is empty
* building 'BSgenome_1.39.0.tar.gz'
Warning in utils::tar(filepath, pkgname, compression = "gzip", compression_level = 9L,  :
  storing paths of more than 100 bytes is not portable:
  'BSgenome/inst/extdata/GentlemanLab/1000genomes/BSgenome.Hsapiens.1000g.b36female-tools/split_human_b36_female.sh'