ArrayTV 1.9.0 Eitan Halper-Stromberg
Snapshot Date: 2015-10-26 20:20:04 -0400 (Mon, 26 Oct 2015) | URL: https://hedgehog.fhcrc.org/bioconductor/trunk/madman/Rpacks/ArrayTV | Last Changed Rev: 109592 / Revision: 109948 | Last Changed Date: 2015-10-13 15:59:53 -0400 (Tue, 13 Oct 2015) |
| linux2.bioconductor.org | Linux (Ubuntu 14.04.2 LTS) / x86_64 | OK | OK | OK | | ![UNNEEDED, same version exists in internal repository UNNEEDED, same version exists in internal repository](../120px-Blue_Light_Icon.svg.png) |
windows2.bioconductor.org | Windows Server 2012 R2 Enterprise SP1 (64-bit) / x64 | OK | OK | OK | [ OK ] | ![UNNEEDED, same version exists in internal repository UNNEEDED, same version exists in internal repository](../120px-Blue_Light_Icon.svg.png) |
##############################################################################
##############################################################################
###
### Running command:
###
### cd ArrayTV.buildbin-libdir/ArrayTV && zip -r ../../ArrayTV_1.9.0.zip . & cd ../..
###
##############################################################################
##############################################################################
adding: DESCRIPTION (188 bytes security) (deflated 41%)
adding: doc/ (208 bytes security) (stored 0%)
adding: doc/ArrayTV.pdf (188 bytes security) (deflated 2%)
adding: doc/ArrayTV.R (188 bytes security) (deflated 73%)
adding: doc/ArrayTV.Rnw (188 bytes security) (deflated 65%)
adding: doc/index.html (188 bytes security) (deflated 58%)
adding: extdata/ (208 bytes security) (stored 0%)
adding: extdata/afcM1List.rda (188 bytes security) (deflated 0%)
adding: extdata/array_logratios.rda (188 bytes security) (deflated 0%)
adding: extdata/cbs_out.rda (188 bytes security) (deflated 2%)
adding: extdata/nimcM1List.rda (188 bytes security) (deflated 0%)
adding: help/ (208 bytes security) (stored 0%)
adding: help/aliases.rds (188 bytes security) (stored 0%)
adding: help/AnIndex (188 bytes security) (deflated 71%)
adding: help/ArrayTV.rdb (188 bytes security) (deflated 0%)
adding: help/ArrayTV.rdx (188 bytes security) (stored 0%)
adding: help/paths.rds (188 bytes security) (stored 0%)
adding: html/ (208 bytes security) (stored 0%)
adding: html/00Index.html (188 bytes security) (deflated 68%)
adding: html/R.css (188 bytes security) (deflated 75%)
adding: INDEX (188 bytes security) (deflated 48%)
adding: MD5 (188 bytes security) (deflated 42%)
adding: Meta/ (208 bytes security) (stored 0%)
adding: Meta/hsearch.rds (188 bytes security) (stored 0%)
adding: Meta/links.rds (188 bytes security) (stored 0%)
adding: Meta/nsInfo.rds (188 bytes security) (stored 0%)
adding: Meta/package.rds (188 bytes security) (stored 0%)
adding: Meta/Rd.rds (188 bytes security) (stored 0%)
adding: Meta/vignette.rds (188 bytes security) (stored 0%)
adding: NAMESPACE (188 bytes security) (deflated 23%)
adding: R/ (208 bytes security) (stored 0%)
adding: R/ArrayTV (188 bytes security) (deflated 41%)
adding: R/ArrayTV.rdb (188 bytes security) (deflated 12%)
adding: R/ArrayTV.rdx (188 bytes security) (stored 0%)
adding: unitTests/ (208 bytes security) (stored 0%)
adding: unitTests/test_gcCorrectMain.R (188 bytes security) (deflated 52%)