Back to the "Multiple platform build/check report"[A] B  C  D  E  F  G  H  I  J  K  L  M  N  O  P  Q  R  S  T  U  V  W  X  Y  Z 

BioC 3.3: BUILD report for AnnotationHubData on morelia

This page was generated on 2015-10-22 17:55:07 -0400 (Thu, 22 Oct 2015).

Package 48/1104HostnameOS / ArchINSTALLBUILDCHECKBUILD BIN
AnnotationHubData 1.1.0
Bioconductor Package Maintainer
Snapshot Date: 2015-10-21 20:20:05 -0400 (Wed, 21 Oct 2015)
URL: https://hedgehog.fhcrc.org/bioconductor/trunk/madman/Rpacks/AnnotationHubData
Last Changed Rev: 109592 / Revision: 109826
Last Changed Date: 2015-10-13 15:59:53 -0400 (Tue, 13 Oct 2015)
linux2.bioconductor.org Linux (Ubuntu 14.04.2 LTS) / x86_64  OK  OK  ERROR 
windows2.bioconductor.org Windows Server 2012 R2 Enterprise SP1 (64-bit) / x64  OK  OK  ERROR  OK 
morelia Mac OS X Mavericks (10.9.5) / x86_64  OK [ OK ] ERROR  OK 

Summary

Package: AnnotationHubData
Version: 1.1.0
Command: /Library/Frameworks/R.framework/Versions/Current/Resources/bin/R CMD build --keep-empty-dirs --no-resave-data AnnotationHubData
StartedAt: 2015-10-22 02:36:28 -0400 (Thu, 22 Oct 2015)
EndedAt: 2015-10-22 02:36:46 -0400 (Thu, 22 Oct 2015)
EllapsedTime: 17.6 seconds
RetCode: 0
Status:  OK 
PackageFile: AnnotationHubData_1.1.0.tar.gz
PackageFileSize: 1.039 MiB

Command output

##############################################################################
##############################################################################
###
### Running command:
###
###   /Library/Frameworks/R.framework/Versions/Current/Resources/bin/R CMD build --keep-empty-dirs --no-resave-data AnnotationHubData
###
##############################################################################
##############################################################################


* checking for file ‘AnnotationHubData/DESCRIPTION’ ... OK
* preparing ‘AnnotationHubData’:
* checking DESCRIPTION meta-information ... OK
* installing the package to build vignettes
* creating vignettes ... OK
* checking for LF line-endings in source and make files
* checking for empty or unneeded directories
WARNING: directory ‘AnnotationHubData/inst/unitTests/cases/encodeDCCMetadata/downloads’ is empty
* building ‘AnnotationHubData_1.1.0.tar.gz’