Back to Build/check report for BioC 3.23:   simplified   long
ABCDEFGHIJKLMNOPQR[S]TUVWXYZ

This page was generated on 2025-11-13 11:32 -0500 (Thu, 13 Nov 2025).

HostnameOSArch (*)R versionInstalled pkgs
kjohnson3macOS 13.7.7 Venturaarm64R Under development (unstable) (2025-11-04 r88984) -- "Unsuffered Consequences" 4013
Click on any hostname to see more info about the system (e.g. compilers)      (*) as reported by 'uname -p', except on Windows and Mac OS X

Package 2022/2325HostnameOS / ArchINSTALLBUILDCHECKBUILD BIN
snapcount 1.23.0  (landing page)
Rone Charles
Snapshot Date: 2025-11-12 13:40 -0500 (Wed, 12 Nov 2025)
git_url: https://git.bioconductor.org/packages/snapcount
git_branch: devel
git_last_commit: 1af1119
git_last_commit_date: 2025-10-29 10:59:28 -0500 (Wed, 29 Oct 2025)
kjohnson3macOS 13.7.7 Ventura / arm64  OK    OK    OK    ERROR  


BUILD BIN results for snapcount on kjohnson3

To the developers/maintainers of the snapcount package:
- Allow up to 24 hours (and sometimes 48 hours) for your latest push to git@git.bioconductor.org:packages/snapcount.git to reflect on this report. See Troubleshooting Build Report for more information.
- Use the following Renviron settings to reproduce errors and warnings.
- If 'R CMD check' started to fail recently on the Linux builder(s) over a missing dependency, add the missing dependency to 'Suggests:' in your DESCRIPTION file. See Renviron.bioc for more information.

raw results


Summary

Package: snapcount
Version: 1.23.0
Command: rm -rf snapcount.buildbin-libdir && mkdir snapcount.buildbin-libdir && /Users/biocbuild/BBS/utils/build-universal.sh snapcount_1.23.0.tar.gz /Library/Frameworks/R.framework/Resources/bin/R snapcount.buildbin-libdir
StartedAt: 2025-11-12 21:11:14 -0500 (Wed, 12 Nov 2025)
EndedAt: 2025-11-12 21:11:40 -0500 (Wed, 12 Nov 2025)
EllapsedTime: 26.6 seconds
RetCode: 1
Status:   ERROR  
PackageFile: None
PackageFileSize: NA

Command output

##############################################################################
##############################################################################
###
### Running command:
###
###   rm -rf snapcount.buildbin-libdir && mkdir snapcount.buildbin-libdir && /Users/biocbuild/BBS/utils/build-universal.sh snapcount_1.23.0.tar.gz /Library/Frameworks/R.framework/Resources/bin/R snapcount.buildbin-libdir
###
##############################################################################
##############################################################################


>>>>>>> 
>>>>>>> INSTALLATION WITH 'R CMD INSTALL --preclean --no-multiarch --library=snapcount.buildbin-libdir snapcount_1.23.0.tar.gz'
>>>>>>> 

* installing *source* package ‘snapcount’ ...
** this is package ‘snapcount’ version ‘1.23.0’
** using staged installation
** R
** inst
** byte-compile and prepare package for lazy loading
** help
*** installing help indices
** building package indices
** installing vignettes
** testing if installed package can be loaded from temporary location
Error: package or namespace load failed for ‘snapcount’:
 .onLoad failed in loadNamespace() for 'snapcount', details:
  call: curl::curl_fetch_memory(url, handle = handle)
  error: Timeout was reached [snaptron.cs.jhu.edu]:
Resolving timed out after 10002 milliseconds
Error: loading failed
Execution halted
ERROR: loading failed
* removing ‘/Users/biocbuild/bbs-3.23-bioc/meat/snapcount.buildbin-libdir/snapcount’