Back to Build/check report for BioC 3.23:   simplified   long
ABCDEFGHIJKLMNOPQR[S]TUVWXYZ

This page was generated on 2025-11-13 11:32 -0500 (Thu, 13 Nov 2025).

HostnameOSArch (*)R versionInstalled pkgs
kjohnson3macOS 13.7.7 Venturaarm64R Under development (unstable) (2025-11-04 r88984) -- "Unsuffered Consequences" 4013
Click on any hostname to see more info about the system (e.g. compilers)      (*) as reported by 'uname -p', except on Windows and Mac OS X

Package 1955/2325HostnameOS / ArchINSTALLBUILDCHECKBUILD BIN
seqPattern 1.43.0  (landing page)
Vanja Haberle
Snapshot Date: 2025-11-12 13:40 -0500 (Wed, 12 Nov 2025)
git_url: https://git.bioconductor.org/packages/seqPattern
git_branch: devel
git_last_commit: 4b1e21f
git_last_commit_date: 2025-10-29 10:23:35 -0500 (Wed, 29 Oct 2025)
kjohnson3macOS 13.7.7 Ventura / arm64  OK    OK    OK    OK  NO, package depends on 'GenomicRanges' which is only available as a source package that needs compilation


BUILD BIN results for seqPattern on kjohnson3

To the developers/maintainers of the seqPattern package:
- Allow up to 24 hours (and sometimes 48 hours) for your latest push to git@git.bioconductor.org:packages/seqPattern.git to reflect on this report. See Troubleshooting Build Report for more information.
- Use the following Renviron settings to reproduce errors and warnings.
- If 'R CMD check' started to fail recently on the Linux builder(s) over a missing dependency, add the missing dependency to 'Suggests:' in your DESCRIPTION file. See Renviron.bioc for more information.

raw results


Summary

Package: seqPattern
Version: 1.43.0
Command: rm -rf seqPattern.buildbin-libdir && mkdir seqPattern.buildbin-libdir && /Users/biocbuild/BBS/utils/build-universal.sh seqPattern_1.43.0.tar.gz /Library/Frameworks/R.framework/Resources/bin/R seqPattern.buildbin-libdir
StartedAt: 2025-11-12 21:10:43 -0500 (Wed, 12 Nov 2025)
EndedAt: 2025-11-12 21:10:49 -0500 (Wed, 12 Nov 2025)
EllapsedTime: 6.1 seconds
RetCode: 0
Status:   OK  
PackageFile: seqPattern_1.43.0.tgz
PackageFileSize: 3.523 MiB

Command output

##############################################################################
##############################################################################
###
### Running command:
###
###   rm -rf seqPattern.buildbin-libdir && mkdir seqPattern.buildbin-libdir && /Users/biocbuild/BBS/utils/build-universal.sh seqPattern_1.43.0.tar.gz /Library/Frameworks/R.framework/Resources/bin/R seqPattern.buildbin-libdir
###
##############################################################################
##############################################################################


>>>>>>> 
>>>>>>> INSTALLATION WITH 'R CMD INSTALL --preclean --no-multiarch --library=seqPattern.buildbin-libdir seqPattern_1.43.0.tar.gz'
>>>>>>> 

* installing *source* package ‘seqPattern’ ...
** this is package ‘seqPattern’ version ‘1.43.0’
** using staged installation
** R
** data
** inst
** byte-compile and prepare package for lazy loading
** help
*** installing help indices
** building package indices
** installing vignettes
** testing if installed package can be loaded from temporary location
** testing if installed package can be loaded from final location
** testing if installed package keeps a record of temporary installation path
* DONE (seqPattern)