Back to Build/check report for BioC 3.23:   simplified   long
ABCDEFGHIJKLMNOPQ[R]STUVWXYZ

This page was generated on 2025-11-13 11:32 -0500 (Thu, 13 Nov 2025).

HostnameOSArch (*)R versionInstalled pkgs
kjohnson3macOS 13.7.7 Venturaarm64R Under development (unstable) (2025-11-04 r88984) -- "Unsuffered Consequences" 4013
Click on any hostname to see more info about the system (e.g. compilers)      (*) as reported by 'uname -p', except on Windows and Mac OS X

Package 1774/2325HostnameOS / ArchINSTALLBUILDCHECKBUILD BIN
rifi 1.15.0  (landing page)
Jens Georg
Snapshot Date: 2025-11-12 13:40 -0500 (Wed, 12 Nov 2025)
git_url: https://git.bioconductor.org/packages/rifi
git_branch: devel
git_last_commit: 16a7acf
git_last_commit_date: 2025-10-29 11:16:59 -0500 (Wed, 29 Oct 2025)
kjohnson3macOS 13.7.7 Ventura / arm64  OK    OK    WARNINGS    OK  NO, package depends on 'rtracklayer' which is only available as a source package that needs compilation


BUILD results for rifi on kjohnson3

To the developers/maintainers of the rifi package:
- Allow up to 24 hours (and sometimes 48 hours) for your latest push to git@git.bioconductor.org:packages/rifi.git to reflect on this report. See Troubleshooting Build Report for more information.
- Use the following Renviron settings to reproduce errors and warnings.
- If 'R CMD check' started to fail recently on the Linux builder(s) over a missing dependency, add the missing dependency to 'Suggests:' in your DESCRIPTION file. See Renviron.bioc for more information.

raw results


Summary

Package: rifi
Version: 1.15.0
Command: /Library/Frameworks/R.framework/Resources/bin/R CMD build --keep-empty-dirs --no-resave-data rifi
StartedAt: 2025-11-12 17:04:34 -0500 (Wed, 12 Nov 2025)
EndedAt: 2025-11-12 17:05:13 -0500 (Wed, 12 Nov 2025)
EllapsedTime: 38.4 seconds
RetCode: 0
Status:   OK  
PackageFile: rifi_1.15.0.tar.gz
PackageFileSize: 6.607 MiB

Command output

##############################################################################
##############################################################################
###
### Running command:
###
###   /Library/Frameworks/R.framework/Resources/bin/R CMD build --keep-empty-dirs --no-resave-data rifi
###
##############################################################################
##############################################################################


* checking for file ‘rifi/DESCRIPTION’ ... OK
* preparing ‘rifi’:
* checking DESCRIPTION meta-information ... OK
Warning: /private/var/folders/r0/l4fjk6cj5xj0j3brt4bplpl40000gt/T/RtmpkFlA4m/Rbuild58bb5bb3f1c3/rifi/man/apply_Ttest_delay.Rd:55: unexpected '}'
Warning: /private/var/folders/r0/l4fjk6cj5xj0j3brt4bplpl40000gt/T/RtmpkFlA4m/Rbuild58bb5bb3f1c3/rifi/man/predict_ps_itss.Rd:57: unexpected '}'
* installing the package (it is needed to build vignettes)
* creating vignettes ... OK
* checking for LF line-endings in source and make files and shell scripts
* checking for empty or unneeded directories
* looking to see if a ‘data/datalist’ file should be added
Warning: /private/var/folders/r0/l4fjk6cj5xj0j3brt4bplpl40000gt/T/RtmpkFlA4m/Rbuild58bb5bb3f1c3/rifi/man/apply_Ttest_delay.Rd:55: unexpected '}'
Warning: /private/var/folders/r0/l4fjk6cj5xj0j3brt4bplpl40000gt/T/RtmpkFlA4m/Rbuild58bb5bb3f1c3/rifi/man/predict_ps_itss.Rd:57: unexpected '}'
* building ‘rifi_1.15.0.tar.gz’