Back to Multiple platform build/check report for BioC 3.23:   simplified   long
ABCDEFGHIJKLMNO[P]QRSTUVWXYZ

This page was generated on 2025-11-17 11:40 -0500 (Mon, 17 Nov 2025).

HostnameOSArch (*)R versionInstalled pkgs
nebbiolo1Linux (Ubuntu 24.04.3 LTS)x86_64R Under development (unstable) (2025-10-20 r88955) -- "Unsuffered Consequences" 4826
lconwaymacOS 12.7.6 Montereyx86_64R Under development (unstable) (2025-10-21 r88958) -- "Unsuffered Consequences" 4491
kjohnson3macOS 13.7.7 Venturaarm64R Under development (unstable) (2025-11-04 r88984) -- "Unsuffered Consequences" 4562
Click on any hostname to see more info about the system (e.g. compilers)      (*) as reported by 'uname -p', except on Windows and Mac OS X

Package 1596/2325HostnameOS / ArchINSTALLBUILDCHECKBUILD BIN
plyxp 1.5.0  (landing page)
Justin Landis
Snapshot Date: 2025-11-16 13:40 -0500 (Sun, 16 Nov 2025)
git_url: https://git.bioconductor.org/packages/plyxp
git_branch: devel
git_last_commit: b0d04f2
git_last_commit_date: 2025-10-29 11:32:44 -0500 (Wed, 29 Oct 2025)
nebbiolo1Linux (Ubuntu 24.04.3 LTS) / x86_64  OK    OK    OK  UNNEEDED, same version is already published
lconwaymacOS 12.7.6 Monterey / x86_64  OK    OK    OK    OK  YES
kjohnson3macOS 13.7.7 Ventura / arm64  OK    OK    OK    OK  UNNEEDED, same version is already published


CHECK results for plyxp on lconway

To the developers/maintainers of the plyxp package:
- Allow up to 24 hours (and sometimes 48 hours) for your latest push to git@git.bioconductor.org:packages/plyxp.git to reflect on this report. See Troubleshooting Build Report for more information.
- Use the following Renviron settings to reproduce errors and warnings.
- If 'R CMD check' started to fail recently on the Linux builder(s) over a missing dependency, add the missing dependency to 'Suggests:' in your DESCRIPTION file. See Renviron.bioc for more information.

raw results


Summary

Package: plyxp
Version: 1.5.0
Command: /Library/Frameworks/R.framework/Resources/bin/R CMD check --install=check:plyxp.install-out.txt --library=/Library/Frameworks/R.framework/Resources/library --no-vignettes --timings plyxp_1.5.0.tar.gz
StartedAt: 2025-11-17 04:47:55 -0500 (Mon, 17 Nov 2025)
EndedAt: 2025-11-17 04:51:11 -0500 (Mon, 17 Nov 2025)
EllapsedTime: 196.1 seconds
RetCode: 0
Status:   OK  
CheckDir: plyxp.Rcheck
Warnings: 0

Command output

##############################################################################
##############################################################################
###
### Running command:
###
###   /Library/Frameworks/R.framework/Resources/bin/R CMD check --install=check:plyxp.install-out.txt --library=/Library/Frameworks/R.framework/Resources/library --no-vignettes --timings plyxp_1.5.0.tar.gz
###
##############################################################################
##############################################################################


* using log directory ‘/Users/biocbuild/bbs-3.23-bioc/meat/plyxp.Rcheck’
* using R Under development (unstable) (2025-10-21 r88958)
* using platform: x86_64-apple-darwin20
* R was compiled by
    Apple clang version 14.0.0 (clang-1400.0.29.202)
    GNU Fortran (GCC) 14.2.0
* running under: macOS Ventura 13.7.8
* using session charset: UTF-8
* using option ‘--no-vignettes’
* checking for file ‘plyxp/DESCRIPTION’ ... OK
* this is package ‘plyxp’ version ‘1.5.0’
* package encoding: UTF-8
* checking package namespace information ... OK
* checking package dependencies ... OK
* checking if this is a source package ... OK
* checking if there is a namespace ... OK
* checking for hidden files and directories ... OK
* checking for portable file names ... OK
* checking for sufficient/correct file permissions ... OK
* checking whether package ‘plyxp’ can be installed ... OK
* checking installed package size ... OK
* checking package directory ... OK
* checking ‘build’ directory ... OK
* checking DESCRIPTION meta-information ... OK
* checking top-level files ... OK
* checking for left-over files ... OK
* checking index information ... OK
* checking package subdirectories ... OK
* checking code files for non-ASCII characters ... OK
* checking R files for syntax errors ... OK
* checking whether the package can be loaded ... OK
* checking whether the package can be loaded with stated dependencies ... OK
* checking whether the package can be unloaded cleanly ... OK
* checking whether the namespace can be loaded with stated dependencies ... OK
* checking whether the namespace can be unloaded cleanly ... OK
* checking dependencies in R code ... OK
* checking S3 generic/method consistency ... OK
* checking replacement functions ... OK
* checking foreign function calls ... OK
* checking R code for possible problems ... OK
* checking Rd files ... OK
* checking Rd metadata ... OK
* checking Rd cross-references ... OK
* checking for missing documentation entries ... OK
* checking for code/documentation mismatches ... OK
* checking Rd \usage sections ... OK
* checking Rd contents ... OK
* checking for unstated dependencies in examples ... OK
* checking contents of ‘data’ directory ... OK
* checking data for non-ASCII characters ... OK
* checking LazyData ... OK
* checking data for ASCII and uncompressed saves ... OK
* checking files in ‘vignettes’ ... OK
* checking examples ... OK
* checking for unstated dependencies in ‘tests’ ... OK
* checking tests ...
  Running ‘testthat.R’
 OK
* checking for unstated dependencies in vignettes ... OK
* checking package vignettes ... OK
* checking running R code from vignettes ... SKIPPED
* checking re-building of vignette outputs ... SKIPPED
* checking PDF version of manual ... OK
* DONE

Status: OK


Installation output

plyxp.Rcheck/00install.out

##############################################################################
##############################################################################
###
### Running command:
###
###   /Library/Frameworks/R.framework/Resources/bin/R CMD INSTALL plyxp
###
##############################################################################
##############################################################################


* installing to library ‘/Library/Frameworks/R.framework/Versions/4.6-x86_64/Resources/library’
* installing *source* package ‘plyxp’ ...
** this is package ‘plyxp’ version ‘1.5.0’
** using staged installation
** R
** data
*** moving datasets to lazyload DB
** byte-compile and prepare package for lazy loading
Creating a generic function for ‘rownames’ from package ‘base’ in package ‘plyxp’
Creating a generic function for ‘colnames’ from package ‘base’ in package ‘plyxp’
Creating a generic function for ‘nrow’ from package ‘base’ in package ‘plyxp’
Creating a generic function for ‘ncol’ from package ‘base’ in package ‘plyxp’
** help
*** installing help indices
*** copying figures
** building package indices
** installing vignettes
** testing if installed package can be loaded from temporary location
** testing if installed package can be loaded from final location
** testing if installed package keeps a record of temporary installation path
* DONE (plyxp)

Tests output

plyxp.Rcheck/tests/testthat.Rout


R Under development (unstable) (2025-10-21 r88958) -- "Unsuffered Consequences"
Copyright (C) 2025 The R Foundation for Statistical Computing
Platform: x86_64-apple-darwin20

R is free software and comes with ABSOLUTELY NO WARRANTY.
You are welcome to redistribute it under certain conditions.
Type 'license()' or 'licence()' for distribution details.

R is a collaborative project with many contributors.
Type 'contributors()' for more information and
'citation()' on how to cite R or R packages in publications.

Type 'demo()' for some demos, 'help()' for on-line help, or
'help.start()' for an HTML browser interface to help.
Type 'q()' to quit R.

> library("testthat")
> library("plyxp")

Attaching package: 'plyxp'

The following object is masked from 'package:stats':

    filter

> 
> test_check("plyxp")
[ FAIL 0 | WARN 0 | SKIP 6 | PASS 175 ]

══ Skipped tests (6) ═══════════════════════════════════════════════════════════
• On CRAN (6): 'test_printing.R:1:1', 'test_printing.R:5:1',
  'test_printing.R:12:1', 'test_printing.R:19:1', 'test_printing.R:23:1',
  'test_printing.R:27:1'

[ FAIL 0 | WARN 0 | SKIP 6 | PASS 175 ]
> 
> proc.time()
   user  system elapsed 
 15.592   0.885  16.609 

Example timings

plyxp.Rcheck/plyxp-Ex.timings

nameusersystemelapsed
PlySummarizedExperiment-methods0.0420.0020.044
arrange1.1730.0191.194
as.data.frame0.0100.0020.012
dot-pronouns0.1450.0150.160
filter0.4690.0540.528
group_by0.2340.0220.258
group_data0.1230.0010.124
group_split0.5610.0030.565
group_vars0.0780.0000.079
mutate0.1850.0010.187
new_plyxp0.1000.0010.102
plyxp-context0.1600.0010.162
plyxp-printing0.2710.0070.285
plyxp0.1180.0010.119
pull0.0710.0010.074
reexports0.2340.0020.236
se_simple0.0090.0000.012
select0.5250.0040.537
slice0.3090.0010.312
summarize0.6220.0040.627
vctrs-vec_chop0.0160.0010.016
vctrs-vec_recycle0.0060.0000.007
vctrs-vec_rep0.0320.0010.032
vctrs_slice0.0040.0000.004
vec_group_id0.0440.0040.051
vectors0.0020.0010.002