Back to Build/check report for BioC 3.23:   simplified   long
ABCDEFGHIJKLMNO[P]QRSTUVWXYZ

This page was generated on 2025-11-13 11:32 -0500 (Thu, 13 Nov 2025).

HostnameOSArch (*)R versionInstalled pkgs
kjohnson3macOS 13.7.7 Venturaarm64R Under development (unstable) (2025-11-04 r88984) -- "Unsuffered Consequences" 4013
Click on any hostname to see more info about the system (e.g. compilers)      (*) as reported by 'uname -p', except on Windows and Mac OS X

Package 1595/2325HostnameOS / ArchINSTALLBUILDCHECKBUILD BIN
plyranges 1.31.1  (landing page)
Michael Love
Snapshot Date: 2025-11-12 13:40 -0500 (Wed, 12 Nov 2025)
git_url: https://git.bioconductor.org/packages/plyranges
git_branch: devel
git_last_commit: 40182e8
git_last_commit_date: 2025-11-07 08:54:55 -0500 (Fri, 07 Nov 2025)
kjohnson3macOS 13.7.7 Ventura / arm64  OK    OK    ERROR    OK  


CHECK results for plyranges on kjohnson3

To the developers/maintainers of the plyranges package:
- Allow up to 24 hours (and sometimes 48 hours) for your latest push to git@git.bioconductor.org:packages/plyranges.git to reflect on this report. See Troubleshooting Build Report for more information.
- Use the following Renviron settings to reproduce errors and warnings.
- If 'R CMD check' started to fail recently on the Linux builder(s) over a missing dependency, add the missing dependency to 'Suggests:' in your DESCRIPTION file. See Renviron.bioc for more information.

raw results


Summary

Package: plyranges
Version: 1.31.1
Command: /Library/Frameworks/R.framework/Resources/bin/R CMD check --install=check:plyranges.install-out.txt --library=/Library/Frameworks/R.framework/Resources/library --no-vignettes --timings plyranges_1.31.1.tar.gz
StartedAt: 2025-11-12 19:55:33 -0500 (Wed, 12 Nov 2025)
EndedAt: 2025-11-12 19:57:32 -0500 (Wed, 12 Nov 2025)
EllapsedTime: 119.4 seconds
RetCode: 1
Status:   ERROR  
CheckDir: plyranges.Rcheck
Warnings: NA

Command output

##############################################################################
##############################################################################
###
### Running command:
###
###   /Library/Frameworks/R.framework/Resources/bin/R CMD check --install=check:plyranges.install-out.txt --library=/Library/Frameworks/R.framework/Resources/library --no-vignettes --timings plyranges_1.31.1.tar.gz
###
##############################################################################
##############################################################################


* using log directory ‘/Users/biocbuild/bbs-3.23-bioc/meat/plyranges.Rcheck’
* using R Under development (unstable) (2025-11-04 r88984)
* using platform: aarch64-apple-darwin20
* R was compiled by
    Apple clang version 16.0.0 (clang-1600.0.26.6)
    GNU Fortran (GCC) 14.2.0
* running under: macOS Ventura 13.7.8
* using session charset: UTF-8
* using option ‘--no-vignettes’
* checking for file ‘plyranges/DESCRIPTION’ ... OK
* checking extension type ... Package
* this is package ‘plyranges’ version ‘1.31.1’
* package encoding: UTF-8
* checking package namespace information ... OK
* checking package dependencies ... OK
* checking if this is a source package ... OK
* checking if there is a namespace ... OK
* checking for hidden files and directories ... OK
* checking for portable file names ... OK
* checking for sufficient/correct file permissions ... OK
* checking whether package ‘plyranges’ can be installed ... OK
* checking installed package size ... OK
* checking package directory ... OK
* checking ‘build’ directory ... OK
* checking DESCRIPTION meta-information ... OK
* checking top-level files ... OK
* checking for left-over files ... OK
* checking index information ... OK
* checking package subdirectories ... OK
* checking code files for non-ASCII characters ... OK
* checking R files for syntax errors ... OK
* checking whether the package can be loaded ... OK
* checking whether the package can be loaded with stated dependencies ... OK
* checking whether the package can be unloaded cleanly ... OK
* checking whether the namespace can be loaded with stated dependencies ... OK
* checking whether the namespace can be unloaded cleanly ... OK
* checking dependencies in R code ... OK
* checking S3 generic/method consistency ... OK
* checking replacement functions ... OK
* checking foreign function calls ... OK
* checking R code for possible problems ... OK
* checking Rd files ... OK
* checking Rd metadata ... OK
* checking Rd cross-references ... NOTE
Non-topic package-anchored link(s) in Rd file 'pipe.Rd':
  ‘[magrittr:pipe]{%>%}’

See section 'Cross-references' in the 'Writing R Extensions' manual.
* checking for missing documentation entries ... OK
* checking for code/documentation mismatches ... OK
* checking Rd \usage sections ... OK
* checking Rd contents ... OK
* checking for unstated dependencies in examples ... OK
* checking files in ‘vignettes’ ... OK
* checking examples ... OK
* checking for unstated dependencies in ‘tests’ ... OK
* checking tests ...
  Running ‘testthat.R’
 ERROR
Running the tests in ‘tests/testthat.R’ failed.
Last 13 lines of output:
  
      between, n, n_distinct
  
  > 
  > test_check("plyranges")
  [ FAIL 1 | WARN 7 | SKIP 0 | PASS 465 ]
  
  ══ Failed tests ════════════════════════════════════════════════════════════════
  ── Failure ('test-io-bed.R:136:3'): read_narrowpeaks returns correct GRanges ───
  `gr` not identical to `test_gr`.
  Objects equal but not identical
  
  [ FAIL 1 | WARN 7 | SKIP 0 | PASS 465 ]
  Error: Test failures
  Execution halted
* checking for unstated dependencies in vignettes ... OK
* checking package vignettes ... OK
* checking running R code from vignettes ... SKIPPED
* checking re-building of vignette outputs ... SKIPPED
* checking PDF version of manual ... OK
* DONE

Status: 1 ERROR, 1 NOTE
See
  ‘/Users/biocbuild/bbs-3.23-bioc/meat/plyranges.Rcheck/00check.log’
for details.


Installation output

plyranges.Rcheck/00install.out

##############################################################################
##############################################################################
###
### Running command:
###
###   /Library/Frameworks/R.framework/Resources/bin/R CMD INSTALL plyranges
###
##############################################################################
##############################################################################


* installing to library ‘/Library/Frameworks/R.framework/Versions/4.6-arm64/Resources/library’
* installing *source* package ‘plyranges’ ...
** this is package ‘plyranges’ version ‘1.31.1’
** using staged installation
** R
** inst
** byte-compile and prepare package for lazy loading
** help
*** installing help indices
*** copying figures
** building package indices
** installing vignettes
** testing if installed package can be loaded from temporary location
** testing if installed package can be loaded from final location
** testing if installed package keeps a record of temporary installation path
* DONE (plyranges)

Tests output

plyranges.Rcheck/tests/testthat.Rout.fail


R Under development (unstable) (2025-11-04 r88984) -- "Unsuffered Consequences"
Copyright (C) 2025 The R Foundation for Statistical Computing
Platform: aarch64-apple-darwin20

R is free software and comes with ABSOLUTELY NO WARRANTY.
You are welcome to redistribute it under certain conditions.
Type 'license()' or 'licence()' for distribution details.

R is a collaborative project with many contributors.
Type 'contributors()' for more information and
'citation()' on how to cite R or R packages in publications.

Type 'demo()' for some demos, 'help()' for on-line help, or
'help.start()' for an HTML browser interface to help.
Type 'q()' to quit R.

> library(testthat)
> library(plyranges)
Loading required package: BiocGenerics
Loading required package: generics

Attaching package: 'generics'

The following objects are masked from 'package:base':

    as.difftime, as.factor, as.ordered, intersect, is.element, setdiff,
    setequal, union


Attaching package: 'BiocGenerics'

The following objects are masked from 'package:stats':

    IQR, mad, sd, var, xtabs

The following objects are masked from 'package:base':

    Filter, Find, Map, Position, Reduce, anyDuplicated, aperm, append,
    as.data.frame, basename, cbind, colnames, dirname, do.call,
    duplicated, eval, evalq, get, grep, grepl, is.unsorted, lapply,
    mapply, match, mget, order, paste, pmax, pmax.int, pmin, pmin.int,
    rank, rbind, rownames, sapply, saveRDS, table, tapply, unique,
    unsplit, which.max, which.min

Loading required package: IRanges
Loading required package: S4Vectors
Loading required package: stats4

Attaching package: 'S4Vectors'

The following object is masked from 'package:utils':

    findMatches

The following objects are masked from 'package:base':

    I, expand.grid, unname

Loading required package: GenomicRanges
Loading required package: Seqinfo
Loading required package: dplyr

Attaching package: 'dplyr'

The following objects are masked from 'package:GenomicRanges':

    intersect, setdiff, union

The following object is masked from 'package:Seqinfo':

    intersect

The following objects are masked from 'package:IRanges':

    collapse, desc, intersect, setdiff, slice, union

The following objects are masked from 'package:S4Vectors':

    first, intersect, rename, setdiff, setequal, union

The following objects are masked from 'package:BiocGenerics':

    combine, intersect, setdiff, setequal, union

The following object is masked from 'package:generics':

    explain

The following object is masked from 'package:testthat':

    matches

The following objects are masked from 'package:stats':

    filter, lag

The following objects are masked from 'package:base':

    intersect, setdiff, setequal, union


Attaching package: 'plyranges'

The following objects are masked from 'package:dplyr':

    between, n, n_distinct

> 
> test_check("plyranges")
[ FAIL 1 | WARN 7 | SKIP 0 | PASS 465 ]

══ Failed tests ════════════════════════════════════════════════════════════════
── Failure ('test-io-bed.R:136:3'): read_narrowpeaks returns correct GRanges ───
`gr` not identical to `test_gr`.
Objects equal but not identical

[ FAIL 1 | WARN 7 | SKIP 0 | PASS 465 ]
Error: Test failures
Execution halted

Example timings

plyranges.Rcheck/plyranges-Ex.timings

nameusersystemelapsed
add-nearest-distance0.1150.0020.123
as_ranges0.0300.0030.042
compute_coverage0.0050.0000.005
element-setops0.0340.0030.037
filter-ranges0.2470.0040.266
group_by-ranges0.4750.0020.502
io-bam-read0.2510.0110.273
io-bed-read0.7610.2191.035
io-bed-write000
io-bigwig-read0.0330.0010.036
io-bigwig-write000
io-gff-read0.2080.0100.222
io-gff-write000
io-wig-read0.1090.0030.125
mutate-ranges0.2150.0070.236
n0.0770.0050.083
n_distinct0.0090.0010.009
overlap-joins0.0740.0020.077
pull-ranges0.0150.0000.015
ranges-anchor0.0340.0010.035
ranges-arrange0.0190.0000.019
ranges-bind0.0490.0010.052
ranges-chop0.1370.0060.150
ranges-construct0.0340.0010.035
ranges-count-overlaps0.0230.0000.030
ranges-disjoin0.2300.0010.254
ranges-expand0.1720.0020.175
ranges-filter-overlaps0.0390.0010.040
ranges-flank0.0270.0010.028
ranges-follow0.0470.0010.048
ranges-info0.0130.0000.013
ranges-interweave0.0480.0010.048
ranges-names0.0470.0000.048
ranges-nearest0.1500.0070.163
ranges-overlaps-self0.0360.0000.036
ranges-overlaps0.0510.0010.052
ranges-pairs0.0990.0070.108
ranges-precede0.0480.0040.053
ranges-reduce0.3240.0050.336
ranges-select0.0210.0010.022
ranges-setops0.2440.0010.249
ranges-shift0.0470.0010.049
ranges-summarise0.0490.0010.054
ranges-tile0.0310.0000.031
slice-ranges0.1990.0010.203
stretch0.0720.0000.074