Back to Build/check report for BioC 3.23:   simplified   long
ABCDEFGHIJKLMN[O]PQRSTUVWXYZ

This page was generated on 2025-11-08 11:32 -0500 (Sat, 08 Nov 2025).

HostnameOSArch (*)R versionInstalled pkgs
nebbiolo1Linux (Ubuntu 24.04.3 LTS)x86_64R Under development (unstable) (2025-10-20 r88955) -- "Unsuffered Consequences" 4821
Click on any hostname to see more info about the system (e.g. compilers)      (*) as reported by 'uname -p', except on Windows and Mac OS X

Package 1491/2323HostnameOS / ArchINSTALLBUILDCHECKBUILD BIN
ontoProc 2.5.0  (landing page)
Vincent Carey
Snapshot Date: 2025-11-07 13:40 -0500 (Fri, 07 Nov 2025)
git_url: https://git.bioconductor.org/packages/ontoProc
git_branch: devel
git_last_commit: a09f239
git_last_commit_date: 2025-10-29 19:20:08 -0500 (Wed, 29 Oct 2025)
nebbiolo1Linux (Ubuntu 24.04.3 LTS) / x86_64  OK    OK    OK  UNNEEDED, same version is already published


CHECK results for ontoProc on nebbiolo1

To the developers/maintainers of the ontoProc package:
- Allow up to 24 hours (and sometimes 48 hours) for your latest push to git@git.bioconductor.org:packages/ontoProc.git to reflect on this report. See Troubleshooting Build Report for more information.
- Use the following Renviron settings to reproduce errors and warnings.
- If 'R CMD check' started to fail recently on the Linux builder(s) over a missing dependency, add the missing dependency to 'Suggests:' in your DESCRIPTION file. See Renviron.bioc for more information.

raw results


Summary

Package: ontoProc
Version: 2.5.0
Command: /home/biocbuild/bbs-3.23-bioc/R/bin/R CMD check --install=check:ontoProc.install-out.txt --library=/home/biocbuild/bbs-3.23-bioc/R/site-library --timings ontoProc_2.5.0.tar.gz
StartedAt: 2025-11-08 02:13:09 -0500 (Sat, 08 Nov 2025)
EndedAt: 2025-11-08 02:52:10 -0500 (Sat, 08 Nov 2025)
EllapsedTime: 2340.7 seconds
RetCode: 0
Status:   OK  
CheckDir: ontoProc.Rcheck
Warnings: 0

Command output

##############################################################################
##############################################################################
###
### Running command:
###
###   /home/biocbuild/bbs-3.23-bioc/R/bin/R CMD check --install=check:ontoProc.install-out.txt --library=/home/biocbuild/bbs-3.23-bioc/R/site-library --timings ontoProc_2.5.0.tar.gz
###
##############################################################################
##############################################################################


* using log directory ‘/home/biocbuild/bbs-3.23-bioc/meat/ontoProc.Rcheck’
* using R Under development (unstable) (2025-10-20 r88955)
* using platform: x86_64-pc-linux-gnu
* R was compiled by
    gcc (Ubuntu 13.3.0-6ubuntu2~24.04) 13.3.0
    GNU Fortran (Ubuntu 13.3.0-6ubuntu2~24.04) 13.3.0
* running under: Ubuntu 24.04.3 LTS
* using session charset: UTF-8
* checking for file ‘ontoProc/DESCRIPTION’ ... OK
* this is package ‘ontoProc’ version ‘2.5.0’
* package encoding: UTF-8
* checking package namespace information ... OK
* checking package dependencies ... OK
* checking if this is a source package ... OK
* checking if there is a namespace ... OK
* checking for hidden files and directories ... OK
* checking for portable file names ... OK
* checking for sufficient/correct file permissions ... OK
* checking whether package ‘ontoProc’ can be installed ... OK
* checking installed package size ... INFO
  installed size is 10.5Mb
  sub-directories of 1Mb or more:
    app       1.6Mb
    data      1.8Mb
    ontoRda   2.7Mb
    owl       3.4Mb
* checking package directory ... OK
* checking ‘build’ directory ... OK
* checking DESCRIPTION meta-information ... OK
* checking top-level files ... OK
* checking for left-over files ... OK
* checking index information ... OK
* checking package subdirectories ... OK
* checking code files for non-ASCII characters ... OK
* checking R files for syntax errors ... OK
* checking whether the package can be loaded ... OK
* checking whether the package can be loaded with stated dependencies ... OK
* checking whether the package can be unloaded cleanly ... OK
* checking whether the namespace can be loaded with stated dependencies ... OK
* checking whether the namespace can be unloaded cleanly ... OK
* checking loading without being on the library search path ... OK
* checking dependencies in R code ... NOTE
':::' call which should be '::': ‘ontologyPlot:::remove_uninformative_terms’
  See the note in ?`:::` about the use of this operator.
* checking S3 generic/method consistency ... OK
* checking replacement functions ... OK
* checking foreign function calls ... OK
* checking R code for possible problems ... NOTE
CLfeat : prupdate: no visible binding for global variable ‘PROSYM’
CLfeat : prupdate: no visible binding for global variable ‘PRID’
CLfeat : prupdate: no visible binding for global variable ‘SYMBOL’
ctmarks : server: no visible binding for global variable ‘text’
ctmarks : server: no visible binding for global variable ‘packDesc2022’
ctmarks : server: no visible binding for global variable ‘packDesc2021’
ctmarks: no visible binding for global variable ‘cumu’
dropStop: no visible binding for global variable ‘stopWords’
getOnto: no visible binding for global variable ‘rdatadateadded’
getOnto: no visible binding for global variable ‘title’
getOnto: no visible binding for global variable ‘description’
ldfToTerm: no visible binding for global variable ‘PROSYM’
sym2CellOnto: no visible binding for global variable ‘PROSYM’
sym2CellOnto: no visible binding for global variable ‘SYMBOL’
Undefined global functions or variables:
  PRID PROSYM SYMBOL cumu description packDesc2021 packDesc2022
  rdatadateadded stopWords text title
Consider adding
  importFrom("graphics", "text", "title")
to your NAMESPACE file.
* checking Rd files ... OK
* checking Rd metadata ... OK
* checking Rd cross-references ... NOTE
Found the following Rd file(s) with Rd \link{} targets missing package
anchors:
  findCommonAncestors.Rd: graph, DataFrame-class, List-class
Please provide package anchors for all Rd \link{} targets not in the
package itself and the base packages.
* checking for missing documentation entries ... OK
* checking for code/documentation mismatches ... OK
* checking Rd \usage sections ... NOTE
S3 methods shown with full name in Rd file 'plot.owlents.Rd':
  ‘plot.owlents’

The \usage entries for S3 methods should use the \method markup and not
their full name.
See chapter ‘Writing R documentation files’ in the ‘Writing R
Extensions’ manual.
* checking Rd contents ... OK
* checking for unstated dependencies in examples ... OK
* checking contents of ‘data’ directory ... OK
* checking data for non-ASCII characters ... OK
* checking data for ASCII and uncompressed saves ... OK
* checking files in ‘vignettes’ ... OK
* checking examples ... OK
Examples with CPU (user + system) or elapsed time > 5s
                                    user system elapsed
sym2CellOnto                     208.955  3.892 213.384
cleanCLOnames                    142.522  3.041 179.750
siblings_TAG                     119.437  3.190 123.338
fastGrep                          85.222  2.911 112.593
nomenCheckup                      85.897  1.310  87.488
common_classes                    77.048  4.196 101.870
getLeavesFromTerm                 78.190  1.374  83.607
CLfeats                           67.021  6.765  74.594
getOnto                           54.898  1.424  60.836
findCommonAncestors               43.969  0.763  45.047
make_graphNEL_from_ontology_plot  42.546  1.392  44.182
mapOneNaive                       41.302  1.383  42.958
onto_plot2                        41.330  0.803  42.369
secLevGen                         40.061  1.986  42.337
selectFromMap                     40.930  0.935  42.120
liberalMap                        40.718  0.666  41.664
TermSet-class                     39.183  1.646  41.100
ontoDiff                          11.074  0.776  12.299
graph2paths                        7.657  0.074   7.735
plot.owlents                       4.666  0.229  79.172
search_labels                      0.441  0.052  14.861
bioregistry_ols_resources          0.069  0.006  12.840
* checking for unstated dependencies in ‘tests’ ... OK
* checking tests ...
  Running ‘test.R’
 OK
* checking for unstated dependencies in vignettes ... OK
* checking package vignettes ... OK
* checking re-building of vignette outputs ... OK
* checking PDF version of manual ... OK
* DONE

Status: 4 NOTEs
See
  ‘/home/biocbuild/bbs-3.23-bioc/meat/ontoProc.Rcheck/00check.log’
for details.


Installation output

ontoProc.Rcheck/00install.out

##############################################################################
##############################################################################
###
### Running command:
###
###   /home/biocbuild/bbs-3.23-bioc/R/bin/R CMD INSTALL ontoProc
###
##############################################################################
##############################################################################


* installing to library ‘/home/biocbuild/bbs-3.23-bioc/R/site-library’
* installing *source* package ‘ontoProc’ ...
** this is package ‘ontoProc’ version ‘2.5.0’
** using staged installation
** R
** data
** inst
** byte-compile and prepare package for lazy loading
** help
*** installing help indices
** building package indices
** installing vignettes
** testing if installed package can be loaded from temporary location
** testing if installed package can be loaded from final location
** testing if installed package keeps a record of temporary installation path
* DONE (ontoProc)

Tests output

ontoProc.Rcheck/tests/test.Rout


R Under development (unstable) (2025-10-20 r88955) -- "Unsuffered Consequences"
Copyright (C) 2025 The R Foundation for Statistical Computing
Platform: x86_64-pc-linux-gnu

R is free software and comes with ABSOLUTELY NO WARRANTY.
You are welcome to redistribute it under certain conditions.
Type 'license()' or 'licence()' for distribution details.

R is a collaborative project with many contributors.
Type 'contributors()' for more information and
'citation()' on how to cite R or R packages in publications.

Type 'demo()' for some demos, 'help()' for on-line help, or
'help.start()' for an HTML browser interface to help.
Type 'q()' to quit R.

> 
> library(ontoProc)
Loading required package: ontologyIndex
> library(testthat)
> 
> test_check("ontoProc")
[ FAIL 0 | WARN 0 | SKIP 0 | PASS 12 ]
> 
> 
> proc.time()
   user  system elapsed 
264.511  11.751 277.806 

Example timings

ontoProc.Rcheck/ontoProc-Ex.timings

nameusersystemelapsed
CLfeats67.021 6.76574.594
PROSYM0.2310.0120.243
TermSet-class39.183 1.64641.100
allGOterms0.0990.0030.103
ancestors2.1440.4802.562
ancestors_names0.0130.0040.008
bioregistry_ols_resources 0.069 0.00612.840
cellTypeToGO2.0880.1592.440
children_names0.0100.0000.011
cleanCLOnames142.522 3.041179.750
common_classes 77.048 4.196101.870
ctmarks000
cyclicSigset0.0120.0020.014
demoApp0.0010.0000.001
dropStop0.0070.0010.008
fastGrep 85.222 2.911112.593
findCommonAncestors43.969 0.76345.047
formalize0.0010.0000.000
getLeavesFromTerm78.190 1.37483.607
getOnto54.898 1.42460.836
graph2paths7.6570.0747.735
humrna0.0060.0010.007
jowl2classgraph0.3160.0010.317
jowl2classgraph_nio0.6820.0000.683
labels.owlents0.0010.0000.000
ldfToTerms2.2940.0182.313
liberalMap40.718 0.66641.664
makeSelectInput0.0010.0000.001
make_graphNEL_from_ontology_plot42.546 1.39244.182
mapOneNaive41.302 1.38342.958
minicorpus0.0020.0000.001
nomenCheckup85.897 1.31087.488
ontoDiff11.074 0.77612.299
onto_plot241.330 0.80342.369
onto_roots0.0010.0000.000
owl2cache0.0220.0070.045
packDesc20190.0030.0010.004
packDesc20210.0030.0000.003
packDesc20220.0020.0000.003
packDesc20230.0010.0010.003
parents0.0050.0000.005
plot.owlents 4.666 0.22979.172
quickOnto0.3740.0170.394
recognizedPredicates000
search_labels 0.441 0.05214.861
secLevGen40.061 1.98642.337
selectFromMap40.930 0.93542.120
setup_entities0.0060.0010.007
setup_entities20.3630.0120.374
seur3kTab0.0040.0000.005
siblings_TAG119.437 3.190123.338
stopWords0.0020.0000.001
subclasses0.0050.0020.007
sym2CellOnto208.955 3.892213.384
valid_ontonames0.0010.0000.001