Back to Build/check report for BioC 3.23:   simplified   long
ABCDEFGHIJKL[M]NOPQRSTUVWXYZ

This page was generated on 2025-11-08 11:32 -0500 (Sat, 08 Nov 2025).

HostnameOSArch (*)R versionInstalled pkgs
nebbiolo1Linux (Ubuntu 24.04.3 LTS)x86_64R Under development (unstable) (2025-10-20 r88955) -- "Unsuffered Consequences" 4821
Click on any hostname to see more info about the system (e.g. compilers)      (*) as reported by 'uname -p', except on Windows and Mac OS X

Package 1247/2323HostnameOS / ArchINSTALLBUILDCHECKBUILD BIN
methylclock 1.17.0  (landing page)
Dolors Pelegri-Siso
Snapshot Date: 2025-11-07 13:40 -0500 (Fri, 07 Nov 2025)
git_url: https://git.bioconductor.org/packages/methylclock
git_branch: devel
git_last_commit: 33c0153
git_last_commit_date: 2025-10-29 11:10:33 -0500 (Wed, 29 Oct 2025)
nebbiolo1Linux (Ubuntu 24.04.3 LTS) / x86_64  OK    OK    OK  UNNEEDED, same version is already published


CHECK results for methylclock on nebbiolo1

To the developers/maintainers of the methylclock package:
- Allow up to 24 hours (and sometimes 48 hours) for your latest push to git@git.bioconductor.org:packages/methylclock.git to reflect on this report. See Troubleshooting Build Report for more information.
- Use the following Renviron settings to reproduce errors and warnings.
- If 'R CMD check' started to fail recently on the Linux builder(s) over a missing dependency, add the missing dependency to 'Suggests:' in your DESCRIPTION file. See Renviron.bioc for more information.

raw results


Summary

Package: methylclock
Version: 1.17.0
Command: /home/biocbuild/bbs-3.23-bioc/R/bin/R CMD check --install=check:methylclock.install-out.txt --library=/home/biocbuild/bbs-3.23-bioc/R/site-library --timings methylclock_1.17.0.tar.gz
StartedAt: 2025-11-08 01:13:50 -0500 (Sat, 08 Nov 2025)
EndedAt: 2025-11-08 01:32:38 -0500 (Sat, 08 Nov 2025)
EllapsedTime: 1127.2 seconds
RetCode: 0
Status:   OK  
CheckDir: methylclock.Rcheck
Warnings: 0

Command output

##############################################################################
##############################################################################
###
### Running command:
###
###   /home/biocbuild/bbs-3.23-bioc/R/bin/R CMD check --install=check:methylclock.install-out.txt --library=/home/biocbuild/bbs-3.23-bioc/R/site-library --timings methylclock_1.17.0.tar.gz
###
##############################################################################
##############################################################################


* using log directory ‘/home/biocbuild/bbs-3.23-bioc/meat/methylclock.Rcheck’
* using R Under development (unstable) (2025-10-20 r88955)
* using platform: x86_64-pc-linux-gnu
* R was compiled by
    gcc (Ubuntu 13.3.0-6ubuntu2~24.04) 13.3.0
    GNU Fortran (Ubuntu 13.3.0-6ubuntu2~24.04) 13.3.0
* running under: Ubuntu 24.04.3 LTS
* using session charset: UTF-8
* checking for file ‘methylclock/DESCRIPTION’ ... OK
* checking extension type ... Package
* this is package ‘methylclock’ version ‘1.17.0’
* package encoding: UTF-8
* checking package namespace information ... OK
* checking package dependencies ... OK
* checking if this is a source package ... OK
* checking if there is a namespace ... OK
* checking for hidden files and directories ... OK
* checking for portable file names ... OK
* checking for sufficient/correct file permissions ... OK
* checking whether package ‘methylclock’ can be installed ... OK
* used C++ compiler: ‘g++ (Ubuntu 13.3.0-6ubuntu2~24.04) 13.3.0’
* checking installed package size ... OK
* checking package directory ... OK
* checking ‘build’ directory ... OK
* checking DESCRIPTION meta-information ... NOTE
License stub is invalid DCF.
* checking top-level files ... OK
* checking for left-over files ... OK
* checking index information ... OK
* checking package subdirectories ... OK
* checking code files for non-ASCII characters ... OK
* checking R files for syntax errors ... OK
* checking whether the package can be loaded ... OK
* checking whether the package can be loaded with stated dependencies ... OK
* checking whether the package can be unloaded cleanly ... OK
* checking whether the namespace can be loaded with stated dependencies ... OK
* checking whether the namespace can be unloaded cleanly ... OK
* checking loading without being on the library search path ... OK
* checking dependencies in R code ... NOTE
Unexported object imported by a ':::' call: ‘minfi:::projectCellType’
  See the note in ?`:::` about the use of this operator.
* checking S3 generic/method consistency ... OK
* checking replacement functions ... OK
* checking foreign function calls ... OK
* checking R code for possible problems ... NOTE
DNAmAge: no visible binding for global variable ‘coefHorvath’
DNAmAge: no visible binding for global variable ‘coefHannum’
DNAmAge: no visible binding for global variable ‘coefLevine’
DNAmAge: no visible binding for global variable ‘coefSkin’
DNAmAge: no visible binding for global variable ‘coefPedBE’
DNAmAge: no visible binding for global variable ‘coefWu’
DNAmAge: no visible binding for global variable ‘coefTL’
DNAmAge: no visible binding for global variable ‘coefBLUP’
DNAmAge: no visible binding for global variable ‘coefEN’
DNAmGA: no visible binding for global variable ‘coefKnightGA’
DNAmGA: no visible binding for global variable ‘coefBohlin’
DNAmGA: no visible binding for global variable ‘coefMayneGA’
DNAmGA: no visible binding for global variable ‘coefLeeGA’
DNAmGA: no visible binding for global variable ‘coefEPIC’
DNAmGA: no visible global function definition for
  ‘meffil.estimate.cell.counts.from.betas’
DNAmGA: no visible global function definition for ‘install.packages’
DNAmGA: no visible global function definition for ‘data’
DNAmGA: no visible binding for global variable ‘plCellCpGsThird’
checkClocks: no visible binding for global variable ‘MethylationData’
checkClocks: no visible binding for global variable ‘coefHorvath’
checkClocks: no visible binding for global variable ‘coefHannum’
checkClocks: no visible binding for global variable ‘coefLevine’
checkClocks: no visible binding for global variable ‘coefSkin’
checkClocks: no visible binding for global variable ‘coefPedBE’
checkClocks: no visible binding for global variable ‘coefWu’
checkClocks: no visible binding for global variable ‘coefTL’
checkClocks: no visible binding for global variable ‘coefBLUP’
checkClocks: no visible binding for global variable ‘coefEN’
checkClocksGA: no visible binding for global variable ‘coefKnightGA’
checkClocksGA: no visible binding for global variable ‘coefBohlin’
checkClocksGA: no visible binding for global variable ‘coefMayneGA’
checkClocksGA: no visible binding for global variable ‘coefLeeGA’
checkClocksGA: no visible binding for global variable ‘coefEPIC’
cpgs_imputation: no visible binding for global variable ‘cpgs.in’
plotCorClocks: no visible binding for global variable ‘method’
plotCorClocks: no visible binding for global variable ‘clock’
plotCorClocks: no visible binding for global variable ‘age’
plotCorClocks: no visible binding for global variable ‘..rr.label..’
plotCorClocks: no visible binding for global variable ‘..p.label..’
plotDNAmAge: no visible binding for global variable ‘..eq.label..’
plotDNAmAge: no visible binding for global variable ‘..rr.label..’
Undefined global functions or variables:
  ..eq.label.. ..p.label.. ..rr.label.. MethylationData age clock
  coefBLUP coefBohlin coefEN coefEPIC coefHannum coefHorvath
  coefKnightGA coefLeeGA coefLevine coefMayneGA coefPedBE coefSkin
  coefTL coefWu cpgs.in data install.packages
  meffil.estimate.cell.counts.from.betas method plCellCpGsThird
Consider adding
  importFrom("utils", "data", "install.packages")
to your NAMESPACE file.
* checking Rd files ... OK
* checking Rd metadata ... OK
* checking Rd cross-references ... OK
* checking for missing documentation entries ... OK
* checking for code/documentation mismatches ... OK
* checking Rd \usage sections ... OK
* checking Rd contents ... OK
* checking for unstated dependencies in examples ... OK
* checking contents of ‘data’ directory ... OK
* checking data for non-ASCII characters ... OK
* checking data for ASCII and uncompressed saves ... OK
* checking line endings in C/C++/Fortran sources/headers ... OK
* checking compiled code ... INFO
Note: information on .o files is not available
* checking files in ‘vignettes’ ... OK
* checking examples ... OK
Examples with CPU (user + system) or elapsed time > 5s
                                    user system elapsed
plotDNAmAge                       33.410  1.196  37.023
commonClockCpgs                   32.319  1.697  37.476
load_DNAm_Clocks_data             30.858  1.041  34.346
DNAmAge                           26.300  4.325  33.027
load_DNAmGA_Clocks_data           27.572  1.110  30.762
checkClocks                       22.207  2.058  26.590
checkClocksGA                     12.766  0.677  14.874
DNAmGA                            12.339  0.816  14.540
meffilEstimateCellCountsFromBetas 12.757  0.251  13.456
getCellTypeReference               6.294  2.426   8.947
meffilListCellTypeReferences       6.253  0.164   6.654
* checking for unstated dependencies in vignettes ... OK
* checking package vignettes ... OK
* checking re-building of vignette outputs ... OK
* checking PDF version of manual ... OK
* DONE

Status: 3 NOTEs
See
  ‘/home/biocbuild/bbs-3.23-bioc/meat/methylclock.Rcheck/00check.log’
for details.


Installation output

methylclock.Rcheck/00install.out

##############################################################################
##############################################################################
###
### Running command:
###
###   /home/biocbuild/bbs-3.23-bioc/R/bin/R CMD INSTALL methylclock
###
##############################################################################
##############################################################################


* installing to library ‘/home/biocbuild/bbs-3.23-bioc/R/site-library’
* installing *source* package ‘methylclock’ ...
** this is package ‘methylclock’ version ‘1.17.0’
** using staged installation
** libs
using C++ compiler: ‘g++ (Ubuntu 13.3.0-6ubuntu2~24.04) 13.3.0’
g++ -std=gnu++17 -I"/home/biocbuild/bbs-3.23-bioc/R/include" -DNDEBUG  -I'/home/biocbuild/bbs-3.23-bioc/R/site-library/Rcpp/include' -I/usr/local/include    -fpic  -g -O2  -Wall -Werror=format-security  -c NewModel1Clean.cpp -o NewModel1Clean.o
g++ -std=gnu++17 -I"/home/biocbuild/bbs-3.23-bioc/R/include" -DNDEBUG  -I'/home/biocbuild/bbs-3.23-bioc/R/site-library/Rcpp/include' -I/usr/local/include    -fpic  -g -O2  -Wall -Werror=format-security  -c NewModel1Clean_emxAPI.cpp -o NewModel1Clean_emxAPI.o
g++ -std=gnu++17 -I"/home/biocbuild/bbs-3.23-bioc/R/include" -DNDEBUG  -I'/home/biocbuild/bbs-3.23-bioc/R/site-library/Rcpp/include' -I/usr/local/include    -fpic  -g -O2  -Wall -Werror=format-security  -c NewModel1Clean_emxutil.cpp -o NewModel1Clean_emxutil.o
g++ -std=gnu++17 -I"/home/biocbuild/bbs-3.23-bioc/R/include" -DNDEBUG  -I'/home/biocbuild/bbs-3.23-bioc/R/site-library/Rcpp/include' -I/usr/local/include    -fpic  -g -O2  -Wall -Werror=format-security  -c NewModel1Clean_initialize.cpp -o NewModel1Clean_initialize.o
g++ -std=gnu++17 -I"/home/biocbuild/bbs-3.23-bioc/R/include" -DNDEBUG  -I'/home/biocbuild/bbs-3.23-bioc/R/site-library/Rcpp/include' -I/usr/local/include    -fpic  -g -O2  -Wall -Werror=format-security  -c NewModel1Clean_terminate.cpp -o NewModel1Clean_terminate.o
g++ -std=gnu++17 -I"/home/biocbuild/bbs-3.23-bioc/R/include" -DNDEBUG  -I'/home/biocbuild/bbs-3.23-bioc/R/site-library/Rcpp/include' -I/usr/local/include    -fpic  -g -O2  -Wall -Werror=format-security  -c RcppExports.cpp -o RcppExports.o
g++ -std=gnu++17 -I"/home/biocbuild/bbs-3.23-bioc/R/include" -DNDEBUG  -I'/home/biocbuild/bbs-3.23-bioc/R/site-library/Rcpp/include' -I/usr/local/include    -fpic  -g -O2  -Wall -Werror=format-security  -c bsxfun.cpp -o bsxfun.o
g++ -std=gnu++17 -I"/home/biocbuild/bbs-3.23-bioc/R/include" -DNDEBUG  -I'/home/biocbuild/bbs-3.23-bioc/R/site-library/Rcpp/include' -I/usr/local/include    -fpic  -g -O2  -Wall -Werror=format-security  -c main.cpp -o main.o
main.cpp:37:14: warning: ‘float argInit_real_T()’ defined but not used [-Wunused-function]
   37 | static float argInit_real_T()
      |              ^~~~~~~~~~~~~~
g++ -std=gnu++17 -I"/home/biocbuild/bbs-3.23-bioc/R/include" -DNDEBUG  -I'/home/biocbuild/bbs-3.23-bioc/R/site-library/Rcpp/include' -I/usr/local/include    -fpic  -g -O2  -Wall -Werror=format-security  -c repmat.cpp -o repmat.o
g++ -std=gnu++17 -I"/home/biocbuild/bbs-3.23-bioc/R/include" -DNDEBUG  -I'/home/biocbuild/bbs-3.23-bioc/R/site-library/Rcpp/include' -I/usr/local/include    -fpic  -g -O2  -Wall -Werror=format-security  -c rtGetInf.cpp -o rtGetInf.o
g++ -std=gnu++17 -I"/home/biocbuild/bbs-3.23-bioc/R/include" -DNDEBUG  -I'/home/biocbuild/bbs-3.23-bioc/R/site-library/Rcpp/include' -I/usr/local/include    -fpic  -g -O2  -Wall -Werror=format-security  -c rtGetNaN.cpp -o rtGetNaN.o
g++ -std=gnu++17 -I"/home/biocbuild/bbs-3.23-bioc/R/include" -DNDEBUG  -I'/home/biocbuild/bbs-3.23-bioc/R/site-library/Rcpp/include' -I/usr/local/include    -fpic  -g -O2  -Wall -Werror=format-security  -c rt_nonfinite.cpp -o rt_nonfinite.o
g++ -std=gnu++17 -shared -L/home/biocbuild/bbs-3.23-bioc/R/lib -L/usr/local/lib -o methylclock.so NewModel1Clean.o NewModel1Clean_emxAPI.o NewModel1Clean_emxutil.o NewModel1Clean_initialize.o NewModel1Clean_terminate.o RcppExports.o bsxfun.o main.o repmat.o rtGetInf.o rtGetNaN.o rt_nonfinite.o -L/home/biocbuild/bbs-3.23-bioc/R/lib -lR
installing to /home/biocbuild/bbs-3.23-bioc/R/site-library/00LOCK-methylclock/00new/methylclock/libs
** R
** data
** inst
** byte-compile and prepare package for lazy loading
No methods found in package ‘rtracklayer’ for request: ‘trackName<-’ when loading ‘AnnotationHubData’
Warning message:
replacing previous import ‘utils::findMatches’ by ‘S4Vectors::findMatches’ when loading ‘ExperimentHubData’ 
** help
*** installing help indices
** building package indices
** installing vignettes
** testing if installed package can be loaded from temporary location
Warning: replacing previous import ‘utils::findMatches’ by ‘S4Vectors::findMatches’ when loading ‘ExperimentHubData’
No methods found in package ‘rtracklayer’ for request: ‘trackName<-’ when loading ‘AnnotationHubData’
** checking absolute paths in shared objects and dynamic libraries
** testing if installed package can be loaded from final location
Warning: replacing previous import ‘utils::findMatches’ by ‘S4Vectors::findMatches’ when loading ‘ExperimentHubData’
No methods found in package ‘rtracklayer’ for request: ‘trackName<-’ when loading ‘AnnotationHubData’
** testing if installed package keeps a record of temporary installation path
* DONE (methylclock)

Tests output


Example timings

methylclock.Rcheck/methylclock-Ex.timings

nameusersystemelapsed
DNAmAge26.300 4.32533.027
DNAmGA12.339 0.81614.540
checkClocks22.207 2.05826.590
checkClocksGA12.766 0.67714.874
commonClockCpgs32.319 1.69737.476
getCellTypeReference6.2942.4268.947
load_DNAmGA_Clocks_data27.572 1.11030.762
load_DNAm_Clocks_data30.858 1.04134.346
meffilEstimateCellCountsFromBetas12.757 0.25113.456
meffilListCellTypeReferences6.2530.1646.654
plotCorClocks000
plotDNAmAge33.410 1.19637.023
progress_data0.0170.0010.018
progress_vars0.0020.0000.002