| Back to Multiple platform build/check report for BioC 3.23: simplified long |
|
This page was generated on 2025-11-19 10:13 -0500 (Wed, 19 Nov 2025).
| Hostname | OS | Arch (*) | R version | Installed pkgs |
|---|---|---|---|---|
| nebbiolo1 | Linux (Ubuntu 24.04.3 LTS) | x86_64 | R Under development (unstable) (2025-10-20 r88955) -- "Unsuffered Consequences" | 4827 |
| lconway | macOS 12.7.6 Monterey | x86_64 | R Under development (unstable) (2025-10-21 r88958) -- "Unsuffered Consequences" | 4600 |
| kjohnson3 | macOS 13.7.7 Ventura | arm64 | R Under development (unstable) (2025-11-04 r88984) -- "Unsuffered Consequences" | 4564 |
| Click on any hostname to see more info about the system (e.g. compilers) (*) as reported by 'uname -p', except on Windows and Mac OS X | ||||
| Package 1219/2325 | Hostname | OS / Arch | INSTALL | BUILD | CHECK | BUILD BIN | ||||||||
| metabinR 1.13.0 (landing page) Anestis Gkanogiannis
| nebbiolo1 | Linux (Ubuntu 24.04.3 LTS) / x86_64 | OK | OK | OK | |||||||||
| lconway | macOS 12.7.6 Monterey / x86_64 | OK | OK | OK | OK | |||||||||
| kjohnson3 | macOS 13.7.7 Ventura / arm64 | OK | OK | OK | OK | |||||||||
|
To the developers/maintainers of the metabinR package: - Allow up to 24 hours (and sometimes 48 hours) for your latest push to git@git.bioconductor.org:packages/metabinR.git to reflect on this report. See Troubleshooting Build Report for more information. - Use the following Renviron settings to reproduce errors and warnings. - If 'R CMD check' started to fail recently on the Linux builder(s) over a missing dependency, add the missing dependency to 'Suggests:' in your DESCRIPTION file. See Renviron.bioc for more information. |
| Package: metabinR |
| Version: 1.13.0 |
| Command: /Library/Frameworks/R.framework/Resources/bin/R CMD check --install=check:metabinR.install-out.txt --library=/Library/Frameworks/R.framework/Resources/library --no-vignettes --timings metabinR_1.13.0.tar.gz |
| StartedAt: 2025-11-18 22:09:08 -0500 (Tue, 18 Nov 2025) |
| EndedAt: 2025-11-18 22:10:27 -0500 (Tue, 18 Nov 2025) |
| EllapsedTime: 79.6 seconds |
| RetCode: 0 |
| Status: OK |
| CheckDir: metabinR.Rcheck |
| Warnings: 0 |
##############################################################################
##############################################################################
###
### Running command:
###
### /Library/Frameworks/R.framework/Resources/bin/R CMD check --install=check:metabinR.install-out.txt --library=/Library/Frameworks/R.framework/Resources/library --no-vignettes --timings metabinR_1.13.0.tar.gz
###
##############################################################################
##############################################################################
* using log directory ‘/Users/biocbuild/bbs-3.23-bioc/meat/metabinR.Rcheck’
* using R Under development (unstable) (2025-10-21 r88958)
* using platform: x86_64-apple-darwin20
* R was compiled by
Apple clang version 14.0.0 (clang-1400.0.29.202)
GNU Fortran (GCC) 14.2.0
* running under: macOS Ventura 13.7.8
* using session charset: UTF-8
* using option ‘--no-vignettes’
* checking for file ‘metabinR/DESCRIPTION’ ... OK
* checking extension type ... Package
* this is package ‘metabinR’ version ‘1.13.0’
* package encoding: UTF-8
* checking package namespace information ... OK
* checking package dependencies ... OK
* checking if this is a source package ... OK
* checking if there is a namespace ... OK
* checking for hidden files and directories ... OK
* checking for portable file names ... OK
* checking for sufficient/correct file permissions ... OK
* checking whether package ‘metabinR’ can be installed ... OK
* checking installed package size ... OK
* checking package directory ... OK
* checking ‘build’ directory ... OK
* checking DESCRIPTION meta-information ... OK
* checking top-level files ... OK
* checking for left-over files ... OK
* checking index information ... OK
* checking package subdirectories ... OK
* checking code files for non-ASCII characters ... OK
* checking R files for syntax errors ... OK
* checking whether the package can be loaded ... OK
* checking whether the package can be loaded with stated dependencies ... OK
* checking whether the package can be unloaded cleanly ... OK
* checking whether the namespace can be loaded with stated dependencies ... OK
* checking whether the namespace can be unloaded cleanly ... OK
* checking whether startup messages can be suppressed ... OK
* checking dependencies in R code ... OK
* checking S3 generic/method consistency ... OK
* checking replacement functions ... OK
* checking foreign function calls ... OK
* checking R code for possible problems ... OK
* checking Rd files ... OK
* checking Rd metadata ... OK
* checking Rd cross-references ... OK
* checking for missing documentation entries ... OK
* checking for code/documentation mismatches ... OK
* checking Rd \usage sections ... OK
* checking Rd contents ... OK
* checking for unstated dependencies in examples ... OK
* checking files in ‘vignettes’ ... OK
* checking examples ... OK
Examples with CPU (user + system) or elapsed time > 5s
user system elapsed
abundance_based_binning 8.501 1.074 7.130
composition_based_binning 5.972 0.807 2.169
hierarchical_binning 4.884 0.573 3.846
* checking for unstated dependencies in ‘tests’ ... OK
* checking tests ...
Running ‘spelling.R’
Running ‘testthat.R’
OK
* checking for unstated dependencies in vignettes ... OK
* checking package vignettes ... OK
* checking running R code from vignettes ... SKIPPED
* checking re-building of vignette outputs ... SKIPPED
* checking PDF version of manual ... OK
* DONE
Status: OK
metabinR.Rcheck/00install.out
############################################################################## ############################################################################## ### ### Running command: ### ### /Library/Frameworks/R.framework/Resources/bin/R CMD INSTALL metabinR ### ############################################################################## ############################################################################## * installing to library ‘/Library/Frameworks/R.framework/Versions/4.6-x86_64/Resources/library’ * installing *source* package ‘metabinR’ ... ** this is package ‘metabinR’ version ‘1.13.0’ ** using staged installation ** R ** inst ** byte-compile and prepare package for lazy loading ** help *** installing help indices ** building package indices ** installing vignettes ** testing if installed package can be loaded from temporary location ** testing if installed package can be loaded from final location ** testing if installed package keeps a record of temporary installation path * DONE (metabinR)
metabinR.Rcheck/tests/spelling.Rout
R Under development (unstable) (2025-10-21 r88958) -- "Unsuffered Consequences"
Copyright (C) 2025 The R Foundation for Statistical Computing
Platform: x86_64-apple-darwin20
R is free software and comes with ABSOLUTELY NO WARRANTY.
You are welcome to redistribute it under certain conditions.
Type 'license()' or 'licence()' for distribution details.
R is a collaborative project with many contributors.
Type 'contributors()' for more information and
'citation()' on how to cite R or R packages in publications.
Type 'demo()' for some demos, 'help()' for on-line help, or
'help.start()' for an HTML browser interface to help.
Type 'q()' to quit R.
> if(requireNamespace('spelling', quietly = TRUE))
+ spelling::spell_check_test(vignettes = TRUE, error = FALSE,
+ skip_on_cran = TRUE)
All Done!
>
> proc.time()
user system elapsed
0.200 0.081 0.302
metabinR.Rcheck/tests/testthat.Rout
R Under development (unstable) (2025-10-21 r88958) -- "Unsuffered Consequences"
Copyright (C) 2025 The R Foundation for Statistical Computing
Platform: x86_64-apple-darwin20
R is free software and comes with ABSOLUTELY NO WARRANTY.
You are welcome to redistribute it under certain conditions.
Type 'license()' or 'licence()' for distribution details.
R is a collaborative project with many contributors.
Type 'contributors()' for more information and
'citation()' on how to cite R or R packages in publications.
Type 'demo()' for some demos, 'help()' for on-line help, or
'help.start()' for an HTML browser interface to help.
Type 'q()' to quit R.
> library(testthat)
> library(metabinR)
>
> test_check("metabinR")
version MTxAB =Tue Nov 18 15:10:11 EST 2025
cpus=48
using=1
2025/11/18 22:09:54 Using Dictionary ORIGINAL
2025/11/18 22:09:54 START of AB Counting
2025/11/18 22:09:54 FastaManager: START READ
2025/11/18 22:09:54 SequenceProcessor: 0 AB_KMERCOUNT START
CHUNK_SIZE=67108864
2025/11/18 22:09:54 FastaManager: lines read 53328
2025/11/18 22:09:54 FastaManager: END READ
2025/11/18 22:09:54 FastaManager: FASTA
2025/11/18 22:09:56 SequenceProcessor: 0 AB_KMERCOUNT EXIT
2025/11/18 22:09:56 END of AB Counting
2025/11/18 22:09:56 Loaded sequences: 26664
2025/11/18 22:09:56 Total kmers(before remove): 65536
##### Heap utilization statistics [GB] #####
Max Memory=0.5
Current Total Memory=0.5
Current Used Memory=0.288
Current Free Memory=0.212
############################################
2025/11/18 22:09:56
Unique: 0
Distinct: 65536
Total: 7625904
MaxCount: 1574
2025/11/18 22:09:56 START of EMsync
Run=1
Run=2
Run=3
Run=4
Run=5
Run=6
Run=7
Run=8
Run=9
Run=10
Run=11
Run=12
Run=13
Run=14
Run=15
Run=16
Run=17
Run=18
Run=19
Run=20
Run=21
Run=22
Run=23
Run=24
Run=25
2025/11/18 22:09:57 Runs=25
2025/11/18 22:09:57 END of EMsync
2025/11/18 22:09:57 START of Creating AB Cluster Vectors
Cluster 1 Abundance=241.01134335779187 Length=16168.173737759438 LowLimit=163 HighLimit=318
Cluster 2 Abundance=75.53888858729701 Length=49367.826262240575 LowLimit=32 HighLimit=118
2025/11/18 22:09:57 Trove size/4=18022
2025/11/18 22:09:57 Trove size/4=18022
2025/11/18 22:09:57 Cluster 2 size in kmers=65536 norm=221.81983091435748
2025/11/18 22:09:57 Cluster 1 size in kmers=65536 norm=126.5058948513796
2025/11/18 22:09:57 END of Creating AB Cluster Vectors
cpus=48
using=1
2025/11/18 22:09:57 START of AB Binning
2025/11/18 22:09:57 FastaManager: START READ
2025/11/18 22:09:57 SequenceProcessor: 0 AB_BINNING START
2025/11/18 22:09:57 FastaManager: lines read 53328
2025/11/18 22:09:57 FastaManager: END READ
2025/11/18 22:09:57 FastaManager: FASTA
2025/11/18 22:09:59 SequenceProcessor: 0 AB_BINNING EXIT
2025/11/18 22:09:59 END of AB Binning
Clustered reads:
AB Cluster 1: 19871
AB Cluster 2: 6793
##### Heap utilization statistics [GB] #####
Max Memory=0.5
Current Total Memory=0.5
Current Used Memory=0.372
Current Free Memory=0.128
############################################
version MTxCB =Tue Nov 18 15:10:11 EST 2025
cpus=48
using=1
2025/11/18 22:10:00 START of CB Counting
2025/11/18 22:10:00 FastaManager: START READ
2025/11/18 22:10:00 SequenceProcessor: 0 CB_SEQUENCEVECTORBUILD START
2025/11/18 22:10:00 FastaManager: lines read 53328
2025/11/18 22:10:00 FastaManager: END READ
2025/11/18 22:10:00 FastaManager: FASTA
2025/11/18 22:10:00 SequenceProcessor: 0 CB_SEQUENCEVECTORBUILD EXIT
2025/11/18 22:10:00 END of CB Counting
2025/11/18 22:10:00 Loaded sequences: 26664
##### Heap utilization statistics [GB] #####
Max Memory=0.5
Current Total Memory=0.5
Current Used Memory=0.383
Current Free Memory=0.117
############################################
cpus=48
using=1
2025/11/18 22:10:00 START of Creating CB Clusters Size=26664
K-Means clustering started
... centers initialized
... concurrent processing mode with 1 subtask threads
... iteration 1 moves = 7816
... iteration 2 moves = 4401
... iteration 3 moves = 1176
... iteration 4 moves = 592
... iteration 5 moves = 465
... iteration 6 moves = 411
... iteration 7 moves = 319
... iteration 8 moves = 296
... iteration 9 moves = 268
... iteration 10 moves = 271
... iteration 11 moves = 240
... iteration 12 moves = 171
... iteration 13 moves = 109
... iteration 14 moves = 50
... iteration 15 moves = 60
... iteration 16 moves = 40
... iteration 17 moves = 14
... iteration 18 moves = 9
... iteration 19 moves = 13
... iteration 20 moves = 5
... iteration 21 moves = 3
... iteration 22 moves = 2
... iteration 23 moves = 0
...end. 6.336 seconds.
2025/11/18 22:10:07 : kMeans cleanup.
2025/11/18 22:10:07 END of Creating CB Clusters.
cpus=48
using=1
2025/11/18 22:10:07 START of CB Binning
2025/11/18 22:10:07 FastaManager: START READ
2025/11/18 22:10:07 SequenceProcessor: 0 CB_BINNING START
2025/11/18 22:10:07 FastaManager: lines read 53328
2025/11/18 22:10:07 FastaManager: END READ
2025/11/18 22:10:07 FastaManager: FASTA
2025/11/18 22:10:07 SequenceProcessor: 0 CB_BINNING EXIT
Clustered reads:
CB Cluster 1: 9315
CB Cluster 2: 17349
##### Heap utilization statistics [GB] #####
Max Memory=0.5
Current Total Memory=0.5
Current Used Memory=0.462
Current Free Memory=0.038
############################################
version MTxABxCB =Tue Nov 18 15:10:11 EST 2025
cpus=48
using=1
2025/11/18 22:10:08 Using Dictionary ORIGINAL
2025/11/18 22:10:08 START of AB Counting
2025/11/18 22:10:08 FastaManager: START READ
2025/11/18 22:10:08 SequenceProcessor: 0 AB_KMERCOUNT START
2025/11/18 22:10:08 FastaManager: lines read 53328
2025/11/18 22:10:08 FastaManager: END READ
2025/11/18 22:10:08 FastaManager: FASTA
2025/11/18 22:10:09 SequenceProcessor: 0 AB_KMERCOUNT EXIT
2025/11/18 22:10:09 END of AB Counting
2025/11/18 22:10:09 Loaded sequences: 26664
2025/11/18 22:10:09 Distinct kmers(before remove): 65536
##### Heap utilization statistics [GB] #####
Max Memory=0.5
Current Total Memory=0.5
Current Used Memory=0.31
Current Free Memory=0.19
############################################
2025/11/18 22:10:09
Unique: 0
Distinct: 65536
Total: 7625904
MaxCount: 1574
2025/11/18 22:10:09 START of EMsync
Run=1
Run=2
Run=3
Run=4
Run=5
Run=6
Run=7
Run=8
Run=9
Run=10
Run=11
Run=12
Run=13
Run=14
Run=15
Run=16
Run=17
Run=18
Run=19
Run=20
Run=21
Run=22
Run=23
Run=24
Run=25
2025/11/18 22:10:10 Runs=25
2025/11/18 22:10:10 END of EMsync
2025/11/18 22:10:10 Filter before=2
2025/11/18 22:10:10 Filter after=2
2025/11/18 22:10:10 START of Creating AB Cluster Vectors
Cluster 1 Abundance=241.01134335779187 Length=16168.173737759438 LowLimit=163 HighLimit=318
Cluster 2 Abundance=75.53888858729701 Length=49367.826262240575 LowLimit=32 HighLimit=118
2025/11/18 22:10:10 Trove size/4=18022
2025/11/18 22:10:10 Trove size/4=18022
2025/11/18 22:10:10 Cluster 1 size in kmers=65536 norm=126.5058948513796
2025/11/18 22:10:10 Cluster 2 size in kmers=65536 norm=221.81983091435748
2025/11/18 22:10:10 END of Creating AB Cluster Vectors
cpus=48
using=1
2025/11/18 22:10:10 START of AB Binning
2025/11/18 22:10:10 FastaManager: START READ
2025/11/18 22:10:10 SequenceProcessor: 0 AB_BINNING START
2025/11/18 22:10:10 FastaManager: lines read 53328
2025/11/18 22:10:10 FastaManager: END READ
2025/11/18 22:10:10 FastaManager: FASTA
2025/11/18 22:10:12 SequenceProcessor: 0 AB_BINNING EXIT
2025/11/18 22:10:12 END of AB Binning
cpus=48
using=1
2025/11/18 22:10:12 START of CB Counting
2025/11/18 22:10:12 FastaManager: START READ
2025/11/18 22:10:12 SequenceProcessor: 0 CB_SEQUENCEVECTORBUILD START
2025/11/18 22:10:12 FastaManager: lines read 53328
2025/11/18 22:10:12 FastaManager: END READ
2025/11/18 22:10:12 FastaManager: FASTA
2025/11/18 22:10:13 SequenceProcessor: 0 CB_SEQUENCEVECTORBUILD EXIT
2025/11/18 22:10:13 END of CB Counting
2025/11/18 22:10:13 Loaded sequences: 26664
##### Heap utilization statistics [GB] #####
Max Memory=0.5
Current Total Memory=0.5
Current Used Memory=0.295
Current Free Memory=0.205
############################################
2025/11/18 22:10:13 AB Cluster=1 Size=19871
2025/11/18 22:10:13 AB Cluster=2 Size=6793
cpus=48
using=1
ABid size abundance EMLength newLength EMspecies newspecies
----- ---- --------- -------- --------- --------- ----------
1 19,871 241.01134 16,168 12,367 1 1
2025/11/18 22:10:13 START of Creating CB Clusters for AB Cluster=1 Size=19871
K-Means clustering started
... centers initialized
... concurrent processing mode with 1 subtask threads
... iteration 1 moves = 0
...end. 2.306 seconds.
2025/11/18 22:10:15 : kMeans cleanup.
2025/11/18 22:10:15 END of Creating CB Clusters for AB Cluster=1
cpus=48
using=1
ABid size abundance EMLength newLength EMspecies newspecies
----- ---- --------- -------- --------- --------- ----------
2 6,793 75.53889 49,367 13,489 1 1
2025/11/18 22:10:15 START of Creating CB Clusters for AB Cluster=2 Size=6793
K-Means clustering started
... centers initialized
... concurrent processing mode with 1 subtask threads
... iteration 1 moves = 0
...end. 0.751 seconds.
2025/11/18 22:10:16 : kMeans cleanup.
2025/11/18 22:10:16 END of Creating CB Clusters for AB Cluster=2
##### Heap utilization statistics [GB] #####
Max Memory=0.5
Current Total Memory=0.5
Current Used Memory=0.404
Current Free Memory=0.096
############################################
cpus=48
using=1
2025/11/18 22:10:16 START of CB Binning
2025/11/18 22:10:16 FastaManager: START READ
2025/11/18 22:10:16 SequenceProcessor: 0 CB_BINNING START
2025/11/18 22:10:16 FastaManager: lines read 53328
2025/11/18 22:10:16 FastaManager: END READ
2025/11/18 22:10:16 FastaManager: FASTA
2025/11/18 22:10:16 SequenceProcessor: 0 CB_BINNING EXIT
Clustered reads:
ABxCB Cluster 1: 19871
ABxCB Cluster 2: 6793
##### Heap utilization statistics [GB] #####
Max Memory=0.5
Current Total Memory=0.5
Current Used Memory=0.442
Current Free Memory=0.058
############################################
[ FAIL 0 | WARN 0 | SKIP 0 | PASS 52 ]
>
> proc.time()
user system elapsed
30.933 1.337 24.007
metabinR.Rcheck/metabinR-Ex.timings
| name | user | system | elapsed | |
| abundance_based_binning | 8.501 | 1.074 | 7.130 | |
| composition_based_binning | 5.972 | 0.807 | 2.169 | |
| hierarchical_binning | 4.884 | 0.573 | 3.846 | |