| Back to Build/check report for BioC 3.23: simplified long |
|
This page was generated on 2025-11-13 11:32 -0500 (Thu, 13 Nov 2025).
| Hostname | OS | Arch (*) | R version | Installed pkgs |
|---|---|---|---|---|
| kjohnson3 | macOS 13.7.7 Ventura | arm64 | R Under development (unstable) (2025-11-04 r88984) -- "Unsuffered Consequences" | 4013 |
| Click on any hostname to see more info about the system (e.g. compilers) (*) as reported by 'uname -p', except on Windows and Mac OS X | ||||
| Package 1078/2325 | Hostname | OS / Arch | INSTALL | BUILD | CHECK | BUILD BIN | ||||||||
| isobar 1.57.0 (landing page) Florian P Breitwieser
| kjohnson3 | macOS 13.7.7 Ventura / arm64 | OK | OK | ERROR | OK | ||||||||
|
To the developers/maintainers of the isobar package: - Allow up to 24 hours (and sometimes 48 hours) for your latest push to git@git.bioconductor.org:packages/isobar.git to reflect on this report. See Troubleshooting Build Report for more information. - Use the following Renviron settings to reproduce errors and warnings. - If 'R CMD check' started to fail recently on the Linux builder(s) over a missing dependency, add the missing dependency to 'Suggests:' in your DESCRIPTION file. See Renviron.bioc for more information. |
| Package: isobar |
| Version: 1.57.0 |
| Command: rm -rf isobar.buildbin-libdir && mkdir isobar.buildbin-libdir && /Users/biocbuild/BBS/utils/build-universal.sh isobar_1.57.0.tar.gz /Library/Frameworks/R.framework/Resources/bin/R isobar.buildbin-libdir |
| StartedAt: 2025-11-12 21:00:46 -0500 (Wed, 12 Nov 2025) |
| EndedAt: 2025-11-12 21:01:00 -0500 (Wed, 12 Nov 2025) |
| EllapsedTime: 14.3 seconds |
| RetCode: 0 |
| Status: OK |
| PackageFile: isobar_1.57.0.tgz |
| PackageFileSize: 3.899 MiB |
############################################################################## ############################################################################## ### ### Running command: ### ### rm -rf isobar.buildbin-libdir && mkdir isobar.buildbin-libdir && /Users/biocbuild/BBS/utils/build-universal.sh isobar_1.57.0.tar.gz /Library/Frameworks/R.framework/Resources/bin/R isobar.buildbin-libdir ### ############################################################################## ############################################################################## >>>>>>> >>>>>>> INSTALLATION WITH 'R CMD INSTALL --preclean --no-multiarch --library=isobar.buildbin-libdir isobar_1.57.0.tar.gz' >>>>>>> * installing *source* package ‘isobar’ ... ** this is package ‘isobar’ version ‘1.57.0’ ** using staged installation ** R ** data ** inst ** byte-compile and prepare package for lazy loading in method for ‘coerce’ with signature ‘"MSnSet","IBSpectra"’: no definition for class “MSnSet” in method for ‘coerce’ with signature ‘"IBSpectra","MSnSet"’: no definition for class “MSnSet” ** help *** installing help indices ** building package indices ** installing vignettes ** testing if installed package can be loaded from temporary location ** testing if installed package can be loaded from final location ** testing if installed package keeps a record of temporary installation path * DONE (isobar)