Back to Build/check report for BioC 3.23:   simplified   long
ABCDEFGH[I]JKLMNOPQRSTUVWXYZ

This page was generated on 2025-11-13 11:32 -0500 (Thu, 13 Nov 2025).

HostnameOSArch (*)R versionInstalled pkgs
kjohnson3macOS 13.7.7 Venturaarm64R Under development (unstable) (2025-11-04 r88984) -- "Unsuffered Consequences" 4013
Click on any hostname to see more info about the system (e.g. compilers)      (*) as reported by 'uname -p', except on Windows and Mac OS X

Package 1038/2325HostnameOS / ArchINSTALLBUILDCHECKBUILD BIN
immunotation 1.19.0  (landing page)
Katharina Imkeller
Snapshot Date: 2025-11-12 13:40 -0500 (Wed, 12 Nov 2025)
git_url: https://git.bioconductor.org/packages/immunotation
git_branch: devel
git_last_commit: 0c20023
git_last_commit_date: 2025-10-29 11:08:50 -0500 (Wed, 29 Oct 2025)
kjohnson3macOS 13.7.7 Ventura / arm64  OK    OK    OK    ERROR  


BUILD BIN results for immunotation on kjohnson3

To the developers/maintainers of the immunotation package:
- Allow up to 24 hours (and sometimes 48 hours) for your latest push to git@git.bioconductor.org:packages/immunotation.git to reflect on this report. See Troubleshooting Build Report for more information.
- Use the following Renviron settings to reproduce errors and warnings.
- If 'R CMD check' started to fail recently on the Linux builder(s) over a missing dependency, add the missing dependency to 'Suggests:' in your DESCRIPTION file. See Renviron.bioc for more information.

raw results


Summary

Package: immunotation
Version: 1.19.0
Command: rm -rf immunotation.buildbin-libdir && mkdir immunotation.buildbin-libdir && /Users/biocbuild/BBS/utils/build-universal.sh immunotation_1.19.0.tar.gz /Library/Frameworks/R.framework/Resources/bin/R immunotation.buildbin-libdir
StartedAt: 2025-11-12 21:00:25 -0500 (Wed, 12 Nov 2025)
EndedAt: 2025-11-12 21:00:57 -0500 (Wed, 12 Nov 2025)
EllapsedTime: 31.7 seconds
RetCode: 1
Status:   ERROR  
PackageFile: None
PackageFileSize: NA

Command output

##############################################################################
##############################################################################
###
### Running command:
###
###   rm -rf immunotation.buildbin-libdir && mkdir immunotation.buildbin-libdir && /Users/biocbuild/BBS/utils/build-universal.sh immunotation_1.19.0.tar.gz /Library/Frameworks/R.framework/Resources/bin/R immunotation.buildbin-libdir
###
##############################################################################
##############################################################################


>>>>>>> 
>>>>>>> INSTALLATION WITH 'R CMD INSTALL --preclean --no-multiarch --library=immunotation.buildbin-libdir immunotation_1.19.0.tar.gz'
>>>>>>> 

* installing *source* package ‘immunotation’ ...
** this is package ‘immunotation’ version ‘1.19.0’
** using staged installation
** R
** inst
** byte-compile and prepare package for lazy loading
Warning: Failed to open 'https://services.healthtech.dtu.dk/services/NetMHCpan-4.1/allele.list': Resolving timed out after 10004 milliseconds
Warning: Failed to open 'https://services.healthtech.dtu.dk/services/NetMHCpan-4.1/allele.list': Connection timed out after 10003 milliseconds
Error in getURL(URL = "https://services.healthtech.dtu.dk/services/NetMHCpan-4.1/allele.list",  : 
  'getURL()' failed:
  URL: https://services.healthtech.dtu.dk/services/NetMHCpan-4.1/allele.list
  error: cannot open the connection
Error: unable to load R code in package ‘immunotation’
Execution halted
ERROR: lazy loading failed for package ‘immunotation’
* removing ‘/Users/biocbuild/bbs-3.23-bioc/meat/immunotation.buildbin-libdir/immunotation’