| Back to Build/check report for BioC 3.23: simplified long |
|
This page was generated on 2025-11-13 11:32 -0500 (Thu, 13 Nov 2025).
| Hostname | OS | Arch (*) | R version | Installed pkgs |
|---|---|---|---|---|
| kjohnson3 | macOS 13.7.7 Ventura | arm64 | R Under development (unstable) (2025-11-04 r88984) -- "Unsuffered Consequences" | 4013 |
| Click on any hostname to see more info about the system (e.g. compilers) (*) as reported by 'uname -p', except on Windows and Mac OS X | ||||
| Package 898/2325 | Hostname | OS / Arch | INSTALL | BUILD | CHECK | BUILD BIN | ||||||||
| goProfiles 1.73.0 (landing page) Alex Sanchez
| kjohnson3 | macOS 13.7.7 Ventura / arm64 | OK | OK | OK | OK | ||||||||
|
To the developers/maintainers of the goProfiles package: - Allow up to 24 hours (and sometimes 48 hours) for your latest push to git@git.bioconductor.org:packages/goProfiles.git to reflect on this report. See Troubleshooting Build Report for more information. - Use the following Renviron settings to reproduce errors and warnings. - If 'R CMD check' started to fail recently on the Linux builder(s) over a missing dependency, add the missing dependency to 'Suggests:' in your DESCRIPTION file. See Renviron.bioc for more information. |
| Package: goProfiles |
| Version: 1.73.0 |
| Command: /Library/Frameworks/R.framework/Resources/bin/R CMD build --keep-empty-dirs --no-resave-data goProfiles |
| StartedAt: 2025-11-12 16:24:20 -0500 (Wed, 12 Nov 2025) |
| EndedAt: 2025-11-12 16:24:37 -0500 (Wed, 12 Nov 2025) |
| EllapsedTime: 17.2 seconds |
| RetCode: 0 |
| Status: OK |
| PackageFile: goProfiles_1.73.0.tar.gz |
| PackageFileSize: 288.5 KiB |
##############################################################################
##############################################################################
###
### Running command:
###
### /Library/Frameworks/R.framework/Resources/bin/R CMD build --keep-empty-dirs --no-resave-data goProfiles
###
##############################################################################
##############################################################################
* checking for file ‘goProfiles/DESCRIPTION’ ... OK
* preparing ‘goProfiles’:
* checking DESCRIPTION meta-information ... OK
* installing the package (it is needed to build vignettes)
* creating vignettes ... OK
Warning: ‘inst/doc’ files
‘goProfiles.Rnw’, ‘goProfiles.pdf’, ‘goProfiles.R’
ignored as vignettes have been rebuilt.
Run R CMD build with --no-build-vignettes to prevent rebuilding.
* checking for LF line-endings in source and make files and shell scripts
* checking for empty or unneeded directories
* looking to see if a ‘data/datalist’ file should be added
* building ‘goProfiles_1.73.0.tar.gz’