Back to Build/check report for BioC 3.23:   simplified   long
ABCDEF[G]HIJKLMNOPQRSTUVWXYZ

This page was generated on 2025-11-08 11:32 -0500 (Sat, 08 Nov 2025).

HostnameOSArch (*)R versionInstalled pkgs
nebbiolo1Linux (Ubuntu 24.04.3 LTS)x86_64R Under development (unstable) (2025-10-20 r88955) -- "Unsuffered Consequences" 4821
Click on any hostname to see more info about the system (e.g. compilers)      (*) as reported by 'uname -p', except on Windows and Mac OS X

All results for package genefilter


To the developers/maintainers of the genefilter package:
- Allow up to 24 hours (and sometimes 48 hours) for your latest push to git@git.bioconductor.org:packages/genefilter.git to reflect on this report. See Troubleshooting Build Report for more information.
- Use the following Renviron settings to reproduce errors and warnings.
- If 'R CMD check' started to fail recently on the Linux builder(s) over a missing dependency, add the missing dependency to 'Suggests:' in your DESCRIPTION file. See Renviron.bioc for more information.

raw results

Package 808/2323HostnameOS / ArchINSTALLBUILDCHECKBUILD BIN
genefilter 1.93.0  (landing page)
Bioconductor Package Maintainer
Snapshot Date: 2025-11-07 13:40 -0500 (Fri, 07 Nov 2025)
git_url: https://git.bioconductor.org/packages/genefilter
git_branch: devel
git_last_commit: 434deb9
git_last_commit_date: 2025-10-29 09:41:48 -0500 (Wed, 29 Oct 2025)
nebbiolo1Linux (Ubuntu 24.04.3 LTS) / x86_64  OK    OK    WARNINGS  UNNEEDED, same version is already published



Results for Bioconductor software packages that depend directly on package genefilter

QUICK STATSOS / ArchINSTALLBUILDCHECKBUILD BIN
nebbiolo1Linux (Ubuntu 24.04.3 LTS) / x86_64
0131
0329
00524
Package 1/32HostnameOS / ArchINSTALLBUILDCHECKBUILD BIN
a4Base 1.59.0  (landing page)
Laure Cougnaud
git_last_commit: 2ae8314
git_last_commit_date: 2025-10-29 10:07:20 -0500
nebbiolo1Linux (Ubuntu 24.04.3 LTS) / x86_64  OK    OK    OK  UNNEEDED, same version is already published
Package 2/32HostnameOS / ArchINSTALLBUILDCHECKBUILD BIN
annmap 1.53.0  (landing page)
Chris Wirth
git_last_commit: d64521e
git_last_commit_date: 2025-10-29 10:11:14 -0500
nebbiolo1Linux (Ubuntu 24.04.3 LTS) / x86_64  OK    OK    WARNINGS  UNNEEDED, same version is already published
Package 3/32HostnameOS / ArchINSTALLBUILDCHECKBUILD BIN
arrayQualityMetrics 3.67.0  (landing page)
Mike Smith
git_last_commit: 39eac6d
git_last_commit_date: 2025-10-29 09:59:44 -0500
nebbiolo1Linux (Ubuntu 24.04.3 LTS) / x86_64  OK    OK    OK  NO, package depends on 'beadarray' which is not available
Package 4/32HostnameOS / ArchINSTALLBUILDCHECKBUILD BIN
broadSeq 1.5.0  (landing page)
Rishi Das Roy
git_last_commit: f8280c0
git_last_commit_date: 2025-10-29 11:30:34 -0500
nebbiolo1Linux (Ubuntu 24.04.3 LTS) / x86_64  OK    OK    WARNINGS  NO, package depends on 'DELocal' which is not available
Package 5/32HostnameOS / ArchINSTALLBUILDCHECKBUILD BIN
Category 2.77.0  (landing page)
Bioconductor Package Maintainer
git_last_commit: 6850286
git_last_commit_date: 2025-10-29 09:56:37 -0500
nebbiolo1Linux (Ubuntu 24.04.3 LTS) / x86_64  OK    OK    OK  UNNEEDED, same version is already published
Package 6/32HostnameOS / ArchINSTALLBUILDCHECKBUILD BIN
cbaf 1.33.0  (landing page)
Arman Shahrisa
git_last_commit: a0e1959
git_last_commit_date: 2025-10-29 10:41:05 -0500
nebbiolo1Linux (Ubuntu 24.04.3 LTS) / x86_64  OK    OK    OK  NO, package depends on 'cBioPortalData' which is not available
Package 7/32HostnameOS / ArchINSTALLBUILDCHECKBUILD BIN
ClassifyR 3.15.0  (landing page)
Dario Strbenac
git_last_commit: 766b130
git_last_commit_date: 2025-10-29 10:20:42 -0500
nebbiolo1Linux (Ubuntu 24.04.3 LTS) / x86_64  OK    OK    OK  UNNEEDED, same version is already published
Package 8/32HostnameOS / ArchINSTALLBUILDCHECKBUILD BIN
CNTools 1.67.0  (landing page)
J. Zhang
git_last_commit: ed16efd
git_last_commit_date: 2025-10-29 10:02:56 -0500
nebbiolo1Linux (Ubuntu 24.04.3 LTS) / x86_64  OK    OK    OK  UNNEEDED, same version is already published
Package 9/32HostnameOS / ArchINSTALLBUILDCHECKBUILD BIN
countsimQC 1.29.0  (landing page)
Charlotte Soneson
git_last_commit: 21f3a2b
git_last_commit_date: 2025-10-29 10:47:52 -0500
nebbiolo1Linux (Ubuntu 24.04.3 LTS) / x86_64  OK    OK    OK  UNNEEDED, same version is already published
Package 10/32HostnameOS / ArchINSTALLBUILDCHECKBUILD BIN
covRNA 1.37.0  (landing page)
Lara Urban
git_last_commit: 041af1b
git_last_commit_date: 2025-10-29 10:32:21 -0500
nebbiolo1Linux (Ubuntu 24.04.3 LTS) / x86_64  OK    OK    OK  UNNEEDED, same version is already published
Package 11/32HostnameOS / ArchINSTALLBUILDCHECKBUILD BIN
DEXSeq 1.57.0  (landing page)
Alejandro Reyes
git_last_commit: db6ed7c
git_last_commit_date: 2025-10-29 10:07:54 -0500
nebbiolo1Linux (Ubuntu 24.04.3 LTS) / x86_64  OK    OK    OK  UNNEEDED, same version is already published
Package 12/32HostnameOS / ArchINSTALLBUILDCHECKBUILD BIN
ENmix 1.47.0  (landing page)
Zongli Xu
git_last_commit: 3ce4b4c
git_last_commit_date: 2025-10-29 10:25:39 -0500
nebbiolo1Linux (Ubuntu 24.04.3 LTS) / x86_64  OK    OK    OK  UNNEEDED, same version is already published
Package 13/32HostnameOS / ArchINSTALLBUILDCHECKBUILD BIN
GeneMeta 1.83.0  (landing page)
Bioconductor Package Maintainer
git_last_commit: 810d001
git_last_commit_date: 2025-10-29 09:56:40 -0500
nebbiolo1Linux (Ubuntu 24.04.3 LTS) / x86_64  OK    OK    OK  UNNEEDED, same version is already published
Package 14/32HostnameOS / ArchINSTALLBUILDCHECKBUILD BIN
GSRI 2.59.0  (landing page)
Julian Gehring
git_last_commit: 6de90a8
git_last_commit_date: 2025-10-29 10:05:02 -0500
nebbiolo1Linux (Ubuntu 24.04.3 LTS) / x86_64  OK    OK    OK  UNNEEDED, same version is already published
Package 15/32HostnameOS / ArchINSTALLBUILDCHECKBUILD BIN
metaseqR2 1.23.0  (landing page)
Panagiotis Moulos
git_last_commit: 25b9df1
git_last_commit_date: 2025-10-29 10:59:18 -0500
nebbiolo1Linux (Ubuntu 24.04.3 LTS) / x86_64  OK    OK    OK  UNNEEDED, same version is already published
Package 16/32HostnameOS / ArchINSTALLBUILDCHECKBUILD BIN
methylCC 1.25.0  (landing page)
Stephanie C. Hicks
git_last_commit: e4eff51
git_last_commit_date: 2025-10-29 10:54:45 -0500
nebbiolo1Linux (Ubuntu 24.04.3 LTS) / x86_64  ERROR    ERROR  skipped
Package 17/32HostnameOS / ArchINSTALLBUILDCHECKBUILD BIN
methylumi 2.57.0  (landing page)
Sean Davis
git_last_commit: dcf4f3c
git_last_commit_date: 2025-10-29 10:02:53 -0500
nebbiolo1Linux (Ubuntu 24.04.3 LTS) / x86_64  OK    OK    OK  UNNEEDED, same version is already published
Package 18/32HostnameOS / ArchINSTALLBUILDCHECKBUILD BIN
minfi 1.57.0  (landing page)
Kasper Daniel Hansen
git_last_commit: 36249fb
git_last_commit_date: 2025-10-29 10:09:18 -0500
nebbiolo1Linux (Ubuntu 24.04.3 LTS) / x86_64  OK    OK    OK  UNNEEDED, same version is already published
Package 19/32HostnameOS / ArchINSTALLBUILDCHECKBUILD BIN
MLInterfaces 1.91.0  (landing page)
Vincent Carey
git_last_commit: e9c6af4
git_last_commit_date: 2025-10-29 09:55:18 -0500
nebbiolo1Linux (Ubuntu 24.04.3 LTS) / x86_64  OK    OK    WARNINGS  UNNEEDED, same version is already published
Package 20/32HostnameOS / ArchINSTALLBUILDCHECKBUILD BIN
mogsa 1.45.0  (landing page)
Chen Meng
git_last_commit: 51a848b
git_last_commit_date: 2025-10-29 10:25:17 -0500
nebbiolo1Linux (Ubuntu 24.04.3 LTS) / x86_64  OK    OK    OK  UNNEEDED, same version is already published
Package 21/32HostnameOS / ArchINSTALLBUILDCHECKBUILD BIN
NBAMSeq 1.27.0  (landing page)
Xu Ren
git_last_commit: e827f50
git_last_commit_date: 2025-10-29 10:51:23 -0500
nebbiolo1Linux (Ubuntu 24.04.3 LTS) / x86_64  OK    OK    OK  UNNEEDED, same version is already published
Package 22/32HostnameOS / ArchINSTALLBUILDCHECKBUILD BIN
pcaExplorer 3.5.0  (landing page)
Federico Marini
git_last_commit: 4e88ee9
git_last_commit_date: 2025-10-29 10:31:39 -0500
nebbiolo1Linux (Ubuntu 24.04.3 LTS) / x86_64  OK    OK    OK  UNNEEDED, same version is already published
Package 23/32HostnameOS / ArchINSTALLBUILDCHECKBUILD BIN
PECA 1.47.0  (landing page)
Tomi Suomi
git_last_commit: ef37402
git_last_commit_date: 2025-10-29 10:17:25 -0500
nebbiolo1Linux (Ubuntu 24.04.3 LTS) / x86_64  OK    OK    OK  UNNEEDED, same version is already published
Package 24/32HostnameOS / ArchINSTALLBUILDCHECKBUILD BIN
phenoTest 1.59.0  (landing page)
Evarist Planet
git_last_commit: 882e53c
git_last_commit_date: 2025-10-29 10:06:30 -0500
nebbiolo1Linux (Ubuntu 24.04.3 LTS) / x86_64  OK    OK    OK  UNNEEDED, same version is already published
Package 25/32HostnameOS / ArchINSTALLBUILDCHECKBUILD BIN
protGear 1.15.0  (landing page)
Kennedy Mwai
git_last_commit: 1c28da5
git_last_commit_date: 2025-10-29 11:15:59 -0500
nebbiolo1Linux (Ubuntu 24.04.3 LTS) / x86_64  OK    OK    OK  UNNEEDED, same version is already published
Package 26/32HostnameOS / ArchINSTALLBUILDCHECKBUILD BIN
SGCP 1.11.0  (landing page)
Niloofar AghaieAbiane
git_last_commit: d3ffc3a
git_last_commit_date: 2025-10-29 11:20:24 -0500
nebbiolo1Linux (Ubuntu 24.04.3 LTS) / x86_64  OK    ERROR  skipped
Package 27/32HostnameOS / ArchINSTALLBUILDCHECKBUILD BIN
spatialHeatmap 2.17.0  (landing page)
Jianhai Zhang
git_last_commit: aa4e2ac
git_last_commit_date: 2025-10-29 11:02:59 -0500
nebbiolo1Linux (Ubuntu 24.04.3 LTS) / x86_64  OK    ERROR  skipped
Package 28/32HostnameOS / ArchINSTALLBUILDCHECKBUILD BIN
SpliceWiz 1.13.0  (landing page)
Alex Chit Hei Wong
git_last_commit: 73b017a
git_last_commit_date: 2025-10-29 11:17:35 -0500
nebbiolo1Linux (Ubuntu 24.04.3 LTS) / x86_64  OK    OK    WARNINGS  UNNEEDED, same version is already published
Package 29/32HostnameOS / ArchINSTALLBUILDCHECKBUILD BIN
sva 3.59.0  (landing page)
Jeffrey T. Leek , John D. Storey
git_last_commit: fefe806
git_last_commit_date: 2025-10-29 10:09:21 -0500
nebbiolo1Linux (Ubuntu 24.04.3 LTS) / x86_64  OK    OK    OK  UNNEEDED, same version is already published
Package 30/32HostnameOS / ArchINSTALLBUILDCHECKBUILD BIN
tilingArray 1.89.0  (landing page)
Zhenyu Xu
git_last_commit: 1959ceb
git_last_commit_date: 2025-10-29 09:56:07 -0500
nebbiolo1Linux (Ubuntu 24.04.3 LTS) / x86_64  OK    OK    OK  UNNEEDED, same version is already published
Package 31/32HostnameOS / ArchINSTALLBUILDCHECKBUILD BIN
XDE 2.57.0  (landing page)
Robert Scharpf
git_last_commit: b5fcf9b
git_last_commit_date: 2025-10-29 10:00:04 -0500
nebbiolo1Linux (Ubuntu 24.04.3 LTS) / x86_64  OK    OK    WARNINGS  UNNEEDED, same version is already published
Package 32/32HostnameOS / ArchINSTALLBUILDCHECKBUILD BIN
zinbwave 1.33.0  (landing page)
Davide Risso
git_last_commit: dee1bb8
git_last_commit_date: 2025-10-29 10:39:04 -0500
nebbiolo1Linux (Ubuntu 24.04.3 LTS) / x86_64  OK    OK    OK  UNNEEDED, same version is already published