Back to Build/check report for BioC 3.23:   simplified   long
ABCDEF[G]HIJKLMNOPQRSTUVWXYZ

This page was generated on 2025-11-08 11:32 -0500 (Sat, 08 Nov 2025).

HostnameOSArch (*)R versionInstalled pkgs
nebbiolo1Linux (Ubuntu 24.04.3 LTS)x86_64R Under development (unstable) (2025-10-20 r88955) -- "Unsuffered Consequences" 4821
Click on any hostname to see more info about the system (e.g. compilers)      (*) as reported by 'uname -p', except on Windows and Mac OS X

Package 796/2323HostnameOS / ArchINSTALLBUILDCHECKBUILD BIN
gDRutils 1.9.1  (landing page)
Arkadiusz Gladki
Snapshot Date: 2025-11-07 13:40 -0500 (Fri, 07 Nov 2025)
git_url: https://git.bioconductor.org/packages/gDRutils
git_branch: devel
git_last_commit: 4a412dc
git_last_commit_date: 2025-10-30 05:33:15 -0500 (Thu, 30 Oct 2025)
nebbiolo1Linux (Ubuntu 24.04.3 LTS) / x86_64  OK    OK    OK  UNNEEDED, same version is already published


CHECK results for gDRutils on nebbiolo1

To the developers/maintainers of the gDRutils package:
- Allow up to 24 hours (and sometimes 48 hours) for your latest push to git@git.bioconductor.org:packages/gDRutils.git to reflect on this report. See Troubleshooting Build Report for more information.
- Use the following Renviron settings to reproduce errors and warnings.
- If 'R CMD check' started to fail recently on the Linux builder(s) over a missing dependency, add the missing dependency to 'Suggests:' in your DESCRIPTION file. See Renviron.bioc for more information.

raw results


Summary

Package: gDRutils
Version: 1.9.1
Command: /home/biocbuild/bbs-3.23-bioc/R/bin/R CMD check --install=check:gDRutils.install-out.txt --library=/home/biocbuild/bbs-3.23-bioc/R/site-library --timings gDRutils_1.9.1.tar.gz
StartedAt: 2025-11-07 23:46:09 -0500 (Fri, 07 Nov 2025)
EndedAt: 2025-11-07 23:50:45 -0500 (Fri, 07 Nov 2025)
EllapsedTime: 276.4 seconds
RetCode: 0
Status:   OK  
CheckDir: gDRutils.Rcheck
Warnings: 0

Command output

##############################################################################
##############################################################################
###
### Running command:
###
###   /home/biocbuild/bbs-3.23-bioc/R/bin/R CMD check --install=check:gDRutils.install-out.txt --library=/home/biocbuild/bbs-3.23-bioc/R/site-library --timings gDRutils_1.9.1.tar.gz
###
##############################################################################
##############################################################################


* using log directory ‘/home/biocbuild/bbs-3.23-bioc/meat/gDRutils.Rcheck’
* using R Under development (unstable) (2025-10-20 r88955)
* using platform: x86_64-pc-linux-gnu
* R was compiled by
    gcc (Ubuntu 13.3.0-6ubuntu2~24.04) 13.3.0
    GNU Fortran (Ubuntu 13.3.0-6ubuntu2~24.04) 13.3.0
* running under: Ubuntu 24.04.3 LTS
* using session charset: UTF-8
* checking for file ‘gDRutils/DESCRIPTION’ ... OK
* checking extension type ... Package
* this is package ‘gDRutils’ version ‘1.9.1’
* package encoding: UTF-8
* checking package namespace information ... OK
* checking package dependencies ... OK
* checking if this is a source package ... OK
* checking if there is a namespace ... OK
* checking for hidden files and directories ... OK
* checking for portable file names ... OK
* checking for sufficient/correct file permissions ... OK
* checking whether package ‘gDRutils’ can be installed ... OK
* checking installed package size ... OK
* checking package directory ... OK
* checking ‘build’ directory ... OK
* checking DESCRIPTION meta-information ... OK
* checking top-level files ... OK
* checking for left-over files ... OK
* checking index information ... OK
* checking package subdirectories ... OK
* checking code files for non-ASCII characters ... OK
* checking R files for syntax errors ... OK
* checking whether the package can be loaded ... OK
* checking whether the package can be loaded with stated dependencies ... OK
* checking whether the package can be unloaded cleanly ... OK
* checking whether the namespace can be loaded with stated dependencies ... OK
* checking whether the namespace can be unloaded cleanly ... OK
* checking loading without being on the library search path ... OK
* checking dependencies in R code ... OK
* checking S3 generic/method consistency ... OK
* checking replacement functions ... OK
* checking foreign function calls ... OK
* checking R code for possible problems ... OK
* checking Rd files ... OK
* checking Rd metadata ... OK
* checking Rd cross-references ... NOTE
Found the following Rd file(s) with Rd \link{} targets missing package
anchors:
  SE_metadata.Rd: SummarizedExperiment-class
  convert_mae_assay_to_dt.Rd: SummarizedExperiment-class,
    MultiAssayExperiment-class
  convert_se_assay_to_dt.Rd: SummarizedExperiment-class
  is_exp_empty.Rd: SummarizedExperiment-class
  split_SE_components.Rd: SummarizedExperiment-class
  validate_se_assay_name.Rd: SummarizedExperiment-class
Please provide package anchors for all Rd \link{} targets not in the
package itself and the base packages.
* checking for missing documentation entries ... OK
* checking for code/documentation mismatches ... OK
* checking Rd \usage sections ... OK
* checking Rd contents ... OK
* checking for unstated dependencies in examples ... OK
* checking files in ‘vignettes’ ... OK
* checking examples ... OK
Examples with CPU (user + system) or elapsed time > 5s
           user system elapsed
merge_MAE 4.717  0.967   4.222
* checking for unstated dependencies in ‘tests’ ... OK
* checking tests ...
  Running ‘testthat.R’
 OK
* checking for unstated dependencies in vignettes ... OK
* checking package vignettes ... OK
* checking re-building of vignette outputs ... OK
* checking PDF version of manual ... OK
* DONE

Status: 1 NOTE
See
  ‘/home/biocbuild/bbs-3.23-bioc/meat/gDRutils.Rcheck/00check.log’
for details.


Installation output

gDRutils.Rcheck/00install.out

##############################################################################
##############################################################################
###
### Running command:
###
###   /home/biocbuild/bbs-3.23-bioc/R/bin/R CMD INSTALL gDRutils
###
##############################################################################
##############################################################################


* installing to library ‘/home/biocbuild/bbs-3.23-bioc/R/site-library’
* installing *source* package ‘gDRutils’ ...
** this is package ‘gDRutils’ version ‘1.9.1’
** using staged installation
** R
** inst
** byte-compile and prepare package for lazy loading
** help
*** installing help indices
** building package indices
** installing vignettes
** testing if installed package can be loaded from temporary location
** testing if installed package can be loaded from final location
** testing if installed package keeps a record of temporary installation path
* DONE (gDRutils)

Tests output

gDRutils.Rcheck/tests/testthat.Rout


R Under development (unstable) (2025-10-20 r88955) -- "Unsuffered Consequences"
Copyright (C) 2025 The R Foundation for Statistical Computing
Platform: x86_64-pc-linux-gnu

R is free software and comes with ABSOLUTELY NO WARRANTY.
You are welcome to redistribute it under certain conditions.
Type 'license()' or 'licence()' for distribution details.

R is a collaborative project with many contributors.
Type 'contributors()' for more information and
'citation()' on how to cite R or R packages in publications.

Type 'demo()' for some demos, 'help()' for on-line help, or
'help.start()' for an HTML browser interface to help.
Type 'q()' to quit R.

> library("gDRutils")
> library("testthat")
> 
> test_check("gDRutils")
[ FAIL 0 | WARN 0 | SKIP 0 | PASS 845 ]
> 
> proc.time()
   user  system elapsed 
 98.159   2.059  97.934 

Example timings

gDRutils.Rcheck/gDRutils-Ex.timings

nameusersystemelapsed
MAEpply0.4110.1140.526
SE_metadata0.0370.0010.037
addClass0.0010.0010.002
aggregate_assay1.2390.0661.299
apply_bumpy_function1.4330.1171.551
assert_choices0.0000.0000.001
average_biological_replicates_dt0.3660.0030.370
calc_sd0.0000.0010.001
capVals0.2110.0040.214
cap_assay_infinities0.2950.0030.238
cap_xc500.0010.0010.000
convert_colData_to_json0.0980.0020.094
convert_combo_data_to_dt0.3310.0090.289
convert_combo_field_to_assay0.0010.0000.002
convert_mae_assay_to_dt0.0610.0040.065
convert_mae_to_json0.0170.0000.017
convert_metadata_to_json0.0080.0000.009
convert_rowData_to_json0.0030.0010.003
convert_se_assay_to_custom_dt1.2240.1491.353
convert_se_assay_to_dt0.0580.0020.060
convert_se_to_json0.0120.0000.013
define_matrix_grid_positions0.0590.0000.051
demote_fields0.4410.0000.372
df_to_bm_assay0.1300.0240.154
dot-set_invalid_fit_params0.0010.0000.001
dot-standardize_conc0.0010.0010.001
extend_normalization_type_name000
fit_curves0.1470.0300.178
flatten0.0060.0020.009
gen_synthetic_data0.0060.0010.007
geometric_mean0.0010.0000.001
get_MAE_identifiers0.0070.0010.008
get_additional_variables0.0150.0010.016
get_assay_dt_duplicated_rows0.1630.0400.204
get_assay_names000
get_assay_req_uniq_cols0.1090.0010.110
get_combo_assay_names0.0010.0000.001
get_combo_base_assay_names0.0010.0000.001
get_combo_excess_field_names0.0020.0000.002
get_combo_score_assay_names0.0010.0000.001
get_combo_score_field_names0.0010.0000.001
get_default_identifiers0.0000.0010.001
get_duplicated_rows0.0020.0000.003
get_env_assay_names0.0000.0010.000
get_env_var0.0000.0010.001
get_expect_one_identifiers0.0000.0000.001
get_experiment_groups0.0010.0000.001
get_gDR_session_info0.0600.0070.064
get_identifiers_dt0.0120.0040.007
get_idfs_synonyms0.0010.0010.000
get_isobologram_columns0.0880.0040.091
get_non_empty_assays0.0600.0010.043
get_required_identifiers0.0010.0010.000
get_settings_from_json0.0020.0000.002
get_supported_experiments000
get_synthetic_data0.0160.0020.010
get_testdata0.0930.0250.104
get_testdata_codilution0.0890.0050.080
get_testdata_combo0.1860.0300.199
has_assay_dt_duplicated_rows0.1180.0010.120
has_dt_duplicated_rows0.0010.0000.001
has_single_codrug_data0.1430.0010.143
has_valid_codrug_data0.1250.0020.127
headers0.0210.0090.031
identifiers0.0000.0000.001
identify_unique_se_metadata_fields0.0070.0000.008
is_any_exp_empty0.0590.0000.043
is_combo_data0.1360.0100.144
is_exp_empty0.0620.0000.045
is_mae_empty0.1280.0000.098
logisticFit0.0380.0010.030
loop2.9600.1214.281
map_conc_to_standardized_conc0.0040.0020.006
mcolData0.0160.0040.020
merge_MAE4.7170.9674.222
merge_SE1.6640.2061.615
merge_assay0.3450.0220.323
merge_metadata0.0070.0010.008
modifyData0.2730.0040.276
mrowData0.0130.0000.013
predict_conc_from_efficacy000
predict_efficacy_from_conc000
predict_smooth_from_combo0.1730.0040.177
prettify_flat_metrics0.0330.0030.036
process_batch0.9420.1721.114
promote_fields0.2060.0020.180
refine_coldata0.0120.0020.013
refine_rowdata0.0460.0000.045
remove_codrug_data0.0580.0030.060
remove_drug_batch0.0020.0000.001
rename_DFrame0.0070.0020.010
rename_bumpy0.0280.0010.029
round_concentration0.0010.0000.000
set_constant_fit_params0.0010.0000.001
set_unique_cl_names0.0490.0000.049
set_unique_cl_names_dt0.0180.0000.018
set_unique_drug_names0.050.000.05
set_unique_drug_names_dt0.0350.0000.035
set_unique_identifiers0.2470.0020.248
set_unique_names_dt0.0180.0000.017
shorten_normalization_type_name0.0000.0010.000
split_SE_components0.0900.0030.093
split_big_table_for_xlsx0.0050.0010.006
standardize_mae0.1050.0010.107
standardize_se0.0300.0000.031
throw_msg_if_duplicates0.1300.0000.131
update_env_idfs_from_mae0.0010.0000.001
update_idfs_synonyms0.0000.0000.001
validate_MAE0.070.000.07
validate_SE0.0250.0000.024
validate_identifiers0.0060.0010.007
validate_json000
validate_mae_with_schema0.3760.0240.343
validate_se_assay_name0.0070.0000.007