| Back to Build/check report for BioC 3.23: simplified long |
|
This page was generated on 2025-11-13 11:32 -0500 (Thu, 13 Nov 2025).
| Hostname | OS | Arch (*) | R version | Installed pkgs |
|---|---|---|---|---|
| kjohnson3 | macOS 13.7.7 Ventura | arm64 | R Under development (unstable) (2025-11-04 r88984) -- "Unsuffered Consequences" | 4013 |
| Click on any hostname to see more info about the system (e.g. compilers) (*) as reported by 'uname -p', except on Windows and Mac OS X | ||||
| Package 748/2325 | Hostname | OS / Arch | INSTALL | BUILD | CHECK | BUILD BIN | ||||||||
| flowGraph 1.19.0 (landing page) Alice Yue
| kjohnson3 | macOS 13.7.7 Ventura / arm64 | OK | OK | OK | OK | ||||||||
|
To the developers/maintainers of the flowGraph package: - Allow up to 24 hours (and sometimes 48 hours) for your latest push to git@git.bioconductor.org:packages/flowGraph.git to reflect on this report. See Troubleshooting Build Report for more information. - Use the following Renviron settings to reproduce errors and warnings. - If 'R CMD check' started to fail recently on the Linux builder(s) over a missing dependency, add the missing dependency to 'Suggests:' in your DESCRIPTION file. See Renviron.bioc for more information. |
| Package: flowGraph |
| Version: 1.19.0 |
| Command: /Library/Frameworks/R.framework/Resources/bin/R CMD check --install=check:flowGraph.install-out.txt --library=/Library/Frameworks/R.framework/Resources/library --no-vignettes --timings flowGraph_1.19.0.tar.gz |
| StartedAt: 2025-11-12 18:49:20 -0500 (Wed, 12 Nov 2025) |
| EndedAt: 2025-11-12 18:51:18 -0500 (Wed, 12 Nov 2025) |
| EllapsedTime: 117.6 seconds |
| RetCode: 0 |
| Status: OK |
| CheckDir: flowGraph.Rcheck |
| Warnings: 0 |
##############################################################################
##############################################################################
###
### Running command:
###
### /Library/Frameworks/R.framework/Resources/bin/R CMD check --install=check:flowGraph.install-out.txt --library=/Library/Frameworks/R.framework/Resources/library --no-vignettes --timings flowGraph_1.19.0.tar.gz
###
##############################################################################
##############################################################################
* using log directory ‘/Users/biocbuild/bbs-3.23-bioc/meat/flowGraph.Rcheck’
* using R Under development (unstable) (2025-11-04 r88984)
* using platform: aarch64-apple-darwin20
* R was compiled by
Apple clang version 16.0.0 (clang-1600.0.26.6)
GNU Fortran (GCC) 14.2.0
* running under: macOS Ventura 13.7.8
* using session charset: UTF-8
* using option ‘--no-vignettes’
* checking for file ‘flowGraph/DESCRIPTION’ ... OK
* checking extension type ... Package
* this is package ‘flowGraph’ version ‘1.19.0’
* checking package namespace information ... OK
* checking package dependencies ... OK
* checking if this is a source package ... OK
* checking if there is a namespace ... OK
* checking for hidden files and directories ... OK
* checking for portable file names ... OK
* checking for sufficient/correct file permissions ... OK
* checking whether package ‘flowGraph’ can be installed ... OK
* checking installed package size ... OK
* checking package directory ... OK
* checking ‘build’ directory ... OK
* checking DESCRIPTION meta-information ... OK
* checking top-level files ... OK
* checking for left-over files ... OK
* checking index information ... OK
* checking package subdirectories ... OK
* checking code files for non-ASCII characters ... OK
* checking R files for syntax errors ... OK
* checking whether the package can be loaded ... OK
* checking whether the package can be loaded with stated dependencies ... OK
* checking whether the package can be unloaded cleanly ... OK
* checking whether the namespace can be loaded with stated dependencies ... OK
* checking whether the namespace can be unloaded cleanly ... OK
* checking dependencies in R code ... OK
* checking S3 generic/method consistency ... OK
* checking replacement functions ... OK
* checking foreign function calls ... OK
* checking R code for possible problems ... NOTE
get_child: no visible binding for global variable ‘no_cores’
get_paren: no visible binding for global variable ‘no_cores’
ms_psig: no visible binding for global variable ‘meta’
Undefined global functions or variables:
meta no_cores
* checking Rd files ... NOTE
checkRd: (-1) fg_get_graph.Rd:13: Lost braces
13 | A list containing two data frames (\code{v} and ]code{e})
| ^
checkRd: (-1) ggdf.Rd:22: Lost braces
22 | code{ggdf} adds to the data frames \code{v} and \code{e} in slot
| ^
* checking Rd metadata ... OK
* checking Rd cross-references ... OK
* checking for missing documentation entries ... OK
* checking for code/documentation mismatches ... OK
* checking Rd \usage sections ... OK
* checking Rd contents ... OK
* checking for unstated dependencies in examples ... OK
* checking contents of ‘data’ directory ... OK
* checking data for non-ASCII characters ... OK
* checking data for ASCII and uncompressed saves ... OK
* checking files in ‘vignettes’ ... OK
* checking examples ... OK
Examples with CPU (user + system) or elapsed time > 5s
user system elapsed
fg_save_plots 21.935 0.105 23.168
fg_load 21.810 0.113 23.112
fg_save 21.616 0.086 23.030
* checking for unstated dependencies in ‘tests’ ... OK
* checking tests ...
Running ‘testthat.R’
OK
* checking for unstated dependencies in vignettes ... OK
* checking package vignettes ... OK
* checking running R code from vignettes ... SKIPPED
* checking re-building of vignette outputs ... SKIPPED
* checking PDF version of manual ... OK
* DONE
Status: 2 NOTEs
See
‘/Users/biocbuild/bbs-3.23-bioc/meat/flowGraph.Rcheck/00check.log’
for details.
flowGraph.Rcheck/00install.out
############################################################################## ############################################################################## ### ### Running command: ### ### /Library/Frameworks/R.framework/Resources/bin/R CMD INSTALL flowGraph ### ############################################################################## ############################################################################## * installing to library ‘/Library/Frameworks/R.framework/Versions/4.6-arm64/Resources/library’ * installing *source* package ‘flowGraph’ ... ** this is package ‘flowGraph’ version ‘1.19.0’ ** using staged installation ** R ** data ** inst ** byte-compile and prepare package for lazy loading ** help Loading required namespace: flowGraph *** installing help indices ** building package indices ** installing vignettes ** testing if installed package can be loaded from temporary location ** testing if installed package can be loaded from final location ** testing if installed package keeps a record of temporary installation path * DONE (flowGraph)
flowGraph.Rcheck/tests/testthat.Rout
R Under development (unstable) (2025-11-04 r88984) -- "Unsuffered Consequences"
Copyright (C) 2025 The R Foundation for Statistical Computing
Platform: aarch64-apple-darwin20
R is free software and comes with ABSOLUTELY NO WARRANTY.
You are welcome to redistribute it under certain conditions.
Type 'license()' or 'licence()' for distribution details.
R is a collaborative project with many contributors.
Type 'contributors()' for more information and
'citation()' on how to cite R or R packages in publications.
Type 'demo()' for some demos, 'help()' for on-line help, or
'help.start()' for an HTML browser interface to help.
Type 'q()' to quit R.
> library(testthat)
> library(flowGraph)
>
> test_check("flowGraph")
[ FAIL 0 | WARN 1 | SKIP 0 | PASS 34 ]
[ FAIL 0 | WARN 1 | SKIP 0 | PASS 34 ]
>
> proc.time()
user system elapsed
2.076 0.114 2.292
flowGraph.Rcheck/flowGraph-Ex.timings
| name | user | system | elapsed | |
| cell_type_layers | 0.001 | 0.000 | 0.002 | |
| fg_add_feature | 0.115 | 0.003 | 0.122 | |
| fg_add_summary | 0.313 | 0.003 | 0.320 | |
| fg_clean_phen | 0 | 0 | 0 | |
| fg_clear_features | 0.264 | 0.002 | 0.272 | |
| fg_clear_summary | 0.103 | 0.001 | 0.104 | |
| fg_extract_phenotypes | 0.086 | 0.001 | 0.091 | |
| fg_extract_raw | 0.254 | 0.002 | 0.268 | |
| fg_extract_samples | 0.088 | 0.002 | 0.095 | |
| fg_feat_cumsum | 0.082 | 0.002 | 0.089 | |
| fg_feat_edge_specenr | 0.142 | 0.002 | 0.149 | |
| fg_feat_mean_class | 0.090 | 0.001 | 0.095 | |
| fg_feat_node_prop | 0.082 | 0.001 | 0.085 | |
| fg_feat_node_specenr | 0.140 | 0.002 | 0.144 | |
| fg_feat_prop_edge | 0.086 | 0.001 | 0.092 | |
| fg_get_feature | 0.081 | 0.001 | 0.087 | |
| fg_get_feature_desc | 0.281 | 0.003 | 0.294 | |
| fg_get_feature_means | 0.404 | 0.002 | 0.417 | |
| fg_get_graph | 0.090 | 0.001 | 0.092 | |
| fg_get_markers | 0.086 | 0.002 | 0.093 | |
| fg_get_meta | 0.086 | 0.001 | 0.087 | |
| fg_get_summary | 0.600 | 0.011 | 0.617 | |
| fg_get_summary_desc | 0.242 | 0.002 | 0.260 | |
| fg_get_summary_index | 0.504 | 0.003 | 0.529 | |
| fg_get_summary_tables | 0.344 | 0.002 | 0.351 | |
| fg_gsub_ids | 0.069 | 0.001 | 0.071 | |
| fg_gsub_markers | 0.090 | 0.001 | 0.091 | |
| fg_load | 21.810 | 0.113 | 23.112 | |
| fg_merge | 0.095 | 0.002 | 0.098 | |
| fg_merge_samples | 0.091 | 0.001 | 0.094 | |
| fg_plot | 0.147 | 0.001 | 0.163 | |
| fg_plot_box | 0.256 | 0.003 | 0.284 | |
| fg_plot_pVSdiff | 0.126 | 0.001 | 0.132 | |
| fg_plot_qq | 0.539 | 0.030 | 0.605 | |
| fg_replace_meta | 0.089 | 0.001 | 0.096 | |
| fg_rm_feature | 0.294 | 0.003 | 0.334 | |
| fg_rm_summary | 0.113 | 0.002 | 0.135 | |
| fg_save | 21.616 | 0.086 | 23.030 | |
| fg_save_plots | 21.935 | 0.105 | 23.168 | |
| fg_set_layout | 0.090 | 0.001 | 0.093 | |
| fg_summary | 0.112 | 0.001 | 0.113 | |
| flowGraph-class | 0.000 | 0.001 | 0.001 | |
| flowGraph | 0.410 | 0.004 | 0.428 | |
| flowGraphSubset | 0.000 | 0.000 | 0.001 | |
| flowGraphSubset_summary_adjust | 0.001 | 0.000 | 0.001 | |
| flowGraphSubset_summary_pars | 0.000 | 0.001 | 0.001 | |
| get_phen_list | 0.004 | 0.001 | 0.005 | |
| get_phen_meta | 0.001 | 0.000 | 0.001 | |
| ggdf | 0.088 | 0.002 | 0.093 | |
| loop_ind_f | 0.000 | 0.001 | 0.001 | |
| meandiff | 0.000 | 0.000 | 0.001 | |
| plot_gr | 0.498 | 0.008 | 0.536 | |
| set_layout_graph | 0.094 | 0.012 | 0.108 | |
| summary_table | 0.001 | 0.000 | 0.001 | |
| time_output | 0.000 | 0.000 | 0.001 | |
| tstr | 0 | 0 | 0 | |