| Back to Build/check report for BioC 3.23: simplified long |
|
This page was generated on 2025-11-13 11:32 -0500 (Thu, 13 Nov 2025).
| Hostname | OS | Arch (*) | R version | Installed pkgs |
|---|---|---|---|---|
| kjohnson3 | macOS 13.7.7 Ventura | arm64 | R Under development (unstable) (2025-11-04 r88984) -- "Unsuffered Consequences" | 4013 |
| Click on any hostname to see more info about the system (e.g. compilers) (*) as reported by 'uname -p', except on Windows and Mac OS X | ||||
| Package 715/2325 | Hostname | OS / Arch | INSTALL | BUILD | CHECK | BUILD BIN | ||||||||
| fcScan 1.25.0 (landing page) Pierre Khoueiry
| kjohnson3 | macOS 13.7.7 Ventura / arm64 | OK | OK | OK | OK | ||||||||
|
To the developers/maintainers of the fcScan package: - Allow up to 24 hours (and sometimes 48 hours) for your latest push to git@git.bioconductor.org:packages/fcScan.git to reflect on this report. See Troubleshooting Build Report for more information. - Use the following Renviron settings to reproduce errors and warnings. - If 'R CMD check' started to fail recently on the Linux builder(s) over a missing dependency, add the missing dependency to 'Suggests:' in your DESCRIPTION file. See Renviron.bioc for more information. |
| Package: fcScan |
| Version: 1.25.0 |
| Command: /Library/Frameworks/R.framework/Resources/bin/R CMD check --install=check:fcScan.install-out.txt --library=/Library/Frameworks/R.framework/Resources/library --no-vignettes --timings fcScan_1.25.0.tar.gz |
| StartedAt: 2025-11-12 18:47:26 -0500 (Wed, 12 Nov 2025) |
| EndedAt: 2025-11-12 18:49:27 -0500 (Wed, 12 Nov 2025) |
| EllapsedTime: 121.6 seconds |
| RetCode: 0 |
| Status: OK |
| CheckDir: fcScan.Rcheck |
| Warnings: 0 |
##############################################################################
##############################################################################
###
### Running command:
###
### /Library/Frameworks/R.framework/Resources/bin/R CMD check --install=check:fcScan.install-out.txt --library=/Library/Frameworks/R.framework/Resources/library --no-vignettes --timings fcScan_1.25.0.tar.gz
###
##############################################################################
##############################################################################
* using log directory ‘/Users/biocbuild/bbs-3.23-bioc/meat/fcScan.Rcheck’
* using R Under development (unstable) (2025-11-04 r88984)
* using platform: aarch64-apple-darwin20
* R was compiled by
Apple clang version 16.0.0 (clang-1600.0.26.6)
GNU Fortran (GCC) 14.2.0
* running under: macOS Ventura 13.7.8
* using session charset: UTF-8
* using option ‘--no-vignettes’
* checking for file ‘fcScan/DESCRIPTION’ ... OK
* checking extension type ... Package
* this is package ‘fcScan’ version ‘1.25.0’
* package encoding: UTF-8
* checking package namespace information ... OK
* checking package dependencies ... OK
* checking if this is a source package ... OK
* checking if there is a namespace ... OK
* checking for hidden files and directories ... OK
* checking for portable file names ... OK
* checking for sufficient/correct file permissions ... OK
* checking whether package ‘fcScan’ can be installed ... OK
* checking installed package size ... OK
* checking package directory ... OK
* checking ‘build’ directory ... OK
* checking DESCRIPTION meta-information ... OK
* checking top-level files ... OK
* checking for left-over files ... OK
* checking index information ... OK
* checking package subdirectories ... OK
* checking code files for non-ASCII characters ... OK
* checking R files for syntax errors ... OK
* checking whether the package can be loaded ... OK
* checking whether the package can be loaded with stated dependencies ... OK
* checking whether the package can be unloaded cleanly ... OK
* checking whether the namespace can be loaded with stated dependencies ... OK
* checking whether the namespace can be unloaded cleanly ... OK
* checking dependencies in R code ... OK
* checking S3 generic/method consistency ... OK
* checking replacement functions ... OK
* checking foreign function calls ... OK
* checking R code for possible problems ... OK
* checking Rd files ... OK
* checking Rd metadata ... OK
* checking Rd cross-references ... OK
* checking for missing documentation entries ... OK
* checking for code/documentation mismatches ... OK
* checking Rd \usage sections ... OK
* checking Rd contents ... OK
* checking for unstated dependencies in examples ... OK
* checking files in ‘vignettes’ ... OK
* checking examples ... OK
* checking for unstated dependencies in ‘tests’ ... OK
* checking tests ...
Running ‘runTests.R’
OK
* checking for unstated dependencies in vignettes ... OK
* checking package vignettes ... OK
* checking running R code from vignettes ... SKIPPED
* checking re-building of vignette outputs ... SKIPPED
* checking PDF version of manual ... OK
* DONE
Status: OK
fcScan.Rcheck/00install.out
############################################################################## ############################################################################## ### ### Running command: ### ### /Library/Frameworks/R.framework/Resources/bin/R CMD INSTALL fcScan ### ############################################################################## ############################################################################## * installing to library ‘/Library/Frameworks/R.framework/Versions/4.6-arm64/Resources/library’ * installing *source* package ‘fcScan’ ... ** this is package ‘fcScan’ version ‘1.25.0’ ** using staged installation ** R ** inst ** byte-compile and prepare package for lazy loading ** help *** installing help indices ** building package indices ** installing vignettes ** testing if installed package can be loaded from temporary location ** testing if installed package can be loaded from final location ** testing if installed package keeps a record of temporary installation path * DONE (fcScan)
fcScan.Rcheck/tests/runTests.Rout
R Under development (unstable) (2025-11-04 r88984) -- "Unsuffered Consequences"
Copyright (C) 2025 The R Foundation for Statistical Computing
Platform: aarch64-apple-darwin20
R is free software and comes with ABSOLUTELY NO WARRANTY.
You are welcome to redistribute it under certain conditions.
Type 'license()' or 'licence()' for distribution details.
R is a collaborative project with many contributors.
Type 'contributors()' for more information and
'citation()' on how to cite R or R packages in publications.
Type 'demo()' for some demos, 'help()' for on-line help, or
'help.start()' for an HTML browser interface to help.
Type 'q()' to quit R.
> BiocGenerics:::testPackage("fcScan")
Loading required package: GenomicRanges
Loading required package: stats4
Loading required package: BiocGenerics
Loading required package: generics
Attaching package: 'generics'
The following objects are masked from 'package:base':
as.difftime, as.factor, as.ordered, intersect, is.element, setdiff,
setequal, union
Attaching package: 'BiocGenerics'
The following objects are masked from 'package:stats':
IQR, mad, sd, var, xtabs
The following objects are masked from 'package:base':
Filter, Find, Map, Position, Reduce, anyDuplicated, aperm, append,
as.data.frame, basename, cbind, colnames, dirname, do.call,
duplicated, eval, evalq, get, grep, grepl, is.unsorted, lapply,
mapply, match, mget, order, paste, pmax, pmax.int, pmin, pmin.int,
rank, rbind, rownames, sapply, saveRDS, table, tapply, unique,
unsplit, which.max, which.min
Loading required package: S4Vectors
Attaching package: 'S4Vectors'
The following object is masked from 'package:utils':
findMatches
The following objects are masked from 'package:base':
I, expand.grid, unname
Loading required package: IRanges
Loading required package: Seqinfo
17 entries loaded
Running getCluster using 1 threads
Time difference of 0.08642602 secs
Sites in condition do not match sites in data
3 entries loaded
Running getCluster using 1 threads
Time difference of 0.03430796 secs
17 entries loaded
Running getCluster using 1 threads
Time difference of 0.02842712 secs
17 entries loaded
Running getCluster using 1 threads
Time difference of 0.03350806 secs
17 entries loaded
Running getCluster using 1 threads
No cluster found
17 entries loaded
Running getCluster using 1 threads
Time difference of 0.03206396 secs
17 entries loaded
Running getCluster using 1 threads
Time difference of 0.03429294 secs
17 entries loaded
Running getCluster using 1 threads
Time difference of 0.033988 secs
17 entries loaded
Running getCluster using 1 threads
Time difference of 0.04640794 secs
17 entries loaded
Running getCluster using 1 threads
Time difference of 0.03022504 secs
17 entries loaded
Running getCluster using 1 threads
Time difference of 0.02513099 secs
6 entries loaded
Running getCluster using 1 threads
Time difference of 0.0348711 secs
6 entries loaded
Running getCluster using 1 threads
Time difference of 0.02616692 secs
6 entries loaded
Running getCluster using 1 threads
Time difference of 0.02361012 secs
6 entries loaded
Running getCluster using 1 threads
Time difference of 0.03282499 secs
10 entries loaded
Running getCluster using 1 threads
Time difference of 0.02556109 secs
10 entries loaded
Running getCluster using 1 threads
No cluster found
10 entries loaded
Running getCluster using 1 threads
Time difference of 0.02750707 secs
16 entries loaded
Running getCluster using 1 threads
Time difference of 0.02392697 secs
6 entries loaded
Running getCluster using 1 threads
Time difference of 0.03291392 secs
6 entries loaded
Running getCluster using 1 threads
Time difference of 0.03207111 secs
6 entries loaded
Running getCluster using 1 threads
Time difference of 0.02748704 secs
6 entries loaded
Running getCluster using 1 threads
Time difference of 0.02623796 secs
6 entries loaded
Running getCluster using 1 threads
Time difference of 0.02689314 secs
17 entries loaded
Running getCluster using 1 threads
Time difference of 0.02570987 secs
17 entries loaded
Running getCluster using 1 threads
Time difference of 0.03841305 secs
17 entries loaded
Running getCluster using 1 threads
Time difference of 0.02411795 secs
17 entries loaded
Running getCluster using 1 threads
Time difference of 0.03323197 secs
17 entries loaded
Running getCluster using 1 threads
Time difference of 0.03802109 secs
17 entries loaded
Running getCluster using 1 threads
Time difference of 0.02367902 secs
17 entries loaded
Running getCluster using 1 threads
Time difference of 0.02765012 secs
17 entries loaded
Running getCluster using 1 threads
Time difference of 0.03203702 secs
17 entries loaded
Running getCluster using 1 threads
Time difference of 0.03705001 secs
17 entries loaded
Running getCluster using 1 threads
Time difference of 0.03718805 secs
17 entries loaded
Running getCluster using 1 threads
Time difference of 0.03439784 secs
17 entries loaded
Running getCluster using 1 threads
Time difference of 0.02930284 secs
17 entries loaded
Running getCluster using 1 threads
Time difference of 0.03313184 secs
17 entries loaded
Running getCluster using 1 threads
Time difference of 0.03723502 secs
17 entries loaded
Running getCluster using 1 threads
Time difference of 0.03397417 secs
17 entries loaded
Running getCluster using 1 threads
Time difference of 0.02726507 secs
17 entries loaded
Running getCluster using 1 threads
Time difference of 0.02557898 secs
17 entries loaded
Running getCluster using 1 threads
Time difference of 0.03294802 secs
17 entries loaded
Running getCluster using 1 threads
Time difference of 0.03017902 secs
17 entries loaded
Running getCluster using 1 threads
Time difference of 0.03972292 secs
RUNIT TEST PROTOCOL -- Wed Nov 12 18:49:23 2025
***********************************************
Number of test functions: 1
Number of errors: 0
Number of failures: 0
1 Test Suite :
fcScan RUnit Tests - 1 test function, 0 errors, 0 failures
Number of test functions: 1
Number of errors: 0
Number of failures: 0
>
> proc.time()
user system elapsed
6.505 0.412 7.386
fcScan.Rcheck/fcScan-Ex.timings
| name | user | system | elapsed | |
| getCluster | 0.097 | 0.010 | 0.127 | |