Back to Multiple platform build/check report for BioC 3.23:   simplified   long
ABCD[E]FGHIJKLMNOPQRSTUVWXYZ

This page was generated on 2025-11-18 11:38 -0500 (Tue, 18 Nov 2025).

HostnameOSArch (*)R versionInstalled pkgs
nebbiolo1Linux (Ubuntu 24.04.3 LTS)x86_64R Under development (unstable) (2025-10-20 r88955) -- "Unsuffered Consequences" 4826
lconwaymacOS 12.7.6 Montereyx86_64R Under development (unstable) (2025-10-21 r88958) -- "Unsuffered Consequences" 4561
kjohnson3macOS 13.7.7 Venturaarm64R Under development (unstable) (2025-11-04 r88984) -- "Unsuffered Consequences" 4562
Click on any hostname to see more info about the system (e.g. compilers)      (*) as reported by 'uname -p', except on Windows and Mac OS X

Package 664/2325HostnameOS / ArchINSTALLBUILDCHECKBUILD BIN
ensembldb 2.35.0  (landing page)
Johannes Rainer
Snapshot Date: 2025-11-17 13:40 -0500 (Mon, 17 Nov 2025)
git_url: https://git.bioconductor.org/packages/ensembldb
git_branch: devel
git_last_commit: a74ca18
git_last_commit_date: 2025-10-29 10:24:50 -0500 (Wed, 29 Oct 2025)
nebbiolo1Linux (Ubuntu 24.04.3 LTS) / x86_64  OK    OK    OK  UNNEEDED, same version is already published
lconwaymacOS 12.7.6 Monterey / x86_64  OK    OK    TIMEOUT    OK  
kjohnson3macOS 13.7.7 Ventura / arm64  OK    OK    OK    OK  NO, package depends on 'GenomicRanges' which is only available as a source package that needs compilation


CHECK results for ensembldb on lconway

To the developers/maintainers of the ensembldb package:
- Allow up to 24 hours (and sometimes 48 hours) for your latest push to git@git.bioconductor.org:packages/ensembldb.git to reflect on this report. See Troubleshooting Build Report for more information.
- Use the following Renviron settings to reproduce errors and warnings.
- If 'R CMD check' started to fail recently on the Linux builder(s) over a missing dependency, add the missing dependency to 'Suggests:' in your DESCRIPTION file. See Renviron.bioc for more information.

raw results


Summary

Package: ensembldb
Version: 2.35.0
Command: /Library/Frameworks/R.framework/Resources/bin/R CMD check --install=check:ensembldb.install-out.txt --library=/Library/Frameworks/R.framework/Resources/library --no-vignettes --timings ensembldb_2.35.0.tar.gz
StartedAt: 2025-11-17 21:59:32 -0500 (Mon, 17 Nov 2025)
EndedAt: 2025-11-17 22:39:33 -0500 (Mon, 17 Nov 2025)
EllapsedTime: 2400.8 seconds
RetCode: None
Status:   TIMEOUT  
CheckDir: ensembldb.Rcheck
Warnings: NA

Command output

##############################################################################
##############################################################################
###
### Running command:
###
###   /Library/Frameworks/R.framework/Resources/bin/R CMD check --install=check:ensembldb.install-out.txt --library=/Library/Frameworks/R.framework/Resources/library --no-vignettes --timings ensembldb_2.35.0.tar.gz
###
##############################################################################
##############################################################################


* using log directory ‘/Users/biocbuild/bbs-3.23-bioc/meat/ensembldb.Rcheck’
* using R Under development (unstable) (2025-10-21 r88958)
* using platform: x86_64-apple-darwin20
* R was compiled by
    Apple clang version 14.0.0 (clang-1400.0.29.202)
    GNU Fortran (GCC) 14.2.0
* running under: macOS Ventura 13.7.8
* using session charset: UTF-8
* using option ‘--no-vignettes’
* checking for file ‘ensembldb/DESCRIPTION’ ... OK
* checking extension type ... Package
* this is package ‘ensembldb’ version ‘2.35.0’
* checking package namespace information ... OK
* checking package dependencies ... OK
* checking if this is a source package ... OK
* checking if there is a namespace ... OK
* checking for hidden files and directories ... OK
* checking for portable file names ... OK
* checking for sufficient/correct file permissions ... OK
* checking whether package ‘ensembldb’ can be installed ... OK
* checking installed package size ... OK
* checking package directory ... OK
* checking ‘build’ directory ... OK
* checking DESCRIPTION meta-information ... OK
* checking top-level files ... OK
* checking for left-over files ... OK
* checking index information ... OK
* checking package subdirectories ... OK
* checking code files for non-ASCII characters ... OK
* checking R files for syntax errors ... OK
* checking whether the package can be loaded ... OK
* checking whether the package can be loaded with stated dependencies ... OK
* checking whether the package can be unloaded cleanly ... OK
* checking whether the namespace can be loaded with stated dependencies ... OK
* checking whether the namespace can be unloaded cleanly ... OK
* checking whether startup messages can be suppressed ... OK
* checking dependencies in R code ... OK
* checking S3 generic/method consistency ... OK
* checking replacement functions ... OK
* checking foreign function calls ... OK
* checking R code for possible problems ... OK
* checking Rd files ... OK
* checking Rd metadata ... OK
* checking Rd cross-references ... NOTE
Found the following Rd file(s) with Rd \link{} targets missing package
anchors:
  EnsDb-exonsBy.Rd: supportedFilters, GRangesFilter
  EnsDb-sequences.Rd: TwoBitFile-class
  Filter-classes.Rd: AnnotationFilter, supportedFilters, GeneIdFilter
  ProteinFunctionality.Rd: supportedFilters
  proteinToTranscript.Rd: fiveUTRsByTranscript
Please provide package anchors for all Rd \link{} targets not in the
package itself and the base packages.
* checking for missing documentation entries ... OK
* checking for code/documentation mismatches ... OK
* checking Rd \usage sections ... OK
* checking Rd contents ... OK
* checking for unstated dependencies in examples ... OK
* checking files in ‘vignettes’ ... OK
* checking examples ...

Installation output

ensembldb.Rcheck/00install.out

##############################################################################
##############################################################################
###
### Running command:
###
###   /Library/Frameworks/R.framework/Resources/bin/R CMD INSTALL ensembldb
###
##############################################################################
##############################################################################


* installing to library ‘/Library/Frameworks/R.framework/Versions/4.6-x86_64/Resources/library’
* installing *source* package ‘ensembldb’ ...
** this is package ‘ensembldb’ version ‘2.35.0’
** using staged installation
** R
** inst
** byte-compile and prepare package for lazy loading
Creating a generic function from function ‘.cds_for_id2’ in package ‘ensembldb’
** help
*** installing help indices
** building package indices
** installing vignettes
** testing if installed package can be loaded from temporary location
** testing if installed package can be loaded from final location
** testing if installed package keeps a record of temporary installation path
* DONE (ensembldb)

Tests output


Example timings

ensembldb.Rcheck/ensembldb-Ex.timings

nameusersystemelapsed
EnsDb-AnnotationDbi3.3450.8046.120
EnsDb-class0.7410.1711.095
EnsDb-exonsBy2.3910.9015.385
EnsDb-lengths1.0660.1581.260
EnsDb-seqlevels0.0610.0230.091
EnsDb-sequences0.0150.0030.018
EnsDb-utils0.2810.0080.292
EnsDb1.0740.1361.254
Filter-classes3.2912.9899.538
ProteinFunctionality0.0790.0230.106
cdsToTranscript23.17012.39240.614
convertFilter0.0290.0030.032
genomeToProtein4.2960.3986.137