Back to Multiple platform build/check report for BioC 3.23:   simplified   long
ABC[D]EFGHIJKLMNOPQRSTUVWXYZ

This page was generated on 2025-11-18 11:38 -0500 (Tue, 18 Nov 2025).

HostnameOSArch (*)R versionInstalled pkgs
nebbiolo1Linux (Ubuntu 24.04.3 LTS)x86_64R Under development (unstable) (2025-10-20 r88955) -- "Unsuffered Consequences" 4826
lconwaymacOS 12.7.6 Montereyx86_64R Under development (unstable) (2025-10-21 r88958) -- "Unsuffered Consequences" 4561
kjohnson3macOS 13.7.7 Venturaarm64R Under development (unstable) (2025-11-04 r88984) -- "Unsuffered Consequences" 4562
Click on any hostname to see more info about the system (e.g. compilers)      (*) as reported by 'uname -p', except on Windows and Mac OS X

Package 606/2325HostnameOS / ArchINSTALLBUILDCHECKBUILD BIN
dominatR 0.99.4  (landing page)
Simon Lizarazo
Snapshot Date: 2025-11-17 13:40 -0500 (Mon, 17 Nov 2025)
git_url: https://git.bioconductor.org/packages/dominatR
git_branch: devel
git_last_commit: de43091
git_last_commit_date: 2025-10-28 16:24:19 -0500 (Tue, 28 Oct 2025)
nebbiolo1Linux (Ubuntu 24.04.3 LTS) / x86_64  OK    OK    ERROR  
lconwaymacOS 12.7.6 Monterey / x86_64  OK    OK    WARNINGS    OK  UNNEEDED, same version is already published
kjohnson3macOS 13.7.7 Ventura / arm64  OK    OK    WARNINGS    OK  UNNEEDED, same version is already published


BUILD BIN results for dominatR on lconway

To the developers/maintainers of the dominatR package:
- Allow up to 24 hours (and sometimes 48 hours) for your latest push to git@git.bioconductor.org:packages/dominatR.git to reflect on this report. See Troubleshooting Build Report for more information.
- Use the following Renviron settings to reproduce errors and warnings.
- If 'R CMD check' started to fail recently on the Linux builder(s) over a missing dependency, add the missing dependency to 'Suggests:' in your DESCRIPTION file. See Renviron.bioc for more information.

raw results


Summary

Package: dominatR
Version: 0.99.4
Command: rm -rf dominatR.buildbin-libdir && mkdir dominatR.buildbin-libdir && /Users/biocbuild/BBS/utils/build-universal.sh dominatR_0.99.4.tar.gz /Library/Frameworks/R.framework/Resources/bin/R dominatR.buildbin-libdir
StartedAt: 2025-11-18 06:58:23 -0500 (Tue, 18 Nov 2025)
EndedAt: 2025-11-18 06:59:00 -0500 (Tue, 18 Nov 2025)
EllapsedTime: 36.7 seconds
RetCode: 0
Status:   OK  
PackageFile: dominatR_0.99.4.tgz
PackageFileSize: 2.507 MiB

Command output

##############################################################################
##############################################################################
###
### Running command:
###
###   rm -rf dominatR.buildbin-libdir && mkdir dominatR.buildbin-libdir && /Users/biocbuild/BBS/utils/build-universal.sh dominatR_0.99.4.tar.gz /Library/Frameworks/R.framework/Resources/bin/R dominatR.buildbin-libdir
###
##############################################################################
##############################################################################


>>>>>>> 
>>>>>>> INSTALLATION WITH 'R CMD INSTALL --preclean --no-multiarch --library=dominatR.buildbin-libdir dominatR_0.99.4.tar.gz'
>>>>>>> 

* installing *source* package ‘dominatR’ ...
** this is package ‘dominatR’ version ‘0.99.4’
** using staged installation
** R
** inst
** byte-compile and prepare package for lazy loading
2025-11-18 06:58:35.386 R[79899:23963214] XType: Using static font registry.
** help
*** installing help indices
** building package indices
** installing vignettes
** testing if installed package can be loaded from temporary location
2025-11-18 06:58:48.258 R[81354:23966581] XType: Using static font registry.
** testing if installed package can be loaded from final location
2025-11-18 06:58:58.917 R[82447:23969316] XType: Using static font registry.
** testing if installed package keeps a record of temporary installation path
* DONE (dominatR)