Back to Build/check report for BioC 3.23:   simplified   long
AB[C]DEFGHIJKLMNOPQRSTUVWXYZ

This page was generated on 2025-11-13 11:32 -0500 (Thu, 13 Nov 2025).

HostnameOSArch (*)R versionInstalled pkgs
kjohnson3macOS 13.7.7 Venturaarm64R Under development (unstable) (2025-11-04 r88984) -- "Unsuffered Consequences" 4013
Click on any hostname to see more info about the system (e.g. compilers)      (*) as reported by 'uname -p', except on Windows and Mac OS X

Package 371/2325HostnameOS / ArchINSTALLBUILDCHECKBUILD BIN
cliqueMS 1.25.0  (landing page)
Oriol Senan Campos
Snapshot Date: 2025-11-12 13:40 -0500 (Wed, 12 Nov 2025)
git_url: https://git.bioconductor.org/packages/cliqueMS
git_branch: devel
git_last_commit: aae47b3
git_last_commit_date: 2025-10-29 11:31:29 -0500 (Wed, 29 Oct 2025)
kjohnson3macOS 13.7.7 Ventura / arm64  ERROR    ERROR  skippedskipped


BUILD results for cliqueMS on kjohnson3

To the developers/maintainers of the cliqueMS package:
- Allow up to 24 hours (and sometimes 48 hours) for your latest push to git@git.bioconductor.org:packages/cliqueMS.git to reflect on this report. See Troubleshooting Build Report for more information.
- Use the following Renviron settings to reproduce errors and warnings.
- If 'R CMD check' started to fail recently on the Linux builder(s) over a missing dependency, add the missing dependency to 'Suggests:' in your DESCRIPTION file. See Renviron.bioc for more information.

raw results


Summary

Package: cliqueMS
Version: 1.25.0
Command: /Library/Frameworks/R.framework/Resources/bin/R CMD build --keep-empty-dirs --no-resave-data cliqueMS
StartedAt: 2025-11-12 15:59:59 -0500 (Wed, 12 Nov 2025)
EndedAt: 2025-11-12 16:00:00 -0500 (Wed, 12 Nov 2025)
EllapsedTime: 1.0 seconds
RetCode: 1
Status:   ERROR  
PackageFile: None
PackageFileSize: NA

Command output

##############################################################################
##############################################################################
###
### Running command:
###
###   /Library/Frameworks/R.framework/Resources/bin/R CMD build --keep-empty-dirs --no-resave-data cliqueMS
###
##############################################################################
##############################################################################


* checking for file ‘cliqueMS/DESCRIPTION’ ... OK
* preparing ‘cliqueMS’:
* checking DESCRIPTION meta-information ... OK
* cleaning src
* installing the package (it is needed to build vignettes)
      -----------------------------------
ERROR: dependencies ‘xcms’, ‘MSnbase’ are not available for package ‘cliqueMS’
Perhaps try a variation of:
install.packages(c('xcms', 'MSnbase'))
* removing ‘/private/var/folders/r0/l4fjk6cj5xj0j3brt4bplpl40000gt/T/RtmpRjXibW/Rinsta4a72a5ee406/cliqueMS’
      -----------------------------------
ERROR: package installation failed