Back to Build/check report for BioC 3.23:   simplified   long
[A]BCDEFGHIJKLMNOPQRSTUVWXYZ

This page was generated on 2025-11-13 11:32 -0500 (Thu, 13 Nov 2025).

HostnameOSArch (*)R versionInstalled pkgs
kjohnson3macOS 13.7.7 Venturaarm64R Under development (unstable) (2025-11-04 r88984) -- "Unsuffered Consequences" 4013
Click on any hostname to see more info about the system (e.g. compilers)      (*) as reported by 'uname -p', except on Windows and Mac OS X

Package 95/2325HostnameOS / ArchINSTALLBUILDCHECKBUILD BIN
appreci8R 1.29.0  (landing page)
Sarah Sandmann
Snapshot Date: 2025-11-12 13:40 -0500 (Wed, 12 Nov 2025)
git_url: https://git.bioconductor.org/packages/appreci8R
git_branch: devel
git_last_commit: bb148fd
git_last_commit_date: 2025-10-29 10:46:18 -0500 (Wed, 29 Oct 2025)
kjohnson3macOS 13.7.7 Ventura / arm64  ERROR    ERROR  skippedskipped


BUILD results for appreci8R on kjohnson3

To the developers/maintainers of the appreci8R package:
- Allow up to 24 hours (and sometimes 48 hours) for your latest push to git@git.bioconductor.org:packages/appreci8R.git to reflect on this report. See Troubleshooting Build Report for more information.
- Use the following Renviron settings to reproduce errors and warnings.
- If 'R CMD check' started to fail recently on the Linux builder(s) over a missing dependency, add the missing dependency to 'Suggests:' in your DESCRIPTION file. See Renviron.bioc for more information.

raw results


Summary

Package: appreci8R
Version: 1.29.0
Command: /Library/Frameworks/R.framework/Resources/bin/R CMD build --keep-empty-dirs --no-resave-data appreci8R
StartedAt: 2025-11-12 15:48:50 -0500 (Wed, 12 Nov 2025)
EndedAt: 2025-11-12 15:48:51 -0500 (Wed, 12 Nov 2025)
EllapsedTime: 1.0 seconds
RetCode: 1
Status:   ERROR  
PackageFile: None
PackageFileSize: NA

Command output

##############################################################################
##############################################################################
###
### Running command:
###
###   /Library/Frameworks/R.framework/Resources/bin/R CMD build --keep-empty-dirs --no-resave-data appreci8R
###
##############################################################################
##############################################################################


* checking for file ‘appreci8R/DESCRIPTION’ ... OK
* preparing ‘appreci8R’:
* checking DESCRIPTION meta-information ... OK
* installing the package (it is needed to process help pages)
      -----------------------------------
ERROR: dependencies ‘MafDb.1Kgenomes.phase3.hs37d5’, ‘MafDb.ExAC.r1.0.hs37d5’, ‘MafDb.gnomADex.r2.1.hs37d5’, ‘GenomicScores’ are not available for package ‘appreci8R’
Perhaps try a variation of:
install.packages(c('MafDb.1Kgenomes.phase3.hs37d5', 'MafDb.ExAC.r1.0.hs37d5', 'MafDb.gnomADex.r2.1.hs37d5', 'GenomicScores'))
* removing ‘/private/var/folders/r0/l4fjk6cj5xj0j3brt4bplpl40000gt/T/RtmphLR3jD/Rinstc6541df9c99b/appreci8R’
      -----------------------------------
ERROR: package installation failed