| Back to Build/check report for BioC 3.23: simplified long |
|
This page was generated on 2025-11-13 11:32 -0500 (Thu, 13 Nov 2025).
| Hostname | OS | Arch (*) | R version | Installed pkgs |
|---|---|---|---|---|
| kjohnson3 | macOS 13.7.7 Ventura | arm64 | R Under development (unstable) (2025-11-04 r88984) -- "Unsuffered Consequences" | 4013 |
| Click on any hostname to see more info about the system (e.g. compilers) (*) as reported by 'uname -p', except on Windows and Mac OS X | ||||
| Package 73/2325 | Hostname | OS / Arch | INSTALL | BUILD | CHECK | BUILD BIN | ||||||||
| annotate 1.89.0 (landing page) Bioconductor Package Maintainer
| kjohnson3 | macOS 13.7.7 Ventura / arm64 | OK | OK | OK | OK | ||||||||
|
To the developers/maintainers of the annotate package: - Allow up to 24 hours (and sometimes 48 hours) for your latest push to git@git.bioconductor.org:packages/annotate.git to reflect on this report. See Troubleshooting Build Report for more information. - Use the following Renviron settings to reproduce errors and warnings. - If 'R CMD check' started to fail recently on the Linux builder(s) over a missing dependency, add the missing dependency to 'Suggests:' in your DESCRIPTION file. See Renviron.bioc for more information. |
| Package: annotate |
| Version: 1.89.0 |
| Command: /Library/Frameworks/R.framework/Resources/bin/R CMD check --install=check:annotate.install-out.txt --library=/Library/Frameworks/R.framework/Resources/library --no-vignettes --timings annotate_1.89.0.tar.gz |
| StartedAt: 2025-11-12 17:56:52 -0500 (Wed, 12 Nov 2025) |
| EndedAt: 2025-11-12 17:58:34 -0500 (Wed, 12 Nov 2025) |
| EllapsedTime: 102.5 seconds |
| RetCode: 0 |
| Status: OK |
| CheckDir: annotate.Rcheck |
| Warnings: 0 |
##############################################################################
##############################################################################
###
### Running command:
###
### /Library/Frameworks/R.framework/Resources/bin/R CMD check --install=check:annotate.install-out.txt --library=/Library/Frameworks/R.framework/Resources/library --no-vignettes --timings annotate_1.89.0.tar.gz
###
##############################################################################
##############################################################################
* using log directory ‘/Users/biocbuild/bbs-3.23-bioc/meat/annotate.Rcheck’
* using R Under development (unstable) (2025-11-04 r88984)
* using platform: aarch64-apple-darwin20
* R was compiled by
Apple clang version 16.0.0 (clang-1600.0.26.6)
GNU Fortran (GCC) 14.2.0
* running under: macOS Ventura 13.7.8
* using session charset: UTF-8
* using option ‘--no-vignettes’
* checking for file ‘annotate/DESCRIPTION’ ... OK
* this is package ‘annotate’ version ‘1.89.0’
* checking package namespace information ... OK
* checking package dependencies ... OK
* checking if this is a source package ... OK
* checking if there is a namespace ... OK
* checking for hidden files and directories ... OK
* checking for portable file names ... OK
* checking for sufficient/correct file permissions ... OK
* checking whether package ‘annotate’ can be installed ... OK
* checking installed package size ... OK
* checking package directory ... OK
* checking ‘build’ directory ... OK
* checking DESCRIPTION meta-information ... OK
* checking top-level files ... OK
* checking for left-over files ... OK
* checking index information ... OK
* checking package subdirectories ... OK
* checking code files for non-ASCII characters ... OK
* checking R files for syntax errors ... OK
* checking whether the package can be loaded ... OK
* checking whether the package can be loaded with stated dependencies ... OK
* checking whether the package can be unloaded cleanly ... OK
* checking whether the namespace can be loaded with stated dependencies ... OK
* checking whether the namespace can be unloaded cleanly ... OK
* checking whether startup messages can be suppressed ... OK
* checking dependencies in R code ... NOTE
Unexported object imported by a ':::' call: ‘BiocGenerics:::testPackage’
See the note in ?`:::` about the use of this operator.
* checking S3 generic/method consistency ... OK
* checking replacement functions ... OK
* checking foreign function calls ... OK
* checking R code for possible problems ... OK
* checking Rd files ... OK
* checking Rd metadata ... OK
* checking Rd cross-references ... OK
* checking for missing documentation entries ... OK
* checking for code/documentation mismatches ... OK
* checking Rd \usage sections ... OK
* checking Rd contents ... OK
* checking for unstated dependencies in examples ... OK
* checking contents of ‘data’ directory ... OK
* checking data for non-ASCII characters ... OK
* checking data for ASCII and uncompressed saves ... OK
* checking sizes of PDF files under ‘inst/doc’ ... OK
* checking files in ‘vignettes’ ... OK
* checking examples ... OK
Examples with CPU (user + system) or elapsed time > 5s
user system elapsed
blastSequences 0.043 0.004 31.992
* checking for unstated dependencies in ‘tests’ ... OK
* checking tests ...
Running ‘annotate_unit_tests.R’
OK
* checking for unstated dependencies in vignettes ... OK
* checking package vignettes ... OK
* checking running R code from vignettes ... SKIPPED
* checking re-building of vignette outputs ... SKIPPED
* checking PDF version of manual ... OK
* DONE
Status: 1 NOTE
See
‘/Users/biocbuild/bbs-3.23-bioc/meat/annotate.Rcheck/00check.log’
for details.
annotate.Rcheck/00install.out
############################################################################## ############################################################################## ### ### Running command: ### ### /Library/Frameworks/R.framework/Resources/bin/R CMD INSTALL annotate ### ############################################################################## ############################################################################## * installing to library ‘/Library/Frameworks/R.framework/Versions/4.6-arm64/Resources/library’ * installing *source* package ‘annotate’ ... ** this is package ‘annotate’ version ‘1.89.0’ ** using staged installation ** R ** data ** inst ** byte-compile and prepare package for lazy loading ** help *** installing help indices ** building package indices ** installing vignettes ** testing if installed package can be loaded from temporary location ** testing if installed package can be loaded from final location ** testing if installed package keeps a record of temporary installation path * DONE (annotate)
annotate.Rcheck/tests/annotate_unit_tests.Rout
R Under development (unstable) (2025-11-04 r88984) -- "Unsuffered Consequences"
Copyright (C) 2025 The R Foundation for Statistical Computing
Platform: aarch64-apple-darwin20
R is free software and comes with ABSOLUTELY NO WARRANTY.
You are welcome to redistribute it under certain conditions.
Type 'license()' or 'licence()' for distribution details.
R is a collaborative project with many contributors.
Type 'contributors()' for more information and
'citation()' on how to cite R or R packages in publications.
Type 'demo()' for some demos, 'help()' for on-line help, or
'help.start()' for an HTML browser interface to help.
Type 'q()' to quit R.
> BiocGenerics:::testPackage("annotate")
Attaching package: 'generics'
The following objects are masked from 'package:base':
as.difftime, as.factor, as.ordered, intersect, is.element, setdiff,
setequal, union
Attaching package: 'BiocGenerics'
The following objects are masked from 'package:stats':
IQR, mad, sd, var, xtabs
The following objects are masked from 'package:base':
Filter, Find, Map, Position, Reduce, anyDuplicated, aperm, append,
as.data.frame, basename, cbind, colnames, dirname, do.call,
duplicated, eval, evalq, get, grep, grepl, is.unsorted, lapply,
mapply, match, mget, order, paste, pmax, pmax.int, pmin, pmin.int,
rank, rbind, rownames, sapply, saveRDS, table, tapply, unique,
unsplit, which.max, which.min
Welcome to Bioconductor
Vignettes contain introductory material; view with
'browseVignettes()'. To cite Bioconductor, see
'citation("Biobase")', and for packages 'citation("pkgname")'.
Attaching package: 'S4Vectors'
The following object is masked from 'package:utils':
findMatches
The following objects are masked from 'package:base':
I, expand.grid, unname
Loading required package: org.Hs.eg.db
'select()' returned 1:many mapping between keys and columns
RUNIT TEST PROTOCOL -- Wed Nov 12 17:58:29 2025
***********************************************
Number of test functions: 1
Number of errors: 0
Number of failures: 0
1 Test Suite :
annotate RUnit Tests - 1 test function, 0 errors, 0 failures
Number of test functions: 1
Number of errors: 0
Number of failures: 0
>
> proc.time()
user system elapsed
4.116 0.432 4.967
annotate.Rcheck/annotate-Ex.timings
| name | user | system | elapsed | |
| ACCNUMStats | 0.628 | 0.012 | 0.648 | |
| GO2heatmap | 0.054 | 0.004 | 0.065 | |
| GOmnplot | 0.018 | 0.002 | 0.021 | |
| HTMLPage-class | 0.000 | 0.001 | 0.000 | |
| LL2homology | 0 | 0 | 0 | |
| PMIDAmat | 0.032 | 0.001 | 0.036 | |
| PWAmat | 0.447 | 0.015 | 0.494 | |
| UniGeneQuery | 0.000 | 0.000 | 0.001 | |
| accessionToUID | 0.150 | 0.011 | 1.969 | |
| annPkgName | 0.001 | 0.000 | 0.000 | |
| aqListGOIDs | 0.042 | 0.004 | 0.056 | |
| blastSequences | 0.043 | 0.004 | 31.992 | |
| buildChromLocation | 0.276 | 0.021 | 0.310 | |
| buildPubMedAbst | 0.013 | 0.001 | 0.343 | |
| chrCats | 2.983 | 0.012 | 3.179 | |
| chromLocation-class | 0.260 | 0.029 | 0.299 | |
| compatibleVersions | 0.011 | 0.002 | 0.013 | |
| dropECode | 0.011 | 0.001 | 0.013 | |
| entrezGeneByID | 0 | 0 | 0 | |
| entrezGeneQuery | 0.000 | 0.000 | 0.001 | |
| filterGOByOntology | 0.017 | 0.001 | 0.019 | |
| findNeighbors | 0.009 | 0.002 | 0.013 | |
| genbank | 0.085 | 0.006 | 0.741 | |
| getAnnMap | 0.018 | 0.003 | 0.024 | |
| getEvidence | 0.017 | 0.001 | 0.022 | |
| getGOTerm | 0.068 | 0.004 | 0.073 | |
| getOntology | 0.014 | 0.001 | 0.016 | |
| getPMInfo | 0.101 | 0.003 | 0.489 | |
| getSYMBOL | 0.036 | 0.010 | 0.046 | |
| getSeq4Acc | 0.004 | 0.001 | 0.260 | |
| hasGOannote | 0.008 | 0.001 | 0.009 | |
| hgByChroms | 0.007 | 0.001 | 0.009 | |
| hgCLengths | 0.000 | 0.001 | 0.002 | |
| hgu95Achroloc | 0.027 | 0.002 | 0.029 | |
| hgu95Achrom | 0.022 | 0.001 | 0.024 | |
| hgu95All | 0.027 | 0.002 | 0.040 | |
| hgu95Asym | 0.027 | 0.002 | 0.030 | |
| homoData-class | 0.001 | 0.000 | 0.001 | |
| htmlpage | 0.006 | 0.001 | 0.010 | |
| isValidkey | 0.000 | 0.001 | 0.000 | |
| makeAnchor | 0.000 | 0.000 | 0.001 | |
| organism | 0.250 | 0.021 | 0.286 | |
| pm.abstGrep | 0.336 | 0.010 | 1.274 | |
| pm.getabst | 0.483 | 0.015 | 1.429 | |
| pm.titles | 0.307 | 0.009 | 1.106 | |
| pmAbst2HTML | 0.014 | 0.002 | 0.352 | |
| pmid2MIAME | 0 | 0 | 0 | |
| pmidQuery | 0.000 | 0.001 | 0.000 | |
| pubMedAbst-class | 0.012 | 0.001 | 0.374 | |
| pubmed | 0.008 | 0.002 | 0.357 | |
| readGEOAnn | 0 | 0 | 0 | |
| serializeEnv | 0.001 | 0.000 | 0.001 | |
| setRepository | 0.000 | 0.000 | 0.001 | |
| updateSymbolsToValidKeys | 0.001 | 0.000 | 0.000 | |
| usedChromGenes | 0.034 | 0.002 | 0.042 | |