Back to Build/check report for BioC 3.23:   simplified   long
[A]BCDEFGHIJKLMNOPQRSTUVWXYZ

This page was generated on 2025-11-13 11:32 -0500 (Thu, 13 Nov 2025).

HostnameOSArch (*)R versionInstalled pkgs
kjohnson3macOS 13.7.7 Venturaarm64R Under development (unstable) (2025-11-04 r88984) -- "Unsuffered Consequences" 4013
Click on any hostname to see more info about the system (e.g. compilers)      (*) as reported by 'uname -p', except on Windows and Mac OS X

Package 26/2325HostnameOS / ArchINSTALLBUILDCHECKBUILD BIN
affyContam 1.69.0  (landing page)
V. Carey
Snapshot Date: 2025-11-12 13:40 -0500 (Wed, 12 Nov 2025)
git_url: https://git.bioconductor.org/packages/affyContam
git_branch: devel
git_last_commit: 87d41e7
git_last_commit_date: 2025-10-29 10:01:45 -0500 (Wed, 29 Oct 2025)
kjohnson3macOS 13.7.7 Ventura / arm64  OK    OK    OK    OK  YES


BUILD BIN results for affyContam on kjohnson3

To the developers/maintainers of the affyContam package:
- Allow up to 24 hours (and sometimes 48 hours) for your latest push to git@git.bioconductor.org:packages/affyContam.git to reflect on this report. See Troubleshooting Build Report for more information.
- Use the following Renviron settings to reproduce errors and warnings.
- If 'R CMD check' started to fail recently on the Linux builder(s) over a missing dependency, add the missing dependency to 'Suggests:' in your DESCRIPTION file. See Renviron.bioc for more information.

raw results


Summary

Package: affyContam
Version: 1.69.0
Command: rm -rf affyContam.buildbin-libdir && mkdir affyContam.buildbin-libdir && /Users/biocbuild/BBS/utils/build-universal.sh affyContam_1.69.0.tar.gz /Library/Frameworks/R.framework/Resources/bin/R affyContam.buildbin-libdir
StartedAt: 2025-11-12 20:50:38 -0500 (Wed, 12 Nov 2025)
EndedAt: 2025-11-12 20:50:41 -0500 (Wed, 12 Nov 2025)
EllapsedTime: 3.1 seconds
RetCode: 0
Status:   OK  
PackageFile: affyContam_1.69.0.tgz
PackageFileSize: 303.6 KiB

Command output

##############################################################################
##############################################################################
###
### Running command:
###
###   rm -rf affyContam.buildbin-libdir && mkdir affyContam.buildbin-libdir && /Users/biocbuild/BBS/utils/build-universal.sh affyContam_1.69.0.tar.gz /Library/Frameworks/R.framework/Resources/bin/R affyContam.buildbin-libdir
###
##############################################################################
##############################################################################


>>>>>>> 
>>>>>>> INSTALLATION WITH 'R CMD INSTALL --preclean --no-multiarch --library=affyContam.buildbin-libdir affyContam_1.69.0.tar.gz'
>>>>>>> 

* installing *source* package ‘affyContam’ ...
** this is package ‘affyContam’ version ‘1.69.0’
** using staged installation
** R
** inst
** byte-compile and prepare package for lazy loading
     Package   
[1,] "affydata"
     LibPath                                                               
[1,] "/Library/Frameworks/R.framework/Versions/4.6-arm64/Resources/library"
     Item       Title                        
[1,] "Dilution" "AffyBatch instance Dilution"
** help
*** installing help indices
** building package indices
** installing vignettes
** testing if installed package can be loaded from temporary location
     Package   
[1,] "affydata"
     LibPath                                                               
[1,] "/Library/Frameworks/R.framework/Versions/4.6-arm64/Resources/library"
     Item       Title                        
[1,] "Dilution" "AffyBatch instance Dilution"
** testing if installed package can be loaded from final location
     Package   
[1,] "affydata"
     LibPath                                                               
[1,] "/Library/Frameworks/R.framework/Versions/4.6-arm64/Resources/library"
     Item       Title                        
[1,] "Dilution" "AffyBatch instance Dilution"
** testing if installed package keeps a record of temporary installation path
* DONE (affyContam)