Back to Build/check report for BioC 3.23:   simplified   long
ABCDEFGHIJKLMNOPQRS[T]UVWXYZ

This page was generated on 2025-11-13 11:32 -0500 (Thu, 13 Nov 2025).

HostnameOSArch (*)R versionInstalled pkgs
kjohnson3macOS 13.7.7 Venturaarm64R Under development (unstable) (2025-11-04 r88984) -- "Unsuffered Consequences" 4013
Click on any hostname to see more info about the system (e.g. compilers)      (*) as reported by 'uname -p', except on Windows and Mac OS X

Package 2154/2325HostnameOS / ArchINSTALLBUILDCHECKBUILD BIN
TargetSearch 2.13.0  (landing page)
Alvaro Cuadros-Inostroza
Snapshot Date: 2025-11-12 13:40 -0500 (Wed, 12 Nov 2025)
git_url: https://git.bioconductor.org/packages/TargetSearch
git_branch: devel
git_last_commit: ea1ec73
git_last_commit_date: 2025-10-29 10:02:47 -0500 (Wed, 29 Oct 2025)
kjohnson3macOS 13.7.7 Ventura / arm64  OK    OK    OK    OK  YES


CHECK results for TargetSearch on kjohnson3

To the developers/maintainers of the TargetSearch package:
- Allow up to 24 hours (and sometimes 48 hours) for your latest push to git@git.bioconductor.org:packages/TargetSearch.git to reflect on this report. See Troubleshooting Build Report for more information.
- Use the following Renviron settings to reproduce errors and warnings.
- If 'R CMD check' started to fail recently on the Linux builder(s) over a missing dependency, add the missing dependency to 'Suggests:' in your DESCRIPTION file. See Renviron.bioc for more information.

raw results


Summary

Package: TargetSearch
Version: 2.13.0
Command: /Library/Frameworks/R.framework/Resources/bin/R CMD check --install=check:TargetSearch.install-out.txt --library=/Library/Frameworks/R.framework/Resources/library --no-vignettes --timings TargetSearch_2.13.0.tar.gz
StartedAt: 2025-11-12 20:34:59 -0500 (Wed, 12 Nov 2025)
EndedAt: 2025-11-12 20:35:40 -0500 (Wed, 12 Nov 2025)
EllapsedTime: 40.6 seconds
RetCode: 0
Status:   OK  
CheckDir: TargetSearch.Rcheck
Warnings: 0

Command output

##############################################################################
##############################################################################
###
### Running command:
###
###   /Library/Frameworks/R.framework/Resources/bin/R CMD check --install=check:TargetSearch.install-out.txt --library=/Library/Frameworks/R.framework/Resources/library --no-vignettes --timings TargetSearch_2.13.0.tar.gz
###
##############################################################################
##############################################################################


* using log directory ‘/Users/biocbuild/bbs-3.23-bioc/meat/TargetSearch.Rcheck’
* using R Under development (unstable) (2025-11-04 r88984)
* using platform: aarch64-apple-darwin20
* R was compiled by
    Apple clang version 16.0.0 (clang-1600.0.26.6)
    GNU Fortran (GCC) 14.2.0
* running under: macOS Ventura 13.7.8
* using session charset: UTF-8
* using option ‘--no-vignettes’
* checking for file ‘TargetSearch/DESCRIPTION’ ... OK
* checking extension type ... Package
* this is package ‘TargetSearch’ version ‘2.13.0’
* checking package namespace information ... OK
* checking package dependencies ... OK
* checking if this is a source package ... OK
* checking if there is a namespace ... OK
* checking for hidden files and directories ... OK
* checking for portable file names ... OK
* checking for sufficient/correct file permissions ... OK
* checking whether package ‘TargetSearch’ can be installed ... OK
* used C compiler: ‘Apple clang version 15.0.0 (clang-1500.1.0.2.5)’
* used SDK: ‘MacOSX11.3.1.sdk’
* checking installed package size ... OK
* checking package directory ... OK
* checking ‘build’ directory ... OK
* checking DESCRIPTION meta-information ... OK
* checking top-level files ... OK
* checking for left-over files ... OK
* checking index information ... OK
* checking package subdirectories ... OK
* checking code files for non-ASCII characters ... OK
* checking R files for syntax errors ... OK
* checking whether the package can be loaded ... OK
* checking whether the package can be loaded with stated dependencies ... OK
* checking whether the package can be unloaded cleanly ... OK
* checking whether the namespace can be loaded with stated dependencies ... OK
* checking whether the namespace can be unloaded cleanly ... OK
* checking dependencies in R code ... OK
* checking S3 generic/method consistency ... OK
* checking replacement functions ... OK
* checking foreign function calls ... OK
* checking R code for possible problems ... OK
* checking Rd files ... OK
* checking Rd metadata ... OK
* checking Rd cross-references ... OK
* checking for missing documentation entries ... OK
* checking for code/documentation mismatches ... OK
* checking Rd \usage sections ... OK
* checking Rd contents ... OK
* checking for unstated dependencies in examples ... OK
* checking contents of ‘data’ directory ... OK
* checking data for non-ASCII characters ... OK
* checking data for ASCII and uncompressed saves ... OK
* checking line endings in C/C++/Fortran sources/headers ... OK
* checking compiled code ... INFO
Note: information on .o files is not available
* checking sizes of PDF files under ‘inst/doc’ ... OK
* checking installed files from ‘inst/doc’ ... OK
* checking files in ‘vignettes’ ... OK
* checking examples ... OK
Examples with CPU (user + system) or elapsed time > 5s
           user system elapsed
RIcorrect 4.941  0.638   5.755
* checking for unstated dependencies in ‘tests’ ... OK
* checking tests ...
  Running ‘tinytest.R’
 OK
* checking for unstated dependencies in vignettes ... OK
* checking package vignettes ... OK
* checking running R code from vignettes ... SKIPPED
* checking re-building of vignette outputs ... SKIPPED
* checking PDF version of manual ... OK
* DONE

Status: OK


Installation output

TargetSearch.Rcheck/00install.out

##############################################################################
##############################################################################
###
### Running command:
###
###   /Library/Frameworks/R.framework/Resources/bin/R CMD INSTALL TargetSearch
###
##############################################################################
##############################################################################


* installing to library ‘/Library/Frameworks/R.framework/Versions/4.6-arm64/Resources/library’
* installing *source* package ‘TargetSearch’ ...
** this is package ‘TargetSearch’ version ‘2.13.0’
** using staged installation
** libs
using C compiler: ‘Apple clang version 15.0.0 (clang-1500.1.0.2.5)’
using SDK: ‘MacOSX11.3.1.sdk’
clang -arch arm64 -std=gnu2x -I"/Library/Frameworks/R.framework/Resources/include" -DNDEBUG   -I/opt/R/arm64/include    -fPIC  -falign-functions=64 -Wall -g -O2  -c Rinit.c -o Rinit.o
clang -arch arm64 -std=gnu2x -I"/Library/Frameworks/R.framework/Resources/include" -DNDEBUG   -I/opt/R/arm64/include    -fPIC  -falign-functions=64 -Wall -g -O2  -c baseline.c -o baseline.o
clang -arch arm64 -std=gnu2x -I"/Library/Frameworks/R.framework/Resources/include" -DNDEBUG   -I/opt/R/arm64/include    -fPIC  -falign-functions=64 -Wall -g -O2  -c detection.c -o detection.o
clang -arch arm64 -std=gnu2x -I"/Library/Frameworks/R.framework/Resources/include" -DNDEBUG   -I/opt/R/arm64/include    -fPIC  -falign-functions=64 -Wall -g -O2  -c file.c -o file.o
clang -arch arm64 -std=gnu2x -I"/Library/Frameworks/R.framework/Resources/include" -DNDEBUG   -I/opt/R/arm64/include    -fPIC  -falign-functions=64 -Wall -g -O2  -c find.c -o find.o
clang -arch arm64 -std=gnu2x -I"/Library/Frameworks/R.framework/Resources/include" -DNDEBUG   -I/opt/R/arm64/include    -fPIC  -falign-functions=64 -Wall -g -O2  -c get_line.c -o get_line.o
clang -arch arm64 -std=gnu2x -I"/Library/Frameworks/R.framework/Resources/include" -DNDEBUG   -I/opt/R/arm64/include    -fPIC  -falign-functions=64 -Wall -g -O2  -c hpf.c -o hpf.o
clang -arch arm64 -std=gnu2x -I"/Library/Frameworks/R.framework/Resources/include" -DNDEBUG   -I/opt/R/arm64/include    -fPIC  -falign-functions=64 -Wall -g -O2  -c matrix.c -o matrix.o
clang -arch arm64 -std=gnu2x -I"/Library/Frameworks/R.framework/Resources/include" -DNDEBUG   -I/opt/R/arm64/include    -fPIC  -falign-functions=64 -Wall -g -O2  -c ncdf.c -o ncdf.o
clang -arch arm64 -std=gnu2x -I"/Library/Frameworks/R.framework/Resources/include" -DNDEBUG   -I/opt/R/arm64/include    -fPIC  -falign-functions=64 -Wall -g -O2  -c peak.c -o peak.o
clang -arch arm64 -std=gnu2x -I"/Library/Frameworks/R.framework/Resources/include" -DNDEBUG   -I/opt/R/arm64/include    -fPIC  -falign-functions=64 -Wall -g -O2  -c spectrum.c -o spectrum.o
clang -arch arm64 -std=gnu2x -I"/Library/Frameworks/R.framework/Resources/include" -DNDEBUG   -I/opt/R/arm64/include    -fPIC  -falign-functions=64 -Wall -g -O2  -c strutils.c -o strutils.o
clang -arch arm64 -std=gnu2x -I"/Library/Frameworks/R.framework/Resources/include" -DNDEBUG   -I/opt/R/arm64/include    -fPIC  -falign-functions=64 -Wall -g -O2  -c utils.c -o utils.o
clang -arch arm64 -std=gnu2x -dynamiclib -Wl,-headerpad_max_install_names -undefined dynamic_lookup -L/Library/Frameworks/R.framework/Resources/lib -L/opt/R/arm64/lib -o TargetSearch.so Rinit.o baseline.o detection.o file.o find.o get_line.o hpf.o matrix.o ncdf.o peak.o spectrum.o strutils.o utils.o -F/Library/Frameworks/R.framework/.. -framework R
installing to /Library/Frameworks/R.framework/Versions/4.6-arm64/Resources/library/00LOCK-TargetSearch/00new/TargetSearch/libs
** R
** data
** inst
** byte-compile and prepare package for lazy loading
** help
*** installing help indices
** building package indices
** installing vignettes
** testing if installed package can be loaded from temporary location
** checking absolute paths in shared objects and dynamic libraries
** testing if installed package can be loaded from final location
** testing if installed package keeps a record of temporary installation path
* DONE (TargetSearch)

Tests output

TargetSearch.Rcheck/tests/tinytest.Rout


R Under development (unstable) (2025-11-04 r88984) -- "Unsuffered Consequences"
Copyright (C) 2025 The R Foundation for Statistical Computing
Platform: aarch64-apple-darwin20

R is free software and comes with ABSOLUTELY NO WARRANTY.
You are welcome to redistribute it under certain conditions.
Type 'license()' or 'licence()' for distribution details.

R is a collaborative project with many contributors.
Type 'contributors()' for more information and
'citation()' on how to cite R or R packages in publications.

Type 'demo()' for some demos, 'help()' for on-line help, or
'help.start()' for an HTML browser interface to help.
Type 'q()' to quit R.

> if ( requireNamespace("tinytest", quietly=TRUE) && requireNamespace("TargetSearchData", quietly=TRUE)) {
+     tinytest::test_package("TargetSearch", color=FALSE, verbose=1)
+ }
Loading required package: TargetSearchData

test_FindAllPeaks.R...........   19 tests OK  0.7s
FAMEs were saved in /var/folders/r0/l4fjk6cj5xj0j3brt4bplpl40000gt/T//RtmpGwLCyS/filedeef63868e4b.pdf
FAMEs were saved in /var/folders/r0/l4fjk6cj5xj0j3brt4bplpl40000gt/T//RtmpGwLCyS/filedeef63868e4b.pdf
FAMEs were saved in /var/folders/r0/l4fjk6cj5xj0j3brt4bplpl40000gt/T//RtmpGwLCyS/filedeef63868e4b.pdf
FAMEs were saved in /var/folders/r0/l4fjk6cj5xj0j3brt4bplpl40000gt/T//RtmpGwLCyS/filedeef63868e4b.pdf

test_fameoutliers.R...........    5 tests OK  29ms

test_file.R...................    4 tests OK  35ms

test_import_fame.R............   14 tests OK  7ms

test_import_library.R.........   15 tests OK  36ms

test_ncdf4_plot_peak.R........    7 tests OK  0.1s

test_quantMatrix.R............    8 tests OK  11ms

test_ri_data_extract.R........    6 tests OK  1.8s

test_ri_plot_peak.R...........   22 tests OK  56ms

test_ricorrect.R..............    5 tests OK  0.2s

test_tsLib.R..................   30 tests OK  43ms

test_tsProfile.R..............   12 tests OK  5ms

test_tsRim.R..................    9 tests OK  2ms

test_tsSample.R...............   19 tests OK  22ms

test_write_ri_file.R..........    6 tests OK  4ms
All ok, 181 results (3.0s)
> 
> proc.time()
   user  system elapsed 
  2.959   0.133   3.211 

Example timings

TargetSearch.Rcheck/TargetSearch-Ex.timings

nameusersystemelapsed
FAMEoutliers0.0260.0050.033
FindAllPeaks0.4830.0200.512
FindPeaks0.0900.0050.102
ImportFameSettings0.0050.0010.008
ImportLibrary0.0080.0010.009
ImportSamples0.0030.0010.005
NetCDFPeakFinding0.0940.0130.110
Profile0.3170.0110.330
ProfileCleanUp0.2960.0090.316
RIcorrect4.9410.6385.755
TSExample0.6940.1290.861
Write.Results0.0190.0030.023
baseline0.1290.0090.148
baselineCorrection0.1330.0110.148
baselineCorrectionQuant0.2010.0090.211
checkRimLim0.4590.0380.506
file0.0300.0040.035
fixRI0.4660.0420.524
makeIndex0.0020.0010.002
medianRILib0.1670.0090.181
ncdf4Convert-method0.0270.0040.032
ncdf4_convert0.0070.0000.007
ncdf4_convert_from_path1.1310.2381.429
ncdf4_data_extract0.1690.0300.227
ncdf4_plot_peak0.4820.0600.585
ncdf4_update_ri0.1340.0110.153
peakCDFextraction0.2190.0250.262
peakFind0.0830.0060.095
plotFAME0.0030.0010.005
plotPeak0.0910.0090.105
plotPeakRI0.3690.0170.393
plotPeakSimple0.2080.0180.231
plotRIdev0.1430.0100.157
plotRefSpectra0.0320.0020.034
plotSpectra0.1120.0060.123
quantMatrix0.3130.0190.338
ri2rt0.0010.0000.001
riMatrix0.4610.0420.525
ri_data_extract0.0190.0020.021
ri_plot_peak0.5260.0330.573
rt2ri0.0020.0010.001
sampleRI0.1890.0130.206
tsLib-class0.0110.0020.013
tsMSdata-class0.0040.0080.011
tsProfile-class0.0030.0010.004
tsRim-class0.0010.0000.001
tsSample-class0.0070.0010.008
tsUpdate-method000
updateRI0.3580.0460.433
writeLibText0.0080.0010.010
writeMSP0.0040.0020.006