Back to Build/check report for BioC 3.23:   simplified   long
ABCDEFGHIJKLMNOPQR[S]TUVWXYZ

This page was generated on 2025-11-08 11:32 -0500 (Sat, 08 Nov 2025).

HostnameOSArch (*)R versionInstalled pkgs
nebbiolo1Linux (Ubuntu 24.04.3 LTS)x86_64R Under development (unstable) (2025-10-20 r88955) -- "Unsuffered Consequences" 4821
Click on any hostname to see more info about the system (e.g. compilers)      (*) as reported by 'uname -p', except on Windows and Mac OS X

Package 1950/2323HostnameOS / ArchINSTALLBUILDCHECKBUILD BIN
SeqGSEA 1.51.0  (landing page)
Xi Wang
Snapshot Date: 2025-11-07 13:40 -0500 (Fri, 07 Nov 2025)
git_url: https://git.bioconductor.org/packages/SeqGSEA
git_branch: devel
git_last_commit: d9a1c2a
git_last_commit_date: 2025-10-29 10:14:28 -0500 (Wed, 29 Oct 2025)
nebbiolo1Linux (Ubuntu 24.04.3 LTS) / x86_64  OK    OK    OK  UNNEEDED, same version is already published


CHECK results for SeqGSEA on nebbiolo1

To the developers/maintainers of the SeqGSEA package:
- Allow up to 24 hours (and sometimes 48 hours) for your latest push to git@git.bioconductor.org:packages/SeqGSEA.git to reflect on this report. See Troubleshooting Build Report for more information.
- Use the following Renviron settings to reproduce errors and warnings.
- If 'R CMD check' started to fail recently on the Linux builder(s) over a missing dependency, add the missing dependency to 'Suggests:' in your DESCRIPTION file. See Renviron.bioc for more information.

raw results


Summary

Package: SeqGSEA
Version: 1.51.0
Command: /home/biocbuild/bbs-3.23-bioc/R/bin/R CMD check --install=check:SeqGSEA.install-out.txt --library=/home/biocbuild/bbs-3.23-bioc/R/site-library --timings SeqGSEA_1.51.0.tar.gz
StartedAt: 2025-11-08 03:52:26 -0500 (Sat, 08 Nov 2025)
EndedAt: 2025-11-08 03:59:46 -0500 (Sat, 08 Nov 2025)
EllapsedTime: 439.7 seconds
RetCode: 0
Status:   OK  
CheckDir: SeqGSEA.Rcheck
Warnings: 0

Command output

##############################################################################
##############################################################################
###
### Running command:
###
###   /home/biocbuild/bbs-3.23-bioc/R/bin/R CMD check --install=check:SeqGSEA.install-out.txt --library=/home/biocbuild/bbs-3.23-bioc/R/site-library --timings SeqGSEA_1.51.0.tar.gz
###
##############################################################################
##############################################################################


* using log directory ‘/home/biocbuild/bbs-3.23-bioc/meat/SeqGSEA.Rcheck’
* using R Under development (unstable) (2025-10-20 r88955)
* using platform: x86_64-pc-linux-gnu
* R was compiled by
    gcc (Ubuntu 13.3.0-6ubuntu2~24.04) 13.3.0
    GNU Fortran (Ubuntu 13.3.0-6ubuntu2~24.04) 13.3.0
* running under: Ubuntu 24.04.3 LTS
* using session charset: UTF-8
* checking for file ‘SeqGSEA/DESCRIPTION’ ... OK
* checking extension type ... Package
* this is package ‘SeqGSEA’ version ‘1.51.0’
* checking package namespace information ... OK
* checking package dependencies ... OK
* checking if this is a source package ... OK
* checking if there is a namespace ... OK
* checking for hidden files and directories ... OK
* checking for portable file names ... OK
* checking for sufficient/correct file permissions ... OK
* checking whether package ‘SeqGSEA’ can be installed ... OK
* checking installed package size ... OK
* checking package directory ... OK
* checking ‘build’ directory ... OK
* checking DESCRIPTION meta-information ... OK
* checking top-level files ... OK
* checking for left-over files ... OK
* checking index information ... OK
* checking package subdirectories ... OK
* checking code files for non-ASCII characters ... OK
* checking R files for syntax errors ... OK
* checking whether the package can be loaded ... OK
* checking whether the package can be loaded with stated dependencies ... OK
* checking whether the package can be unloaded cleanly ... OK
* checking whether the namespace can be loaded with stated dependencies ... OK
* checking whether the namespace can be unloaded cleanly ... OK
* checking loading without being on the library search path ... OK
* checking dependencies in R code ... NOTE
There are ::: calls to the package's namespace in its code. A package
  almost never needs to use ::: for its own objects:
  ‘estiExonProbVar’
* checking S3 generic/method consistency ... OK
* checking replacement functions ... OK
* checking foreign function calls ... OK
* checking R code for possible problems ... NOTE
DENBStat4GSEA: no visible global function definition for ‘colData’
DENBStatPermut4GSEA: no visible global function definition for
  ‘%dopar%’
DENBStatPermut4GSEA: no visible global function definition for
  ‘foreach’
DENBStatPermut4GSEA: no visible binding for global variable ‘i’
DENBTest: no visible global function definition for ‘colData’
DENBTest: no visible global function definition for ‘p.adjust’
DEpermutePval: no visible global function definition for ‘p.adjust’
DSpermute4GSEA: no visible global function definition for ‘%dopar%’
DSpermute4GSEA: no visible global function definition for ‘foreach’
DSpermute4GSEA : <anonymous>: no visible binding for global variable
  ‘i’
DSpermutePval: no visible global function definition for ‘p.adjust’
calES.perm: no visible global function definition for ‘%dopar%’
calES.perm: no visible global function definition for ‘foreach’
calES.perm: no visible binding for global variable ‘i’
calES.perm: no visible global function definition for ‘%do%’
calES.perm: no visible binding for global variable ‘j’
loadExonCountData : <anonymous>: no visible global function definition
  for ‘read.table’
nbinomTestForMatrices : <anonymous>: no visible global function
  definition for ‘dnbinom’
plotES : <anonymous>: no visible global function definition for
  ‘density’
plotES: no visible global function definition for ‘density’
plotES : <anonymous>: no visible global function definition for
  ‘points’
plotES: no visible global function definition for ‘points’
plotES: no visible global function definition for ‘colors’
plotES: no visible global function definition for ‘lines’
plotES: no visible global function definition for ‘legend’
plotES: no visible global function definition for ‘dev.off’
plotGeneScore: no visible global function definition for ‘lines’
plotGeneScore: no visible global function definition for ‘colors’
plotGeneScore: no visible global function definition for ‘points’
plotGeneScore: no visible global function definition for ‘matlines’
plotGeneScore: no visible global function definition for ‘legend’
plotGeneScore: no visible global function definition for ‘dev.off’
plotSig: no visible global function definition for ‘points’
plotSig: no visible global function definition for ‘colors’
plotSig: no visible global function definition for ‘legend’
plotSig: no visible global function definition for ‘dev.off’
plotSigGeneSet: no visible global function definition for ‘par’
plotSigGeneSet: no visible global function definition for ‘layout’
plotSigGeneSet: no visible global function definition for ‘lines’
plotSigGeneSet : <anonymous>: no visible global function definition for
  ‘lines’
plotSigGeneSet: no visible global function definition for ‘colors’
plotSigGeneSet: no visible global function definition for ‘text’
plotSigGeneSet: no visible global function definition for ‘density’
plotSigGeneSet: no visible global function definition for ‘legend’
plotSigGeneSet: no visible global function definition for ‘dev.off’
runDESeq: no visible global function definition for ‘DataFrame’
runSeqGSEA: no visible global function definition for ‘makeCluster’
runSeqGSEA: no visible global function definition for ‘write.table’
signifES : <anonymous>: no visible global function definition for
  ‘median’
writeScores: no visible global function definition for ‘write.table’
writeSigGeneSet: no visible global function definition for
  ‘write.table’
Undefined global functions or variables:
  %do% %dopar% DataFrame colData colors density dev.off dnbinom foreach
  i j layout legend lines makeCluster matlines median p.adjust par
  points read.table text write.table
Consider adding
  importFrom("grDevices", "colors", "dev.off")
  importFrom("graphics", "layout", "legend", "lines", "matlines", "par",
             "points", "text")
  importFrom("stats", "density", "dnbinom", "median", "p.adjust")
  importFrom("utils", "read.table", "write.table")
to your NAMESPACE file.
* checking Rd files ... OK
* checking Rd metadata ... OK
* checking Rd cross-references ... NOTE
Found the following Rd file(s) with Rd \link{} targets missing package
anchors:
  ReadCountSet-class.Rd: eSet-class
Please provide package anchors for all Rd \link{} targets not in the
package itself and the base packages.
* checking for missing documentation entries ... OK
* checking for code/documentation mismatches ... OK
* checking Rd \usage sections ... OK
* checking Rd contents ... OK
* checking for unstated dependencies in examples ... OK
* checking contents of ‘data’ directory ... OK
* checking data for non-ASCII characters ... OK
* checking data for ASCII and uncompressed saves ... OK
* checking sizes of PDF files under ‘inst/doc’ ...* checking files in ‘vignettes’ ... OK
* checking examples ... OK
Examples with CPU (user + system) or elapsed time > 5s
                     user system elapsed
DEpermutePval       9.803  0.316  10.120
DENBStatPermut4GSEA 9.756  0.255  10.011
topDEGenes          9.873  0.072   9.950
normFactor          6.325  0.169   6.495
topDSGenes          5.967  0.103   6.070
DSpermute4GSEA      5.750  0.274   6.025
topDSExons          5.381  0.006   5.398
DSresultExonTable   5.309  0.054   5.365
scoreNormalization  5.255  0.076   5.332
DSresultGeneTable   5.258  0.056   5.315
DSpermutePval       5.213  0.062   5.275
* checking for unstated dependencies in vignettes ... OK
* checking package vignettes ... OK
* checking re-building of vignette outputs ... OK
* checking PDF version of manual ... OK
* DONE

Status: 3 NOTEs
See
  ‘/home/biocbuild/bbs-3.23-bioc/meat/SeqGSEA.Rcheck/00check.log’
for details.


Installation output

SeqGSEA.Rcheck/00install.out

##############################################################################
##############################################################################
###
### Running command:
###
###   /home/biocbuild/bbs-3.23-bioc/R/bin/R CMD INSTALL SeqGSEA
###
##############################################################################
##############################################################################


* installing to library ‘/home/biocbuild/bbs-3.23-bioc/R/site-library’
* installing *source* package ‘SeqGSEA’ ...
** this is package ‘SeqGSEA’ version ‘1.51.0’
** using staged installation
** R
** data
** inst
** byte-compile and prepare package for lazy loading
** help
*** installing help indices
** building package indices
** installing vignettes
** testing if installed package can be loaded from temporary location
** testing if installed package can be loaded from final location
** testing if installed package keeps a record of temporary installation path
* DONE (SeqGSEA)

Tests output


Example timings

SeqGSEA.Rcheck/SeqGSEA-Ex.timings

nameusersystemelapsed
DENBStat4GSEA2.4480.1252.573
DENBStatPermut4GSEA 9.756 0.25510.011
DENBTest1.7260.0821.808
DEpermutePval 9.803 0.31610.120
DSpermute4GSEA5.7500.2746.025
DSpermutePval5.2130.0625.275
DSresultExonTable5.3090.0545.365
DSresultGeneTable5.2580.0565.315
GSEAresultTable1.5980.0681.666
GSEnrichAnalyze1.5260.0671.594
ReadCountSet-class0.0010.0000.002
SeqGeneSet-class0.0020.0000.002
calES0.0050.0020.007
calES.perm1.5430.0211.564
convertEnsembl2Symbol000
convertSymbol2Ensembl000
counts-methods0.0100.0020.013
estiExonNBstat0.5090.0200.529
estiGeneNBstat0.5400.0010.542
exonID0.0230.0800.104
exonTestability0.0170.0010.017
geneID0.0360.0770.114
geneList0.0030.0010.005
genePermuteScore0.0030.0020.005
geneScore0.0030.0000.002
geneSetDescs0.0010.0010.002
geneSetNames0.0020.0000.001
geneSetSize0.0010.0010.002
geneTestability0.0170.0000.018
genpermuteMat4.8870.0224.909
getGeneCount0.0150.0010.016
label0.0110.0010.012
loadExonCountData0.0000.0010.002
loadGenesets000
newGeneSets0.0020.0010.003
newReadCountSet0.0990.0020.100
normFactor6.3250.1696.495
plotES1.6880.0341.723
plotGeneScore0.0990.0020.101
plotSig1.5060.0181.524
plotSigGeneSet1.5020.0221.524
rankCombine0.0080.0000.007
runDESeq1.1130.0181.132
runSeqGSEA0.0010.0010.002
scoreNormalization5.2550.0765.332
size0.0020.0000.002
subsetByGenes0.0270.0010.029
topDEGenes9.8730.0729.950
topDSExons5.3810.0065.398
topDSGenes5.9670.1036.070
topGeneSets1.5650.0271.591
writeScores0.0070.0000.007
writeSigGeneSet1.5560.0011.557