Back to Build/check report for BioC 3.23:   simplified   long
ABCDEFGHIJKLMNOPQ[R]STUVWXYZ

This page was generated on 2025-11-12 11:32 -0500 (Wed, 12 Nov 2025).

HostnameOSArch (*)R versionInstalled pkgs
nebbiolo1Linux (Ubuntu 24.04.3 LTS)x86_64R Under development (unstable) (2025-10-20 r88955) -- "Unsuffered Consequences" 4823
Click on any hostname to see more info about the system (e.g. compilers)      (*) as reported by 'uname -p', except on Windows and Mac OS X

Package 1715/2325HostnameOS / ArchINSTALLBUILDCHECKBUILD BIN
RCy3 2.31.0  (landing page)
Alex Pico
Snapshot Date: 2025-11-11 13:40 -0500 (Tue, 11 Nov 2025)
git_url: https://git.bioconductor.org/packages/RCy3
git_branch: devel
git_last_commit: f7dcce5
git_last_commit_date: 2025-10-29 10:28:27 -0500 (Wed, 29 Oct 2025)
nebbiolo1Linux (Ubuntu 24.04.3 LTS) / x86_64  OK    OK    OK  UNNEEDED, same version is already published


CHECK results for RCy3 on nebbiolo1

To the developers/maintainers of the RCy3 package:
- Allow up to 24 hours (and sometimes 48 hours) for your latest push to git@git.bioconductor.org:packages/RCy3.git to reflect on this report. See Troubleshooting Build Report for more information.
- Use the following Renviron settings to reproduce errors and warnings.
- If 'R CMD check' started to fail recently on the Linux builder(s) over a missing dependency, add the missing dependency to 'Suggests:' in your DESCRIPTION file. See Renviron.bioc for more information.

raw results


Summary

Package: RCy3
Version: 2.31.0
Command: /home/biocbuild/bbs-3.23-bioc/R/bin/R CMD check --install=check:RCy3.install-out.txt --library=/home/biocbuild/bbs-3.23-bioc/R/site-library --timings RCy3_2.31.0.tar.gz
StartedAt: 2025-11-12 03:02:29 -0500 (Wed, 12 Nov 2025)
EndedAt: 2025-11-12 03:04:08 -0500 (Wed, 12 Nov 2025)
EllapsedTime: 99.2 seconds
RetCode: 0
Status:   OK  
CheckDir: RCy3.Rcheck
Warnings: 0

Command output

##############################################################################
##############################################################################
###
### Running command:
###
###   /home/biocbuild/bbs-3.23-bioc/R/bin/R CMD check --install=check:RCy3.install-out.txt --library=/home/biocbuild/bbs-3.23-bioc/R/site-library --timings RCy3_2.31.0.tar.gz
###
##############################################################################
##############################################################################


* using log directory ‘/home/biocbuild/bbs-3.23-bioc/meat/RCy3.Rcheck’
* using R Under development (unstable) (2025-10-20 r88955)
* using platform: x86_64-pc-linux-gnu
* R was compiled by
    gcc (Ubuntu 13.3.0-6ubuntu2~24.04) 13.3.0
    GNU Fortran (Ubuntu 13.3.0-6ubuntu2~24.04) 13.3.0
* running under: Ubuntu 24.04.3 LTS
* using session charset: UTF-8
* checking for file ‘RCy3/DESCRIPTION’ ... OK
* checking extension type ... Package
* this is package ‘RCy3’ version ‘2.31.0’
* package encoding: UTF-8
* checking package namespace information ... OK
* checking package dependencies ... OK
* checking if this is a source package ... OK
* checking if there is a namespace ... OK
* checking for hidden files and directories ... NOTE
Found the following hidden files and directories:
  .travis.yml
These were most likely included in error. See section ‘Package
structure’ in the ‘Writing R Extensions’ manual.
* checking for portable file names ... OK
* checking for sufficient/correct file permissions ... OK
* checking whether package ‘RCy3’ can be installed ... OK
* checking installed package size ... OK
* checking package directory ... OK
* checking ‘build’ directory ... OK
* checking DESCRIPTION meta-information ... NOTE
License stub is invalid DCF.
* checking top-level files ... OK
* checking for left-over files ... OK
* checking index information ... OK
* checking package subdirectories ... OK
* checking code files for non-ASCII characters ... OK
* checking R files for syntax errors ... OK
* checking whether the package can be loaded ... OK
* checking whether the package can be loaded with stated dependencies ... OK
* checking whether the package can be unloaded cleanly ... OK
* checking whether the namespace can be loaded with stated dependencies ... OK
* checking whether the namespace can be unloaded cleanly ... OK
* checking loading without being on the library search path ... OK
* checking dependencies in R code ... OK
* checking S3 generic/method consistency ... OK
* checking replacement functions ... OK
* checking foreign function calls ... OK
* checking R code for possible problems ... NOTE
.checkHexColor: no visible global function definition for ‘colors’
.edgeNameToEdgeSUID: no visible binding for global variable ‘SUID’
.nodeNameToNodeSUID: no visible binding for global variable ‘SUID’
createNetworkFromDataFrames: no visible binding for global variable
  ‘SUID’
Undefined global functions or variables:
  SUID colors
Consider adding
  importFrom("grDevices", "colors")
to your NAMESPACE file.
* checking Rd files ... NOTE
checkRd: (-1) importFileFromUrl.Rd:24: Lost braces; missing escapes or markup?
    24 | dict: {'filePath': <new file's absolute path in Cytoscape workstation>, 'fileByteCount': number of bytes read}
       |       ^
checkRd: (-1) sandboxGetFileInfo.Rd:17: Lost braces; missing escapes or markup?
    17 | dict: {'filePath': <full path on Cytoscape workstation>, 'modifiedTime': <last changed time, '' if file doesn't exist>, 'isFile': <True if file, False if directory>}
       |       ^
checkRd: (-1) sandboxRemove.Rd:15: Lost braces; missing escapes or markup?
    15 | dict: {'sandboxPath': <directory on Cytoscape workstation>, 'existed': <True if sandbox existed>}
       |       ^
checkRd: (-1) sandboxRemoveFile.Rd:17: Lost braces; missing escapes or markup?
    17 | dict: {'filePath': <file's absolute path in Cytoscape workstation>, 'existed': True if file existed before being deleted}
       |       ^
checkRd: (-1) sandboxUrlTo.Rd:27: Lost braces; missing escapes or markup?
    27 | dict: {'filePath': <new file's absolute path in Cytoscape workstation>, 'fileByteCount': number of bytes read}
       |       ^
* checking Rd metadata ... OK
* checking Rd cross-references ... OK
* checking for missing documentation entries ... OK
* checking for code/documentation mismatches ... OK
* checking Rd \usage sections ... OK
* checking Rd contents ... OK
* checking for unstated dependencies in examples ... OK
* checking files in ‘vignettes’ ... OK
* checking examples ... OK
* checking for unstated dependencies in ‘tests’ ... OK
* checking tests ...
  Running ‘runTests.R’
 OK
* checking for unstated dependencies in vignettes ... OK
* checking package vignettes ... OK
* checking re-building of vignette outputs ... OK
* checking PDF version of manual ... OK
* DONE

Status: 4 NOTEs
See
  ‘/home/biocbuild/bbs-3.23-bioc/meat/RCy3.Rcheck/00check.log’
for details.


Installation output

RCy3.Rcheck/00install.out

##############################################################################
##############################################################################
###
### Running command:
###
###   /home/biocbuild/bbs-3.23-bioc/R/bin/R CMD INSTALL RCy3
###
##############################################################################
##############################################################################


* installing to library ‘/home/biocbuild/bbs-3.23-bioc/R/site-library’
* installing *source* package ‘RCy3’ ...
** this is package ‘RCy3’ version ‘2.31.0’
** using staged installation
** R
** inst
** byte-compile and prepare package for lazy loading
** help
*** installing help indices
** building package indices
** installing vignettes
** testing if installed package can be loaded from temporary location
** testing if installed package can be loaded from final location
** testing if installed package keeps a record of temporary installation path
* DONE (RCy3)

Tests output

RCy3.Rcheck/tests/runTests.Rout


R Under development (unstable) (2025-10-20 r88955) -- "Unsuffered Consequences"
Copyright (C) 2025 The R Foundation for Statistical Computing
Platform: x86_64-pc-linux-gnu

R is free software and comes with ABSOLUTELY NO WARRANTY.
You are welcome to redistribute it under certain conditions.
Type 'license()' or 'licence()' for distribution details.

R is a collaborative project with many contributors.
Type 'contributors()' for more information and
'citation()' on how to cite R or R packages in publications.

Type 'demo()' for some demos, 'help()' for on-line help, or
'help.start()' for an HTML browser interface to help.
Type 'q()' to quit R.

> # tests disabled as the Bioconductor build system no longer supports interactive sessions
> #require(RCy3) || stop("unable to load RCy3")
> #BiocGenerics:::testPackage('RCy3')
> 
> proc.time()
   user  system elapsed 
  0.145   0.033   0.166 

Example timings

RCy3.Rcheck/RCy3-Ex.timings

nameusersystemelapsed
AddToGroup0.0010.0000.000
RemoveFromGroup000
UpdateAnnotationBoundedText000
addAnnotationBoundedText000
addAnnotationImage000
addAnnotationShape000
addAnnotationText0.0000.0010.000
addCyEdges000
addCyNodes0.0010.0000.000
analyzeNetwork000
applyFilter0.0010.0000.000
bundleEdges0.0000.0010.000
checkNotebookIsRunning000
checkRunningRemote000
clearEdgeBends000
clearEdgePropertyBypass0.0000.0000.001
clearNetworkCenterBypass000
clearNetworkPropertyBypass0.0000.0000.001
clearNetworkZoomBypass000
clearNodeOpacityBypass0.0010.0000.000
clearNodePropertyBypass000
clearSelection000
cloneNetwork0.0000.0010.000
closeSession000
collapseGroup000
commandEcho000
commandOpenDialog000
commandPause000
commandQuit0.0000.0000.001
commandRunFile000
commandSleep000
commandsAPI000
commandsGET0.0010.0000.000
commandsHelp0.0000.0010.000
commandsPOST000
commandsRun000
copyVisualStyle000
createColumnFilter000
createCompositeFilter000
createCytoscapejsFromNetwork0.0000.0000.001
createDegreeFilter000
createGraphFromNetwork0.0010.0000.000
createGroup000
createGroupByColumn000
createIgraphFromNetwork000
createNetworkFromCytoscapejs000
createNetworkFromDataFrames000
createNetworkFromGraph000
createNetworkFromIgraph0.0000.0000.001
createSubnetwork000
createView0.0010.0000.000
createVisualStyle000
cybrowserClose0.0010.0000.000
cybrowserDialog0.0000.0010.000
cybrowserHide000
cybrowserList000
cybrowserSend000
cybrowserShow0.0000.0000.001
cybrowserVersion000
cyrestAPI000
cyrestDELETE000
cyrestGET0.0010.0000.000
cyrestPOST000
cyrestPUT000
cytoscapeApiVersions0.0000.0010.000
cytoscapeFreeMemory000
cytoscapeMemoryStatus000
cytoscapeNumberOfCores000
cytoscapePing0.0000.0000.001
cytoscapeVersionInfo000
deleteAllNetworks0.0000.0000.001
deleteAllVisualStyle000
deleteAnnotation0.0010.0000.000
deleteDuplicateEdges0.0000.0010.000
deleteGroup000
deleteNetwork000
deleteSelectedEdges000
deleteSelectedNodes000
deleteSelfLoops000
deleteStyleMapping0.0000.0000.001
deleteTableColumn000
deleteVisualStyle000
diffusionAdvanced000
diffusionBasic0.0010.0000.000
disableApp0.0000.0010.000
doInitializeSandbox000
doRequestRemote000
doSetSandbox000
dockPanel000
dot-exportShowImage000
dot-getDefaultSandbox0.0000.0000.001
dot-getRequester000
enableApp0.0010.0000.000
expandGroup000
exportFilters000
exportImage0.0000.0010.000
exportJPG000
exportNetwork000
exportNetworkToNDEx000
exportPDF0.0000.0000.001
exportPNG000
exportPS0.0000.0000.001
exportSVG000
exportVisualStyles000
findRemoteCytoscape0.0000.0010.000
fitContent000
floatPanel000
getAbsSandboxPath000
getAllEdges000
getAllNodes000
getAllStyleMappings0.0000.0000.001
getAnnotationList000
getAppInformation0.0010.0000.000
getAppStatus000
getAppUpdates0.0010.0000.000
getArrowShapes0.0000.0010.000
getAvailableApps000
getBackgroundColorDefault000
getBrowserClientChannel000
getBrowserClientJs0.0000.0000.001
getCollectionList000
getCollectionName000
getCollectionNetworks000
getCollectionSuid0.0010.0000.000
getCurrentSandbox0.0000.0010.000
getCurrentSandboxName000
getCurrentSandboxPath000
getCurrentStyle000
getDefaultSandbox000
getDefaultSandboxPath000
getDisabledApps000
getEdgeColor000
getEdgeCount0.0010.0000.000
getEdgeInfo0.0000.0010.000
getEdgeLineStyle000
getEdgeLineWidth000
getEdgeProperty000
getEdgeSelectionColorDefault0.0000.0000.001
getEdgeTargetArrowShape000
getFilterList000
getFirstNeighbors0.0000.0010.000
getGroupInfo000
getInstalledApps000
getJupyterBridgeURL000
getLayoutNameMapping0.0000.0000.001
getLayoutNames000
getLayoutPropertyNames000
getLayoutPropertyType0.0000.0010.000
getLayoutPropertyValue000
getLineStyles000
getNetworkCenter000
getNetworkCount0.0000.0000.001
getNetworkList000
getNetworkNDExId0.0010.0000.000
getNetworkName0.0000.0010.000
getNetworkProperty000
getNetworkSuid000
getNetworkViewSuid000
getNetworkViews000
getNetworkZoom000
getNodeColor0.0000.0000.001
getNodeCount000
getNodeHeight0.0010.0000.000
getNodeLabelPosition000
getNodeLabelPositionDefault000
getNodePosition0.0000.0010.000
getNodeProperty000
getNodeSelectionColorDefault000
getNodeShapes000
getNodeSize0.0000.0000.001
getNodeWidth000
getNotebookIsRunning0.0010.0000.000
getSandboxReinitialize000
getSelectedEdgeCount000
getSelectedEdges000
getSelectedNodeCount000
getSelectedNodes000
getStyleDependencies000
getStyleMapping0.0000.0000.001
getTableColumnNames000
getTableColumnTypes0.0010.0000.000
getTableColumns000
getTableValue000
getUninstalledApps0.0000.0010.000
getVisualPropertyDefault000
getVisualPropertyNames000
getVisualStyleJSON000
getVisualStyleNames0.0000.0000.001
groupAnnotation000
hideAllPanels0.0010.0000.000
hideEdges0.0000.0010.000
hideNodes000
hidePanel000
hideSelectedEdges000
hideSelectedNodes0.0000.0000.001
importFileFromUrl000
importFilters0.0010.0000.000
importNetworkFromFile000
importNetworkFromNDEx000
importVisualStyles0.0000.0010.000
installApp000
invertEdgeSelection000
invertNodeSelection000
layoutCopycat0.0000.0000.001
layoutNetwork000
listGroups0.0010.0000.000
lockNodeDimensions000
makeSimpleGraph0.0520.0010.054
makeSimpleIgraph0.1030.0040.108
mapTableColumn0.0000.0010.000
mapVisualProperty000
matchArrowColorToEdge0.0000.0000.001
mergeNetworks000
notebookExportShowImage000
notebookShowImage000
openAppStore000
openSession0.0000.0010.000
paletteColorBrewerAccent0.0030.0010.004
paletteColorBrewerBlues0.0000.0010.000
paletteColorBrewerBrBG000
paletteColorBrewerBuGn0.0010.0000.000
paletteColorBrewerBuPu0.0000.0000.001
paletteColorBrewerDark20.0000.0010.000
paletteColorBrewerGnBu000
paletteColorBrewerGreens0.0010.0000.001
paletteColorBrewerGreys000
paletteColorBrewerOrRd000
paletteColorBrewerOranges0.0010.0000.000
paletteColorBrewerPRGn0.0000.0010.000
paletteColorBrewerPaired000
paletteColorBrewerPastel10.0010.0000.000
paletteColorBrewerPastel20.0000.0000.001
paletteColorBrewerPiYG0.0000.0010.000
paletteColorBrewerPuBu000
paletteColorBrewerPuBuGn0.0000.0000.001
paletteColorBrewerPuOr000
paletteColorBrewerPuRd000
paletteColorBrewerPurples0.0010.0000.000
paletteColorBrewerRdBu0.0000.0010.000
paletteColorBrewerRdPu000
paletteColorBrewerRdYlBu0.0010.0000.000
paletteColorBrewerReds0.0000.0000.001
paletteColorBrewerSet10.0000.0010.000
paletteColorBrewerSet2000
paletteColorBrewerSet30.0010.0000.001
paletteColorBrewerYlGn000
paletteColorBrewerYlGnBu000
paletteColorBrewerYlOrBr0.0010.0000.000
paletteColorBrewerYlOrRd0.0000.0010.000
paletteColorRandom000
paletteColorVirdis000
removeNodeCustomGraphics0.0010.0000.000
renameNetwork0.0000.0010.000
renameTableColumn000
resetDefaultSandbox000
rotateLayout000
runningRemoteCheck0.0000.0000.001
sandboxGetFileInfo000
sandboxGetFrom000
sandboxInitializer0.0000.0010.000
sandboxRemove000
sandboxRemoveFile0.0000.0000.001
sandboxSendTo000
sandboxSet000
sandboxUrlTo000
saveSession0.0010.0000.000
scaleLayout000
selectAll000
selectAllEdges0.0000.0000.001
selectAllNodes000
selectEdges0.0010.0000.000
selectEdgesAdjacentToNodes0.0000.0010.000
selectEdgesAdjacentToSelectedNodes000
selectEdgesConnectingSelectedNodes000
selectFirstNeighbors000
selectNodes0.0000.0000.001
selectNodesConnectedBySelectedEdges000
setBackgroundColorDefault0.0010.0000.000
setCatchupFilterSecs0.0000.0000.001
setCatchupNetworkSecs000
setCollectionName000
setCurrentNetwork000
setCurrentSandbox000
setCurrentView0.0000.0000.001
setDefaultSandbox000
setDefaultSandboxPath0.0010.0000.000
setEdgeColorBypass0.0010.0000.000
setEdgeColorDefault0.0000.0000.001
setEdgeColorMapping000
setEdgeFontFaceBypass0.0010.0000.000
setEdgeFontFaceDefault000
setEdgeFontFaceMapping000
setEdgeFontSizeBypass0.0000.0000.001
setEdgeFontSizeDefault000
setEdgeFontSizeMapping0.0010.0000.000
setEdgeLabelBypass000
setEdgeLabelColorBypass000
setEdgeLabelColorDefault000
setEdgeLabelColorMapping000
setEdgeLabelDefault0.0000.0000.001
setEdgeLabelMapping000
setEdgeLabelOpacityBypass0.0010.0000.000
setEdgeLabelOpacityDefault0.0000.0010.000
setEdgeLabelOpacityMapping000
setEdgeLineStyleBypass000
setEdgeLineStyleDefault000
setEdgeLineStyleMapping0.0000.0000.001
setEdgeLineWidthBypass000
setEdgeLineWidthDefault0.0010.0000.000
setEdgeLineWidthMapping0.0000.0010.000
setEdgeOpacityBypass000
setEdgeOpacityDefault000
setEdgeOpacityMapping000
setEdgePropertyBypass0.0000.0000.001
setEdgeSelectionColorDefault000
setEdgeSourceArrowColorBypass0.0010.0000.000
setEdgeSourceArrowColorDefault0.0000.0010.000
setEdgeSourceArrowColorMapping000
setEdgeSourceArrowMapping000
setEdgeSourceArrowShapeBypass000
setEdgeSourceArrowShapeDefault0.0000.0000.001
setEdgeSourceArrowShapeMapping000
setEdgeTargetArrowColorBypass0.0010.0000.000
setEdgeTargetArrowColorDefault0.0000.0010.000
setEdgeTargetArrowColorMapping000
setEdgeTargetArrowMapping000
setEdgeTargetArrowShapeBypass000
setEdgeTargetArrowShapeDefault0.0000.0000.001
setEdgeTargetArrowShapeMapping000
setEdgeTooltipBypass0.0010.0000.000
setEdgeTooltipDefault0.0000.0010.000
setEdgeTooltipMapping000
setLayoutProperties000
setModelPropagationSecs000
setNetworkCenterBypass0.0010.0000.000
setNetworkPropertyBypass000
setNetworkZoomBypass000
setNodeBorderColorBypass0.0000.0000.001
setNodeBorderColorDefault000
setNodeBorderColorMapping000
setNodeBorderOpacityBypass000
setNodeBorderOpacityDefault000
setNodeBorderOpacityMapping0.0000.0010.000
setNodeBorderWidthBypass000
setNodeBorderWidthDefault0.0000.0000.001
setNodeBorderWidthMapping000
setNodeColorBypass000
setNodeColorDefault000
setNodeColorMapping0.0010.0000.000
setNodeComboOpacityMapping000
setNodeCustomBarChart000
setNodeCustomBoxChart0.0000.0000.001
setNodeCustomHeatMapChart000
setNodeCustomLineChart000
setNodeCustomLinearGradient000
setNodeCustomPieChart000
setNodeCustomPosition000
setNodeCustomRadialGradient000
setNodeCustomRingChart0.0000.0000.001
setNodeFillOpacityBypass000
setNodeFillOpacityDefault000
setNodeFillOpacityMapping0.0000.0010.000
setNodeFontFaceBypass000
setNodeFontFaceDefault000
setNodeFontFaceMapping000
setNodeFontSizeBypass000
setNodeFontSizeDefault000
setNodeFontSizeMapping0.0010.0000.000
setNodeHeightBypass0.0000.0010.000
setNodeHeightDefault000
setNodeHeightMapping000
setNodeLabelBypass000
setNodeLabelColorBypass0.0000.0000.001
setNodeLabelColorDefault000
setNodeLabelColorMapping0.0010.0000.000
setNodeLabelDefault0.0000.0010.000
setNodeLabelMapping000
setNodeLabelOpacityBypass0.0000.0000.001
setNodeLabelOpacityDefault000
setNodeLabelOpacityMapping0.0010.0000.000
setNodeLabelPositionBypass000
setNodeLabelPositionDefault000
setNodeOpacityBypass000
setNodePositionBypass000
setNodePropertyBypass0.0000.0000.001
setNodeSelectionColorDefault000
setNodeShapeBypass0.0010.0000.000
setNodeShapeDefault0.0000.0010.000
setNodeShapeMapping000
setNodeSizeBypass000
setNodeSizeDefault000
setNodeSizeMapping0.0000.0000.001
setNodeTooltipBypass000
setNodeTooltipDefault0.0010.0000.000
setNodeTooltipMapping0.0000.0010.000
setNodeWidthBypass000
setNodeWidthDefault000
setNodeWidthMapping000
setNotebookIsRunning0.0000.0000.001
setSandboxReinitialize000
setStyleDependencies0.0010.0000.000
setVisualPropertyDefault0.0000.0010.000
setVisualStyle000
syncNodeCustomGraphicsSize000
toggleGraphicsDetails000
ungroupAnnotation0.0000.0000.001
unhideAll000
unhideEdges0.0010.0000.000
unhideNodes0.0000.0010.000
uninstallApp000
updateAnnotationImage000
updateAnnotationShape000
updateAnnotationText0.0000.0000.001
updateApp000
updateGroupAnnotation000
updateNetworkInNDEx0.0000.0010.000
updateStyleDefaults000
updateStyleMapping000